BEGIN:VCALENDAR
VERSION:2.0
PRODID:-//Felvidék.ma - ECPv6.3.4//NONSGML v1.0//EN
CALSCALE:GREGORIAN
METHOD:PUBLISH
X-WR-CALNAME:Felvidék.ma
X-ORIGINAL-URL:https://felvidek.ma
X-WR-CALDESC:Events for Felvidék.ma
REFRESH-INTERVAL;VALUE=DURATION:PT1H
X-Robots-Tag:noindex
X-PUBLISHED-TTL:PT1H
BEGIN:VTIMEZONE
TZID:Europe/Bratislava
BEGIN:DAYLIGHT
TZOFFSETFROM:+0100
TZOFFSETTO:+0200
TZNAME:CEST
DTSTART:20230326T010000
END:DAYLIGHT
BEGIN:STANDARD
TZOFFSETFROM:+0200
TZOFFSETTO:+0100
TZNAME:CET
DTSTART:20231029T010000
END:STANDARD
END:VTIMEZONE
BEGIN:VEVENT
DTSTART;TZID=Europe/Bratislava:20230310T170000
DTEND;TZID=Europe/Bratislava:20230310T170000
DTSTAMP:20260420T023252
CREATED:20230305T085717Z
LAST-MODIFIED:20230305T085717Z
UID:446762-1678467600-1678467600@felvidek.ma
SUMMARY:Kiállítás: Kezeket fel!
DESCRIPTION:Március 10-én\, pénteken 17.00 órai kezdettel szervezi meg Szabó Márta Kezeket fel! című kiállításának a megnyitóját a komáromi Limes Galériában. \nA tárlat április 10-ig tekinthető meg.
URL:https://felvidek.ma/event/kiallitas-kezeket-fel/
LOCATION:Limes Galéria\, Komárom\, Szlovákia
CATEGORIES:Esemény
ATTACH;FMTTYPE=image/jpeg:https://felvidek.ma/wp-content/uploads/2023/03/SZM.meghivo-page-001.jpg
END:VEVENT
END:VCALENDAR