BEGIN:VCALENDAR
VERSION:2.0
PRODID:-//Felvidék.ma - ECPv6.3.4//NONSGML v1.0//EN
CALSCALE:GREGORIAN
METHOD:PUBLISH
X-WR-CALNAME:Felvidék.ma
X-ORIGINAL-URL:https://felvidek.ma
X-WR-CALDESC:Events for Felvidék.ma
REFRESH-INTERVAL;VALUE=DURATION:PT1H
X-Robots-Tag:noindex
X-PUBLISHED-TTL:PT1H
BEGIN:VTIMEZONE
TZID:Europe/Bratislava
BEGIN:DAYLIGHT
TZOFFSETFROM:+0100
TZOFFSETTO:+0200
TZNAME:CEST
DTSTART:20230326T010000
END:DAYLIGHT
BEGIN:STANDARD
TZOFFSETFROM:+0200
TZOFFSETTO:+0100
TZNAME:CET
DTSTART:20231029T010000
END:STANDARD
BEGIN:DAYLIGHT
TZOFFSETFROM:+0100
TZOFFSETTO:+0200
TZNAME:CEST
DTSTART:20240331T010000
END:DAYLIGHT
BEGIN:STANDARD
TZOFFSETFROM:+0200
TZOFFSETTO:+0100
TZNAME:CET
DTSTART:20241027T010000
END:STANDARD
END:VTIMEZONE
BEGIN:VEVENT
DTSTART;VALUE=DATE:20230320
DTEND;VALUE=DATE:20240101
DTSTAMP:20260420T114417
CREATED:20230320T140806Z
LAST-MODIFIED:20230320T140806Z
UID:449698-1679270400-1704067199@felvidek.ma
SUMMARY:Versünnep Fesztivál 2023
DESCRIPTION:A Versünnep Alapítvány meghirdeti a VERSÜNNEP 2023 eseménysorozatot. \nKategóriák:\n1. Vers- és prózamondás\n2. Énekelt vers\, versmegzenésítés\n3. Képző- és/vagy filmművészeti alkotás\n4. Táncművészeti alkotás \nKiemelt évfordulók:\n\nPetőfi Sándor (1823-1849)\nMadách Imre (1823-1864)\nSzendrey Júlia (1828-1868)\nKormos István (1923-1977) \nA Versünnep programjához az év folyamán bármikor kapcsolódhat bármely hazai és határon túl működő iskola vagy civil szervezet oly módon\, hogy jelentkezésével vállalja egy amatőr versmondó verseny megrendezését\, lehetőleg a kiírásban szereplő témakörnek megfelelően\, de nem kötelezően. \nA Versünnep Alapítvány saját költségen biztosítja egy szakember (színművész\, író\, költő\, rendező) delegálását az adott zsűribe. A verseny időpontját minden intézmény maga határozhatja meg. A helyi versenyek alkalmával\, igény szerint\, „Rendhagyó irodalom órát” is tartanak delegált művészeink. A versenyek legjobbjainak\, kategóriagyőzteseinek\, nemzetközi Seregszemlét rendezünk\, ahol a résztvevők jutalmakban részesülnek\, valamint a zsűri döntése alapján szakmai továbbképző nyári műhelymunkán vehetnek részt. \nA részvételhez szükséges a jelentkezés\, amelyet a www.versunnep.net oldalon\, az erre kialakított felületen tehetnek meg. \nA Versünnep 2023 támogatója a Kulturális és Innovációs Minisztérium. \nA jelentkezéi űrlap ITT tölthető le.  A jelentkezés lehetősége folyamatos. \nInformációt a www.versunnep.net oldalon\, a szervezes.versunnep@gmail.com címen kérhetnek az érdeklődők. \nKapcsolattartásra használható a facebook.com/versunnep oldal is.\nAz eseményekre 2023. évben\, folyamatosan sort kerítünk\, különböző magyarországi és határon túli helyszíneken. \nA részletekről a jelentkezések regisztrálása után értesítjük az érintetteket.
URL:https://felvidek.ma/event/versunnep-fesztival-2023/
CATEGORIES:Pályázat
ATTACH;FMTTYPE=image/png:https://felvidek.ma/wp-content/uploads/2023/03/civil-1024x512-1.png
END:VEVENT
BEGIN:VEVENT
DTSTART;VALUE=DATE:20231006
DTEND;VALUE=DATE:20240101
DTSTAMP:20260420T114417
CREATED:20231006T063122Z
LAST-MODIFIED:20231006T063122Z
UID:480197-1696550400-1704067199@felvidek.ma
SUMMARY:Selye_100
DESCRIPTION:A Selye János Gimnázium Király Püspök Alapítványa együttműködve a Tihanyi Bencés Apátsági Múzeummal az idei iskolai évben meghirdeti a Selye_100 pályázatot\, amelynek célja iskolánk névadójának\, Selye Jánosnak\, kutatásainak és korának bemutatása.  \n2024-ben lesz a centenáriuma annak\, hogy a világhírű kutató leérettségizett a komáromi bencés gimnáziumban.Ez az évforduló kitűnő alkalom arra\, hogy diákjainkhoz közelebb hozzuk Selye János személyét. A pályázatba szeretnénk bekapcsolni testvériskoláinkat és régi\, bencés hagyományokkal büszkélkedő partneriskoláinkat is\, vagyis a budapesti Szent István Gimnáziumból\, a székelyudvarhelyi Tamási Áron Gimnáziumból és a győri Czuczor Gergely Bencés Gimnázium és Kollégiumból 3-3 diákot és felkészítő tanárát szívesen látjuk a 2024 tavaszán megrendezésre kerülő szakmai napon iskolánk dísztermében. \nA versenyzők a következő kategóriákban mutathatják be önálló munkájukat: \n\nSelye János nyomában – Selye életének\, kutatásának helyszínei\nSelye János\, a kutató – Selye kutatásainak vagy azok egy részének bemutatása\nBencés gimnáziumok a történelem viharaiban – iskolák a 20. század első felében\n\nKérjük\, hogy a versenyzők munkájukról készítsenek bemutatót (pptx\, prezi) a szakmai napra\, ahol 15 percben bemutatják kutatásuk tárgyát\, másrészt egy max. 1 oldalas word-dokumentumban előzetesen küldjék el munkájuk lényegi összefoglalóját\, feltüntetve az iskola és a felkészítő tanár nevével a következő címre: posta@sjg.sk és kérjük\, a tárgyban tüntessék fel: „Selye_100”! \nA tavaszi szakmai nap zsűriét terveink szerint Barkó Ágoston atya\, történelemtanár\, a Tihanyi Bencés Apátsági Múzeum igazgatója\, Bödők Gergely történész\, iskolánk volt diákja\, PhDr. Deák Irén\, iskolánk volt történelemtanára\,Vanya Péter\, a Dunamenti Múzeum történésze és MUDr. Kiss László\, felvidéki orvos-történész alkotja. \nA pályázatot a Király Püspök Alapítvány pénzjutalommal\, a Tihanyi Apátság Múzeuma értékes tárgyi jutalommal segíti. Reméljük\, hogy Selye János életének és kutatásainak e szakmai nap keretén belül sikerül nívós munkákat és méltó emléket állítanunk\, amelynek részesei lehetnek nemcsak iskolánk\, de partneri tanintézményeink tanárai és diákjai is.
URL:https://felvidek.ma/event/selye_100/
CATEGORIES:Pályázat
ATTACH;FMTTYPE=image/jpeg:https://felvidek.ma/wp-content/uploads/2021/02/PICT0008.jpg
END:VEVENT
BEGIN:VEVENT
DTSTART;VALUE=DATE:20231122
DTEND;VALUE=DATE:20240101
DTSTAMP:20260420T114417
CREATED:20231122T160750Z
LAST-MODIFIED:20231122T160846Z
UID:487805-1700611200-1704067199@felvidek.ma
SUMMARY:A Csemadok esszéíró pályázata
DESCRIPTION: A Csemadok Országos Elnöksége 2023-ban is meghirdeti pályázatát az általános iskolák felső tagozata (I. kategória)\, a középiskolások (II. kategória) és a felnőtt nemzedék (III. kategória) számára. Az esszék tárgya az anyanyelvhez és szülőföldhöz való ragaszkodás\, a nemzeti identitás kérdésköre\, illetve a kisebbségi sors vállalása. \nTémák: \n\nA hűség nyelve…..\n„Én halálig kérdezem kíváncsian\, mennyit érek én\, hogy itt születtem\, s élek Európa kellős közepén?“ (Gyurcsó István)\n „Oh jól vigyázz\, mert anyád nyelvét bízták rád a századok\nS azt meg kell védened. Hallgass reám. Egy láthatatlan lángolás\nTeremté meg e nagy világot s benned az lobog. Mert néked is van lángod:\nSzent e nyelv! S több kincsed nincs neked!“ ( Füst Milán)\nNem elég magyar anyanyelvűnek születnünk\, tanulnunk kell magyarul a sírig.(Nagy László)\nAnyanyelvem\,\nte édes-keserű\,\nszépen zengő\narany hegedű\,\nanyánk ajkán\ndrága ének:\nköszönet\nmindenért néked! (Török Elemér)\nNem egyedül a nyelv teszi a nemzetet! Az érdekek közössége; a történelem közössége\, a jogok és kötelességek közössége\, s főleg az intézmények közössége az\, mi összefűzi a népséget. (Kossuth Lajos)\n\n A témákat bármelyik életkorba tartozó alkotó választhatja\, de az értékelésre kategóriánként kerül sor. Az alkotások terjedelme minimum 2- maximum 5 A4-es oldal  (12-es betűnagyság\, 1\,5 sorköz). \nA nyertes pályaművek alkotói könyvjutalomban részesülnek\, illetve az esszéket közzétesszük a Csemadok Első Kézből című lapjában. \nA pályázat eredményhirdetésére a Csemadok Országos Tanácsa központi ünnepségén\, 2024 januárjában\, a magyar kultúra napján kerül sor\, Galántán\, ahol elhangzik a fődíjas pályamű. \nAz esszéket az alkotó nevének\, a kategóriájának és elérhetőségeinek feltüntetésével kérjük a következő elektronikus címre továbbítsák PDF formátumban: szorvanyprogram@gmail.com. \nBeküldési határidő: 2023. december 31.
URL:https://felvidek.ma/event/a-csemadok-esszeiro-palyazata/
CATEGORIES:Pályázat
ATTACH;FMTTYPE=image/jpeg:https://felvidek.ma/wp-content/uploads/2020/04/writing-1149962_1280.jpg
END:VEVENT
BEGIN:VEVENT
DTSTART;TZID=Europe/Bratislava:20231201T080000
DTEND;TZID=Europe/Bratislava:20240108T140000
DTSTAMP:20260420T114417
CREATED:20231201T105959Z
LAST-MODIFIED:20231201T105959Z
UID:489200-1701417600-1704722400@felvidek.ma
SUMMARY:Hunyadi János ösztöndíjas
DESCRIPTION:Magyarország Kulturális és Innovációs Minisztériuma és a Tempus Közalapítvány közösen pályázatot hirdet Hunyadi János ösztöndíjas teljes szemeszteres részképzésre\, valamint részképzős tanulmányútra a magyarországi felsőoktatási intézmények nappali munkarendű képzésén a 2023/2024. tanév tavaszi szemeszterében.  \nPályázhat minden olyan szlovák állampolgárságú\, a szomszédos államokban élő magyarokról szóló Kedvezménytörvény hatálya alatt álló magyar nemzetiségű személy\, aki a 2023/2024. tanév tavaszi szemeszterében teljes szemeszteres részképzésben vagy részképzős tanulmányúton vesz részt a pályázati kiírás 1. számú mellékletében felsorolt magyarországi felsőoktatási intézmények valamelyikében. \nA Hunyadi János Részképzős Ösztöndíj összege havi 80 ezer forint. A pályázatot két kategóriában hirdették meg: teljes szemeszteres részképzés (5 hónap) és részképzős tanulmányút (0\,5 hónaptól 3 hónapig). \nA pályázati adatlap és a szükséges mellékletek elektronikus úton való beadásának határideje 2024. január 08. 14.00 óra. Az online felületen a pályázatok benyújtására 2023. december elsejétől van lehetőség. \nA teljes szemeszteres kategória esetében azon szlovákiai magyar nemzetiségű személyek pályázhatnak\, akik szlovákiai vagy csehországi felsőoktatási intézmény alap- vagy mesterképzésén\, nappali munkarendű aktív hallgatói jogviszonnyal\, és legalább két lezárt szemeszterrel rendelkeznek a részképzés megkezdésének időpontjában – e kitétel nem vonatkozik a mesterképzési ciklusban résztvevőkre. \nA súlyozott tanulmányi átlag tekintetében a mesterképzési ciklusban résztvevők esetében az alapképzésük utolsó két lezárt félévét kell figyelembe venni. Ebben a kategóriában minimum átlagot (súlyozott átlag) is meghatároztak\, melynek értéke 2\,5. Ennek elérése nélkül az ösztöndíj nem nyerhető el. \nA részképzős tanulmányút kategóriában azon személyek pályázhatnak\, akik szlovákiai vagy csehországi felsőoktatási intézmény alap- vagy mesterképzésén\, nappali munkarendű aktív hallgatói jogviszonnyal\, és legalább 2 lezárt szemeszterrel rendelkeznek a részképzés megkezdésének időpontjában. E kitétel nem vonatkozik a mesterképzési ciklusban résztvevőkre. \nA súlyozott tanulmányi átlag tekintetében a mesterképzési ciklusban résztvevők esetében az alapképzésük utolsó két lezárt félévét kell figyelembe venni. Szlovákiában ebben a kategóriában lehetőség nyílik csoportos tanulmányútra is. A csoportos részképzős tanulmányút olyan kredittel támogatott szakmai gyakorlat megvalósítására szolgál\, amely a kiküldő intézménynél a tanrend részét képezi\, teljesítésére a szülőföldön nincs mód\, a befogadó intézmény pedig szakmailag garantálja a megvalósítás feltételeit. Az ösztöndíj időtartama: 0\,5–3 hónap. A tanulmányutat 2024. február 6. és 2024. június 30. között kell megszervezni. \nMindkét pályázati kategóriára vonatkozó feltétel\, hogy kötelezően csatolni kell a befogadó nyilatkozatot\, mely csak akkor tekinthető érvényesnek\, ha a fogadó tanár aláírása mellett azt a fogadó felsőoktatási intézmény tanulmányi osztálya vagy rektori/dékáni hivatala aláírással és pecséttel hitelesítette. \nPályázni kizárólag elektronikus úton a https://palyazat.tpf.hu/oldalon\, a digitális pályázati űrlap kitöltésével lehet\, rövid regisztrációt követően a pályázatnak és a kategóriának megfelelő pályázati adatlapon. Amennyiben valamely pályázó két pályázati kategóriában is benyújt pályázatot\, ez esetben a pályázónak mindkét – az egyes pályázati kategóriákra vonatkozó – adatlapot be kell nyújtania! \nA pályázati kiírás és a pontrendszer\, illetve minden egyéb fontos információ megtalálható itt és itt.
URL:https://felvidek.ma/event/hunyadi-janos-osztondijas/
CATEGORIES:Kiemelt,Pályázat
ATTACH;FMTTYPE=image/jpeg:https://felvidek.ma/wp-content/uploads/2023/12/felsooktatas.jpg
END:VEVENT
BEGIN:VEVENT
DTSTART;TZID=Europe/Bratislava:20231212T100000
DTEND;TZID=Europe/Bratislava:20231212T100000
DTSTAMP:20260420T114417
CREATED:20231129T161251Z
LAST-MODIFIED:20231129T161251Z
UID:488956-1702375200-1702375200@felvidek.ma
SUMMARY:Színház: A padlás
DESCRIPTION:December 12-én\, kedden 10.00 órai kezdettel mutatják be Presser Gábor-Horváth Péter-Sztevanovity Dusán A padlás című musicaljét a Kassai Thália Színházban. \nAz előadás a Csendes László bérlettel tekinthető meg. Rendező:  Dudás Péter.
URL:https://felvidek.ma/event/szinhaz-a-padlas-7/
LOCATION:Kassai Thália Színház\, Kassa\, Szlovákia
CATEGORIES:Esemény
ATTACH;FMTTYPE=image/jpeg:https://felvidek.ma/wp-content/uploads/2022/05/Kassai-Thalia-Szinhaz.jpg
END:VEVENT
BEGIN:VEVENT
DTSTART;TZID=Europe/Bratislava:20231212T150000
DTEND;TZID=Europe/Bratislava:20231212T150000
DTSTAMP:20260420T114417
CREATED:20231205T094606Z
LAST-MODIFIED:20231205T094606Z
UID:489802-1702393200-1702393200@felvidek.ma
SUMMARY:Adventi lélekfényezés a könyvtárban
DESCRIPTION:December 12-én\, kedden 15.00 órai kezdettel szervezik meg az Adventi lélekfényezés a könyvtárban című rendezvényt a Párkányi Városi Könyvtárban. \nMeghívott vendégek Főtisztelendő Fóthy Zoltán esperes-plébános\, Radoslav Lenčéš káplán\, Pólya Csaba református lelkész.
URL:https://felvidek.ma/event/adventi-lelekfenyezes-a-konyvtarban/
LOCATION:Párkányi Városi Könyvtár\, Párkány\, Szlovákia
CATEGORIES:Esemény
ATTACH;FMTTYPE=image/jpeg:https://felvidek.ma/wp-content/uploads/2023/12/Advent1-1.jpg
END:VEVENT
BEGIN:VEVENT
DTSTART;TZID=Europe/Bratislava:20231212T160000
DTEND;TZID=Europe/Bratislava:20231212T160000
DTSTAMP:20260420T114417
CREATED:20231123T125147Z
LAST-MODIFIED:20231123T125147Z
UID:487917-1702396800-1702396800@felvidek.ma
SUMMARY:Meyke adventi alkotóműhely - karácsonyváró a rimaszombati múzeumban
DESCRIPTION:
URL:https://felvidek.ma/event/meyke-adventi-alkotomuhely-karacsonyvaro-a-rimaszombati-muzeumban-2/
CATEGORIES:Esemény
ATTACH;FMTTYPE=image/jpeg:https://felvidek.ma/wp-content/uploads/2023/11/karacsony_muzeum.jpg
END:VEVENT
BEGIN:VEVENT
DTSTART;TZID=Europe/Bratislava:20231212T173000
DTEND;TZID=Europe/Bratislava:20231212T173000
DTSTAMP:20260420T114417
CREATED:20231204T124856Z
LAST-MODIFIED:20231204T124856Z
UID:489601-1702402200-1702402200@felvidek.ma
SUMMARY:Könyvbemutató: 100 szerdahelyi történet
DESCRIPTION:December 12-én\, kedden 17.30 kezdettel szervezik meg Nagy Attila 100 szerdahelyi történet című kötetének bemutatóját a Mathias Corvinus Collegium Dunaszerdahelyi Képzési Központjában.
URL:https://felvidek.ma/event/konyvbemutato-100-szerdahelyi-tortenet/
LOCATION:Mathias Corvinus Collegium központja\, Dunaszerdahely\, Szlovákia
CATEGORIES:Esemény
ATTACH;FMTTYPE=image/jpeg:https://felvidek.ma/wp-content/uploads/2023/12/407413990_122142316232028296_1889502102947879599_n.jpg
END:VEVENT
BEGIN:VEVENT
DTSTART;TZID=Europe/Bratislava:20231212T180000
DTEND;TZID=Europe/Bratislava:20231212T180000
DTSTAMP:20260420T114417
CREATED:20231129T111153Z
LAST-MODIFIED:20231129T111153Z
UID:488885-1702404000-1702404000@felvidek.ma
SUMMARY:Kor-Zár koncert Szepsiben
DESCRIPTION:December 12-én\, kedden 18.00 órai kezdettel szervezik meg a Kor-Zár koncertjét a szepsi Boldog Salkaházi Sára Iskolaközpont épületében.  
URL:https://felvidek.ma/event/kor-zar-koncert-szepsiben/
LOCATION:Boldog Salkaházi Sára Egyházi Iskolaközpont\, Szepsi\, Szlovákia
CATEGORIES:Esemény
ATTACH;FMTTYPE=image/jpeg:https://felvidek.ma/wp-content/uploads/2023/11/2023.12.12-MEGHIVO-a-Kor-Zar-verseneklo-egyuttes-koncertjere-Szepsiben.jpg
END:VEVENT
BEGIN:VEVENT
DTSTART;TZID=Europe/Bratislava:20231212T180000
DTEND;TZID=Europe/Bratislava:20231212T180000
DTSTAMP:20260420T114417
CREATED:20231205T091158Z
LAST-MODIFIED:20231205T091158Z
UID:489758-1702404000-1702404000@felvidek.ma
SUMMARY:Beliczay Kamarazenekar és vendégei – adventi komolyzenei koncert
DESCRIPTION:December 12-én\, kedden 18.00 órai kezdettel szervezik meg Beliczay Kamarazenekar és vendégei adventi koncertjét a Rimaszombati Városi Művelődési Központban.  \nBeliczay Kamarazenekar 2018-ban alakult Lakatos Róbert brácsaművész\, a kassai Thália Színház zenei művészeti vezetőjének kezdeményezésére. Tagjai a szlovákiai magyar és szlovák zenei művészet jeles képviselői\, akik az ország legjelentősebb nagyzenekaraiban (Szlovák Filharmónia\, Szlovák Rádió Zenekara\, Szlovák Nemzeti Színház) tevékenykednek.\nA zenekar nevét az egykori\, 1835-ben Komáromban született zeneszerző\, Beliczay Gyula után vette fel. A kamarazenekar művészeti vezetője Jozef Horváth\, a Szlovák  Filharmónia koncertmestere és az ismert Moyzes kvartett prímása. \nVendégek:  Zuzana Rzounkova (vadászkürt)\, Martin Sokol (vadászkürt)\, Boris Bohó (cselló) \nProgram: Georg Philipp Telemann\, Joseph Haydn\, Astor Piazzola\, Edvard Hagerup Grieg \nBelépődíj: 5€ \n  \n 
URL:https://felvidek.ma/event/beliczay-kamarazenekar-es-vendegei-adventi-komolyzenei-koncert/
LOCATION:Városi Művelődési Központ\, Rimaszombat\, Szlovákia
CATEGORIES:Esemény
ATTACH;FMTTYPE=image/jpeg:https://felvidek.ma/wp-content/uploads/2023/12/BELICZAY-A3.jpg
END:VEVENT
BEGIN:VEVENT
DTSTART;TZID=Europe/Bratislava:20231212T180000
DTEND;TZID=Europe/Bratislava:20231212T180000
DTSTAMP:20260420T114417
CREATED:20231211T182655Z
LAST-MODIFIED:20231211T182655Z
UID:490750-1702404000-1702404000@felvidek.ma
SUMMARY:Megmásztam a gyilkos hegyet
DESCRIPTION:December 12-én\, kedden 18.00 órai kezdettel szervezik meg Varga Csaba megmászta a gyilkos hegyet című előadását a kassai MaJel Rovásban. \nA program az MCC Dunaszerdahelyi Képzési Központ rendezvénye. Partner a Rovás.
URL:https://felvidek.ma/event/megmasztam-a-gyilkos-hegyet/
LOCATION:MaJel Rovás Központ\, Kassa\, Szlovákia
CATEGORIES:Esemény
ATTACH;FMTTYPE=image/jpeg:https://felvidek.ma/wp-content/uploads/2023/12/MCC_20231211_Megmásztam-a-gyilkos-hegyet-fb-kassa.jpg
END:VEVENT
BEGIN:VEVENT
DTSTART;TZID=Europe/Bratislava:20231212T184500
DTEND;TZID=Europe/Bratislava:20231212T184500
DTSTAMP:20260420T114417
CREATED:20231212T075244Z
LAST-MODIFIED:20231212T075244Z
UID:490782-1702406700-1702406700@felvidek.ma
SUMMARY:Nagyszombati magyar mise
DESCRIPTION:December 12-én\, kedden 18.45 kezdettel szervezik meg a magyar nyelvű szentmisét a nagyszombati Szent Ilona templomban.
URL:https://felvidek.ma/event/nagyszombati-magyar-mise-3/
LOCATION:Szent Ilona templom\, Nagyszombat\, Szlovákia
CATEGORIES:Esemény
ATTACH;FMTTYPE=image/png:https://felvidek.ma/wp-content/uploads/2023/12/image-41.png
END:VEVENT
BEGIN:VEVENT
DTSTART;TZID=Europe/Bratislava:20231212T190000
DTEND;TZID=Europe/Bratislava:20231212T190000
DTSTAMP:20260420T114417
CREATED:20231129T161421Z
LAST-MODIFIED:20231129T161421Z
UID:488957-1702407600-1702407600@felvidek.ma
SUMMARY:Színház: A padlás
DESCRIPTION:December 12-én\, kedden 19.00 órai kezdettel mutatják be Presser Gábor-Horváth Péter-Sztevanovity Dusán A padlás című musicaljét a Kassai Thália Színházban. \nAz előadás a V. Szabó Rózsi bérlettel tekinthető meg. Rendező:  Dudás Péter.
URL:https://felvidek.ma/event/szinhaz-a-padlas-8/
LOCATION:Kassai Thália Színház\, Kassa\, Szlovákia
CATEGORIES:Esemény
ATTACH;FMTTYPE=image/jpeg:https://felvidek.ma/wp-content/uploads/2023/01/Kassai-Thalia-Szinhaz.jpg
END:VEVENT
END:VCALENDAR