BEGIN:VCALENDAR
VERSION:2.0
PRODID:-//Felvidék.ma - ECPv6.3.4//NONSGML v1.0//EN
CALSCALE:GREGORIAN
METHOD:PUBLISH
X-WR-CALNAME:Felvidék.ma
X-ORIGINAL-URL:https://felvidek.ma
X-WR-CALDESC:Events for Felvidék.ma
REFRESH-INTERVAL;VALUE=DURATION:PT1H
X-Robots-Tag:noindex
X-PUBLISHED-TTL:PT1H
BEGIN:VTIMEZONE
TZID:Europe/Bratislava
BEGIN:DAYLIGHT
TZOFFSETFROM:+0100
TZOFFSETTO:+0200
TZNAME:CEST
DTSTART:20210328T010000
END:DAYLIGHT
BEGIN:STANDARD
TZOFFSETFROM:+0200
TZOFFSETTO:+0100
TZNAME:CET
DTSTART:20211031T010000
END:STANDARD
BEGIN:DAYLIGHT
TZOFFSETFROM:+0100
TZOFFSETTO:+0200
TZNAME:CEST
DTSTART:20220327T010000
END:DAYLIGHT
BEGIN:STANDARD
TZOFFSETFROM:+0200
TZOFFSETTO:+0100
TZNAME:CET
DTSTART:20221030T010000
END:STANDARD
BEGIN:DAYLIGHT
TZOFFSETFROM:+0100
TZOFFSETTO:+0200
TZNAME:CEST
DTSTART:20230326T010000
END:DAYLIGHT
BEGIN:STANDARD
TZOFFSETFROM:+0200
TZOFFSETTO:+0100
TZNAME:CET
DTSTART:20231029T010000
END:STANDARD
BEGIN:DAYLIGHT
TZOFFSETFROM:+0100
TZOFFSETTO:+0200
TZNAME:CEST
DTSTART:20240331T010000
END:DAYLIGHT
BEGIN:STANDARD
TZOFFSETFROM:+0200
TZOFFSETTO:+0100
TZNAME:CET
DTSTART:20241027T010000
END:STANDARD
END:VTIMEZONE
BEGIN:VEVENT
DTSTART;TZID=Europe/Bratislava:20240323T160000
DTEND;TZID=Europe/Bratislava:20240323T160000
DTSTAMP:20260424T174905
CREATED:20240219T160436Z
LAST-MODIFIED:20240219T160436Z
UID:499587-1711209600-1711209600@felvidek.ma
SUMMARY:Nagyböjti magyar szentmise Máriavölgyben
DESCRIPTION:A nagyböjti időszakban is sokak által felkeresett Máriavölgyben március 23-án\, szombaton délután 16 órai kezdettel magyar szentmisére kerül sor a kegyhely bazilikájában. A szentmise főcelebránsa Pál László erdélyi származású magyar atya lesz. \nMolnár Tamás\, a Pozsonyi Magyar Katolikus Közösség lelkipásztoraként szeretettel buzdítja a híveket e szentmisén való részvételre\, valamint lehetőségként kínálja az aznapi gyalogos zarándoklatot is Pozsonyból Máriavölgybe az erdőn át\, mégpedig a helyieken túl soproni- és Sopron környéki nagyszámú zarándokcsoporttal közösen. \nA gyalogos zarándoklatról bővebb információk hamarosan a www.pozsonyikatolikusok.sk honlapon lesznek elérhetők.
URL:https://felvidek.ma/event/nagybojti-magyar-szentmise-mariavolgyben/
LOCATION:Névtelen helyszín\, Máriavölgy\, Szlovákia
CATEGORIES:Esemény
ATTACH;FMTTYPE=image/jpeg:https://felvidek.ma/wp-content/uploads/2024/02/Mariavolgy4FotoThalerTamas-scaled.jpg
END:VEVENT
BEGIN:VEVENT
DTSTART;TZID=Europe/Bratislava:20240214T180000
DTEND;TZID=Europe/Bratislava:20240214T180000
DTSTAMP:20260424T174905
CREATED:20240213T101402Z
LAST-MODIFIED:20240213T103621Z
UID:498819-1707933600-1707933600@felvidek.ma
SUMMARY:Nagyböjt 2024 - nyitómise Pozsonyban
DESCRIPTION:„Nyitómise” hamvazószerdán: 18 órakor a ferences templomban  \n  \nSzerdán kezdődik a negyvennapos böjt\, amellyel a keresztények húsvétra\, Jézus feltámadásának ünnepére készülnek a hitben való elmélyülés\, a kiengesztelődés és a lemondás segítségével – olvasható a Magyar Katolikus Püspöki Konferencia (MKPK) MTI-hez eljuttatott közleményében. Rámutattak: a húsételtől való tartózkodás önmagában nem böjti cselekmény. A hús fogyasztása az ókori\, középkori ember számára ritka\, ünnepi alkalomnak számított\, vagyis az erről való lemondás az adott kultúrában valóban a bánat és az önmegtagadás alkalmas kifejezőeszköze volt. E gondolatot folytatva\, a „külső böjt” gyakorlataként a modern ember felteheti magának a kérdést\, mi az az érték\, szokás az életében\, amihez általában ragaszkodik\, de az „Isten előtti meghajlás jeleként” lemond róla a böjti időszakban. A közleményben felidézték: a negyvennapos böjt a IV. századra vált általánossá a keresztény világban. A vasárnapot\, mivel e napon Jézus feltámadását ünnepelik\, az egyház nem tekinti böjti napnak\, ezért a VII. század óta szerdai nappal kezdődik a nagyböjt\, a hamvazószerdától húsvét vasárnapig tartó időszakban így a böjti napok száma éppen negyven. A böjt a XI. századig olyannyira szigorú volt\, hogy késő délutánig semmit sem ettek\, húst\, tejterméket és tojást pedig a böjti napokon egyáltalán nem fogyasztottak – írták. Az egyház mára enyhített a böjti szabályokon\, de hamvazószerdára és nagypéntekre szigorú böjtöt ír elő: a 18 és 60 év közötti hívek csak egyszer étkezhetnek és még kétszer vehetnek magukhoz élelmet. Magyarországon ez a szabály abban a megfogalmazásban honosodott meg\, hogy háromszor lehet étkezni és egyszer jóllakni. E két napon és nagyböjt többi péntekén a 14 évesnél idősebb tagjait arra kéri az egyház\, hogy a böjti fegyelem részeként ne fogyasszanak húst. A görögkatolikus egyházban hamvazószerda előtti hétfőn megkezdődik a nagyböjti időszak – tették hozzá. Nagyböjt első napján\, hamvazószerdán Erdő Péter bíboros\, esztergom-budapesti érsek délután öt órakor az esztergomi bazilikában\, Veres András győri megyés püspök\, az MKPK elnöke este hat órakor a győri a Nagyboldogasszony-székesegyházban celebrál szentmisét. (mti)
URL:https://felvidek.ma/event/nagybojt-2024-nyitomise-pozsonyban/
CATEGORIES:Esemény
ATTACH;FMTTYPE=image/jpeg:https://felvidek.ma/wp-content/uploads/2024/02/igy-bojtolj.jpg
END:VEVENT
BEGIN:VEVENT
DTSTART;TZID=Europe/Bratislava:20230318T160000
DTEND;TZID=Europe/Bratislava:20230318T160000
DTSTAMP:20260424T174905
CREATED:20230305T085018Z
LAST-MODIFIED:20230305T085018Z
UID:446761-1679155200-1679155200@felvidek.ma
SUMMARY:Nagyböjti magyar szentmise a Lux Televízióban
DESCRIPTION:Március 18-án\, szombaton délután 16.00 órai kezdettel Molnár Tamás\, a Pozsonyi Főegyházmegye helyettes bírósági helynöke celebrál magyar nyelvű szentmisét\, amit élő adásban közvetít a szlovák katolikus televízió.
URL:https://felvidek.ma/event/nagybojti-magyar-szentmise-a-lux-televizioban/
CATEGORIES:Esemény
ATTACH;FMTTYPE=image/jpeg:https://felvidek.ma/wp-content/uploads/2019/03/51905.jpg
END:VEVENT
BEGIN:VEVENT
DTSTART;TZID=Europe/Bratislava:20220408T170000
DTEND;TZID=Europe/Bratislava:20220408T170000
DTSTAMP:20260424T174905
CREATED:20220405T093801Z
LAST-MODIFIED:20220405T093801Z
UID:396741-1649437200-1649437200@felvidek.ma
SUMMARY:Jöjjetek\, mert már minden készen van!
DESCRIPTION:Április 8-án\, pénteken 17.00 órai kezdettel Jöjjetek\, mert már minden készen van! címmel hitmélyítő alkalmat szerveznek a lévai református templomban. \nIgehirdetők Blanár Erik és Blanár Gabriella kisgéresi lelkészházaspár.
URL:https://felvidek.ma/event/jojjetek-mert-mar-minden-keszen-van-2/
LOCATION:Református templom\, Léva\, Szlovákia
CATEGORIES:Esemény
ATTACH;FMTTYPE=image/jpeg:https://felvidek.ma/wp-content/uploads/2022/04/jojjetek.jpg
END:VEVENT
BEGIN:VEVENT
DTSTART;TZID=Europe/Bratislava:20220407T170000
DTEND;TZID=Europe/Bratislava:20220407T170000
DTSTAMP:20260424T174905
CREATED:20220405T093627Z
LAST-MODIFIED:20220405T093842Z
UID:396737-1649350800-1649350800@felvidek.ma
SUMMARY:Jöjjetek\, mert már minden készen van!
DESCRIPTION:Április 7-én\, csütörtökön 17.00 órai kezdettel Jöjjetek\, mert már minden készen van! címmel hitmélyítő alkalmat szerveznek a lévai református templomban. \nIgehirdetők Blanár Erik és Blanár Gabriella kisgéresi lelkészházaspár.
URL:https://felvidek.ma/event/jojjetek-mert-mar-minden-keszen-van/
LOCATION:Református templom\, Léva\, Szlovákia
CATEGORIES:Esemény
ATTACH;FMTTYPE=image/jpeg:https://felvidek.ma/wp-content/uploads/2022/04/jojjetek.jpg
END:VEVENT
BEGIN:VEVENT
DTSTART;TZID=Europe/Bratislava:20220326T090000
DTEND;TZID=Europe/Bratislava:20220326T090000
DTSTAMP:20260424T174905
CREATED:20220325T130103Z
LAST-MODIFIED:20220325T130103Z
UID:395254-1648285200-1648285200@felvidek.ma
SUMMARY:Nagyböjti gyalogos zarándoklat
DESCRIPTION:Március 26-án\, szombaton nagyböjti gyalogos zarándoklat valósul meg a pozsonyi Kálváriától a Mély úti kegyhelyt\, Slavínt érintve a pozsonyhidegkúti Rózsafüzér Királynője-kegykápolnáig. \nSzervező: a Via Mariae (szlovákiai Mária út) polgári társulás.\nTalálkozás helye és időpontja: Pozsony\, Pod stanicou városi buszmegállónál (főpályaudvar bevezető útjánál) március 26. 9:10 órakor\nTáv gyalogosan: 12 km\nLelkivezető: Németh Rezső atya\nProgram: 9:30 körül – Keresztút a pozsonyi Kálvárián \nGyalogos zarándoklat a Mély úti kegyhelytől a Slavínon keresztül piros és kék jelzésű turistaúton Pozsonyhidegkútra. \n16 óra magasságában szentmise a hidegkúti Rózsafüzér Királynője-kegykápolnában
URL:https://felvidek.ma/event/nagybojti-gyalogos-zarandoklat/
LOCATION:Több helyszín\, Több település
CATEGORIES:Esemény
ATTACH;FMTTYPE=image/png:https://felvidek.ma/wp-content/uploads/2022/03/unnamed.png
END:VEVENT
BEGIN:VEVENT
DTSTART;TZID=Europe/Bratislava:20210320T140000
DTEND;TZID=Europe/Bratislava:20210320T140000
DTSTAMP:20260424T174905
CREATED:20210318T100834Z
LAST-MODIFIED:20210318T100834Z
UID:341387-1616248800-1616248800@felvidek.ma
SUMMARY:Kunszigeti Jézuskeresés énekei a nagyhét liturgiájának tükrében
DESCRIPTION:Március 20-án\, szombaton 14.00 órai kezdettel szervezik meg dr. Medgyesy S. Norbert művelődéstörténész Kunszigeti Jézuskeresés énekei a nagyhét liturgiájának tükrében című előadását.  \nAz onilne előadás Öttevényi Római Katolikus Plébánia közösségi oldalán érhető el.
URL:https://felvidek.ma/event/kunszigeti-jezuskereses-enekei-a-nagyhet-liturgiajanak-tukreben/
CATEGORIES:Esemény
ATTACH;FMTTYPE=image/jpeg:https://felvidek.ma/wp-content/uploads/2021/03/155014347_157320319541739_5817011844953333831_o.jpg
END:VEVENT
END:VCALENDAR