BEGIN:VCALENDAR
VERSION:2.0
PRODID:-//Felvidék.ma - ECPv6.3.4//NONSGML v1.0//EN
CALSCALE:GREGORIAN
METHOD:PUBLISH
X-WR-CALNAME:Felvidék.ma
X-ORIGINAL-URL:https://felvidek.ma
X-WR-CALDESC:Events for Felvidék.ma
REFRESH-INTERVAL;VALUE=DURATION:PT1H
X-Robots-Tag:noindex
X-PUBLISHED-TTL:PT1H
BEGIN:VTIMEZONE
TZID:Europe/Budapest
BEGIN:DAYLIGHT
TZOFFSETFROM:+0100
TZOFFSETTO:+0200
TZNAME:CEST
DTSTART:20240331T010000
END:DAYLIGHT
BEGIN:STANDARD
TZOFFSETFROM:+0200
TZOFFSETTO:+0100
TZNAME:CET
DTSTART:20241027T010000
END:STANDARD
BEGIN:DAYLIGHT
TZOFFSETFROM:+0100
TZOFFSETTO:+0200
TZNAME:CEST
DTSTART:20250330T010000
END:DAYLIGHT
BEGIN:STANDARD
TZOFFSETFROM:+0200
TZOFFSETTO:+0100
TZNAME:CET
DTSTART:20251026T010000
END:STANDARD
TZID:Europe/Bratislava
BEGIN:DAYLIGHT
TZOFFSETFROM:+0100
TZOFFSETTO:+0200
TZNAME:CEST
DTSTART:20230326T010000
END:DAYLIGHT
BEGIN:STANDARD
TZOFFSETFROM:+0200
TZOFFSETTO:+0100
TZNAME:CET
DTSTART:20231029T010000
END:STANDARD
BEGIN:DAYLIGHT
TZOFFSETFROM:+0100
TZOFFSETTO:+0200
TZNAME:CEST
DTSTART:20240331T010000
END:DAYLIGHT
BEGIN:STANDARD
TZOFFSETFROM:+0200
TZOFFSETTO:+0100
TZNAME:CET
DTSTART:20241027T010000
END:STANDARD
END:VTIMEZONE
BEGIN:VEVENT
DTSTART;TZID=Europe/Budapest:20250123T180000
DTEND;TZID=Europe/Budapest:20250123T180000
DTSTAMP:20260421T153547
CREATED:20250108T115209Z
LAST-MODIFIED:20250114T122046Z
UID:546463-1737655200-1737655200@felvidek.ma
SUMMARY:ÖNREFLEXIÓK I. (1948-1973) - Pósa Zoltán könyvbemutatója
DESCRIPTION:Az időJel Kiadó eseménye: JANUÁR 23.\, CSÜTÖRTÖK 18 ÓRAKOR\nPolgárok Háza\, 1089. Budapest\, Visi Imre utca 6.\n\n\nAz IdőJel Kiadó a 76 éves PÓSA ZOLTÁN új könyvének bemutatóját 2025. január 23-án este 18 órakor szervezi meg a Polgárok Házában.\n\nA József Attila-díjas\, a Magyar Érdemrend Tisztikeresztjével kitüntetett Rát Mátyás életműdíjas író\, költő\, a Keresztény Kulturális Akadémia rendes tagja\, a Magyar Nemzet nyugdíjas főmunkatársa önéletrajzi nagyregény folyamatának első kötetét\, az ÖNREFLEXIÓK I. (1948-1973) – VASKORI TEKERCSEK A REMÉNY ORSZÁGÁBÓL című nagyregényt és az írói életművét DR. KELEMEN ERZSÉBET\, József Attila-díjas költő\, író\, irodalomtörténész\, a Szent József Gimnázium kutatótanára méltatja. \n\nAz est moderátora: GÁSPÁR FERENC\, József Attila-díjas író\, irodalomtörténész. \n\nKözreműködik BOLBERITZ ZSÓFIA színművész. \n\nA könyv a helyszínen kedvezménnyel megvásárolható és a szerzővel dedikáltatható.\n\nA bemutatót követően az író betegsége miatt elmaradt 2024. szeptember 6-i születésnapi koccintással kötetlen beszélgetésre várják az érdeklődőket!\n\nA rendezvényen való részvételi szándékukat jelezzék a polgarokhaza@polgarokhaza.hu levélcímen! Köszönjük!\n\nwww.idojel.hu
URL:https://felvidek.ma/event/onreflexiok-i-1948-1973-posa-zoltan-konyvbemutatoja/
CATEGORIES:Esemény
ATTACH;FMTTYPE=image/jpeg:https://felvidek.ma/wp-content/uploads/2024/08/Posa-Zoltan-Onreflexiok-.jpg
END:VEVENT
BEGIN:VEVENT
DTSTART;TZID=Europe/Budapest:20241111T110000
DTEND;TZID=Europe/Budapest:20241111T111100
DTSTAMP:20260421T153547
CREATED:20241104T142736Z
LAST-MODIFIED:20241209T104311Z
UID:537319-1731322800-1731323460@felvidek.ma
SUMMARY:Nemzetközi gyertyagyújtás
DESCRIPTION:A Krajczáros Alapítvány minden évben megszervezi a Nemzetközi gyertyagyújtási akciót\, amelynek célja\, hogy november 11-én 11 óra 11 perckor egy első világháborús emlékműnél\, katonai temetőben vagy templomkertben saját szervezésünkben egy szál mécses vagy gyertya meggyújtásával fejezzük ki tiszteletünket a hazáért halt magyar és más nemzetek katonái iránt.\n\nIdén 2024. november 11-én Budapesten a Városmajorban tartják a megemlékezést\, ahova szívesen látják a korábbi évekből\, illetve az új partnereket.
URL:https://felvidek.ma/event/nemzetkozi-gyertyagyujtas/
CATEGORIES:Esemény
ATTACH;FMTTYPE=image/jpeg:https://felvidek.ma/wp-content/uploads/2024/11/nov11.jpg
END:VEVENT
BEGIN:VEVENT
DTSTART;TZID=Europe/Budapest:20241025T173000
DTEND;TZID=Europe/Budapest:20241025T173000
DTSTAMP:20260421T153547
CREATED:20241023T140218Z
LAST-MODIFIED:20241023T140406Z
UID:535651-1729877400-1729877400@felvidek.ma
SUMMARY:A felvidéki műemlékes útikönyv budapesti ősbemutatója
DESCRIPTION:„Óriási örömmel teszem közhírré\, hogy a nagy felvidéki műemlékes útikönyvünk magyarországi ősbemutatója folyó hét pénteken (október 25.) 17:30 órától Budapesten\, a Magyar Nemzeti Múzeum dísztermében valósul meg.\nAz állófogadással egybekötött ünnepi eseményen magasrangú állami kitüntetésben részesül Peter Kresánek szlovák műemlékvédő\, a könyv szerzője.\nKiváló alkalom lesz ez a találkozásra\, a kötetlen beszélgetésre\, a dedikálásra és egy időtálló karácsonyi ajándék kedvezményes beszerzésére \nA belépés ingyenes\, de regisztrációhoz kötött\, melyet az orosz@gombaszog.sk mailcímen tudtok egyszerűen elvégezni” – írta Orosz Örs közösségi oldalán.
URL:https://felvidek.ma/event/a-felvideki-muemlekes-utikonyv-budapesti-osbemutatoja/
CATEGORIES:Pályázat
ATTACH;FMTTYPE=image/png:https://felvidek.ma/wp-content/uploads/2024/10/okt25_bp_orosz_ors.png
END:VEVENT
BEGIN:VEVENT
DTSTART;TZID=Europe/Budapest:20241022T170000
DTEND;TZID=Europe/Budapest:20241022T170000
DTSTAMP:20260421T153547
CREATED:20241016T094245Z
LAST-MODIFIED:20241016T095209Z
UID:534304-1729616400-1729616400@felvidek.ma
SUMMARY:Gloria Victis 1956-os emlékünnepség Budapesten
DESCRIPTION:Az elmúlt három évtizedben – néhai Halzl József elnök úrnak köszönhetően – a Rákóczi Szövetség legnagyobb és legemblematikusabb rendezvényévé a Gloria Victis 1956-os emlékünnepség vált. \nA budapesti helyszíneken zajló rendezvény az 1956-os szabadságharcos magyar fiataloknak állít emléket háromezer Kárpát-medencei középiskolás és egyetemista részvételével. \nOktóber 22-én\, kedden az alábbiak szerint valósul meg a program: \n 15.00 – ünnepség a Műegyetem aulájában \n16.00 – fáklyás felvonulás a Műegyetem elől a Bem térre \n17.00 – koszorúzás és megemlékezés a Bem téren \nA Gloria Victis 1956-os Emlékünnepség részletes összefoglalója és programja itt érhető el: https://rakocziszovetseg.org/2024/10/15/gloria-victis-1956-4/
URL:https://felvidek.ma/event/gloria-victis-budapesten/
CATEGORIES:Esemény
ATTACH;FMTTYPE=image/jpeg:https://felvidek.ma/wp-content/uploads/2021/10/1956-1.jpg
END:VEVENT
BEGIN:VEVENT
DTSTART;TZID=Europe/Bratislava:20240327T110000
DTEND;TZID=Europe/Bratislava:20240327T110000
DTSTAMP:20260421T153547
CREATED:20240326T115631Z
LAST-MODIFIED:20240326T115651Z
UID:504880-1711537200-1711537200@felvidek.ma
SUMMARY:II. Rákóczi Ferenc emléknapja Budapesten
DESCRIPTION:Március 27-én\, szerdán 11 órakor\, az ország főterén\, a Kossuth téri Rákóczi-lovasszobornál emlékezik névadójára a Rákóczi Szövetség\, mintegy 200 budapesti középiskolás diák részvételével. \nII: Rákóczi Ferenc fejedelem 348 évvel ezelőtt\, 1676. március 27-én született. A Magyar Országgyűlés 2015-ben nyilvánította március 27-ét II. Rákóczi Ferenc emléknapjává. \nA megemlékezést követően a résztvevő diákok vezetett országházi sétán is részt vehetnek.
URL:https://felvidek.ma/event/ii-rakoczi-ferenc-emleknapja-budapesten/
CATEGORIES:Esemény
ATTACH;FMTTYPE=image/jpeg:https://felvidek.ma/wp-content/uploads/2021/03/165680732_4018036948247738_6982328809963701718_n.jpg
END:VEVENT
BEGIN:VEVENT
DTSTART;TZID=Europe/Bratislava:20230623T150000
DTEND;TZID=Europe/Bratislava:20230623T150000
DTSTAMP:20260421T153547
CREATED:20230620T064314Z
LAST-MODIFIED:20230620T064332Z
UID:464065-1687532400-1687532400@felvidek.ma
SUMMARY:A Honismeret folyóirat 300. lapszámának bemutatója a Magyar Nemzeti Múzeumban
DESCRIPTION:Budapesten 2023. június 23-án 15 órakor a Magyar Nemzeti Múzeumban kerül bemutatásra a Honismeret folyóirat 300. lapszáma (2023/3-as szám).  \nA résztvevőket Debreczeni-Droppán Béla\, a Honismereti Szövetség elnöke köszönti. Ezt követi L. Simon László főigazgató szubjektív lapszámbemutatója majd\, a 150 éves főváros jubileuma alkalmából készült Budapest 150 rovatot mutatja be Gábriel Tibor\, a Budapesti Honismereti Társaság titkára. \nDr. Simon Katalin főlevéltáros (Budapest Főváros Levéltára) a századfordulós Budapest gasztronómiai kultúráját eleveníti fel a folyóiratba írt cikkének bemutatásával. A rendezvény végén Dr. Hála József szerkesztő mutatja be a folyóiratot. \nA rendezvény sajtónyilvános. A Magyar Nemzeti Múzeum könyvrátában tartott előadásra minden érdeklődőt szeretettel várunk. Részvételi szándékukat kérjük a lenti címen jelezzék. \n  \nTovábbi információ: \nJuhász Zoltán András titkártól kérhető \n+3670/6451150 \nwww.honismeret.hu
URL:https://felvidek.ma/event/a-honismeret-folyoirat-300-lapszamanak-bemutatoja-a-magyar-nemzeti-muzeumban/
CATEGORIES:Esemény
ATTACH;FMTTYPE=image/jpeg:https://felvidek.ma/wp-content/uploads/2023/06/jun23_honismeret.jpg
END:VEVENT
BEGIN:VEVENT
DTSTART;TZID=Europe/Bratislava:20230327T113000
DTEND;TZID=Europe/Bratislava:20230327T113000
DTSTAMP:20260421T153547
CREATED:20230327T064215Z
LAST-MODIFIED:20230327T064215Z
UID:450838-1679916600-1679916600@felvidek.ma
SUMMARY:II. Rákóczi Ferenc emléknapja
DESCRIPTION:Március 27-én\, hétfőn 11 óra 30 perckor\, Magyarország főterén\, a Kossuth téri Rákóczi-lovasszobornál emlékezik névadójára a Rákóczi Szövetség\, közel 300 budapesti középiskolás diák részvételével. \nII. Rákóczi Ferenc fejedelem 347 évvel ezelőtt\, 1676. március 27-én született. A Magyar Országgyűlés 2015-ben nyilvánította március 27-ét II. Rákóczi Ferenc emléknapjává.
URL:https://felvidek.ma/event/ii-rakoczi-ferenc-emleknapja/
CATEGORIES:Esemény
ATTACH;FMTTYPE=image/jpeg:https://felvidek.ma/wp-content/uploads/2023/03/rakoczi-ferenc-szobra.jpg
END:VEVENT
END:VCALENDAR