BEGIN:VCALENDAR
VERSION:2.0
PRODID:-//Felvidék.ma - ECPv6.3.4//NONSGML v1.0//EN
CALSCALE:GREGORIAN
METHOD:PUBLISH
X-ORIGINAL-URL:https://felvidek.ma
X-WR-CALDESC:Events for Felvidék.ma
REFRESH-INTERVAL;VALUE=DURATION:PT1H
X-Robots-Tag:noindex
X-PUBLISHED-TTL:PT1H
BEGIN:VTIMEZONE
TZID:Europe/Bratislava
BEGIN:DAYLIGHT
TZOFFSETFROM:+0100
TZOFFSETTO:+0200
TZNAME:CEST
DTSTART:20210328T010000
END:DAYLIGHT
BEGIN:STANDARD
TZOFFSETFROM:+0200
TZOFFSETTO:+0100
TZNAME:CET
DTSTART:20211031T010000
END:STANDARD
BEGIN:DAYLIGHT
TZOFFSETFROM:+0100
TZOFFSETTO:+0200
TZNAME:CEST
DTSTART:20220327T010000
END:DAYLIGHT
BEGIN:STANDARD
TZOFFSETFROM:+0200
TZOFFSETTO:+0100
TZNAME:CET
DTSTART:20221030T010000
END:STANDARD
END:VTIMEZONE
BEGIN:VEVENT
DTSTART;TZID=Europe/Bratislava:20220420T180000
DTEND;TZID=Europe/Bratislava:20220420T180000
DTSTAMP:20260424T032324
CREATED:20220420T133804Z
LAST-MODIFIED:20220420T133804Z
UID:398844-1650477600-1650477600@felvidek.ma
SUMMARY:Bedő Imre: Párkapcsolatból Szövetség - online előadás
DESCRIPTION:A KCSSZ által szervezett élő\, online előadás-sorozat következő előadója a magyarországi Bedő Imre közgazdász lesz\, aki előadásában a férfi-nő kapcsolatról fog szólni. \nMitől nehéz és miként lehet ma helyesen tekinteni a férfi-nő kapcsolatra\, mit kell másként (azaz jól) látni ahhoz\, hogy házasságunk ne egy laza\, szétesni bíró kapcsolat legyen\, hanem mit kell összefűzni ahhoz\, hogy eltéphetetlen szövetséggé váljon? \nEzekre a kérdésekre kapunk választ.\nAz előadáson való részvétel díjmentes. \nhttps://www.facebook.com/events/1038591167014874/?ref=newsfeed \n 
URL:https://felvidek.ma/event/bedo-imre-parkapcsolatbol-szovetseg-online-eloadas/
CATEGORIES:Esemény
ATTACH;FMTTYPE=image/jpeg:https://felvidek.ma/wp-content/uploads/2022/04/csaladlanc.jpg
END:VEVENT
BEGIN:VEVENT
DTSTART;TZID=Europe/Bratislava:20220216T180000
DTEND;TZID=Europe/Bratislava:20220216T180000
DTSTAMP:20260424T032324
CREATED:20220210T090448Z
LAST-MODIFIED:20220214T084647Z
UID:388453-1645034400-1645034400@felvidek.ma
SUMMARY:Van-e recept arra\, hogyan őrizzük meg a család egységét?
DESCRIPTION:Van-e recept arra\, hogyan őrizzük meg a család egységét? címmel online előadást tart PaedDr. Strédl Terézia PhD. Előadónk a Felvidék egyik legkiemelkedőbb\, legsokoldalúbb speciális pedagógusa\, iskolapszichológusa. \nAz előadáson való részvétel díjmentes\, regisztrálni lehet a Szövetség a Közös Célokért Facebook-oldalán és élőben is követhető lesz ugyanitt\, illetve a Felvidék.ma Facebook-oldalán 2022. február 16. 18 órakor.
URL:https://felvidek.ma/event/van-e-recept-arra-hogyan-orizzuk-meg-a-csalad-egyseget/
CATEGORIES:Esemény,Kiemelt
ATTACH;FMTTYPE=image/jpeg:https://felvidek.ma/wp-content/uploads/2022/02/Hazassag-hete-2022_-STREDL-1.jpg
END:VEVENT
BEGIN:VEVENT
DTSTART;TZID=Europe/Bratislava:20220113T100000
DTEND;TZID=Europe/Bratislava:20220113T100000
DTSTAMP:20260424T032324
CREATED:20220112T082311Z
LAST-MODIFIED:20220112T082311Z
UID:384297-1642068000-1642068000@felvidek.ma
SUMMARY:Család\, közösség\, lelki egészség – Hungarostudy 2021
DESCRIPTION:A Kopp Mária Intézet a Népesedésért és a Családokért (KINCS) és a Semmelweis Egyetem Magatartástudományi Intézetének közös szervezi meg január 13-án\, csütörtökön 10.00 órai kezdettel a  Család\, közösség\, lelki egészség – Hungarostudy 2021 Prof. Dr. Kopp Mária Emlékkonferenciát.  \nAz online konferenciát  élőben közvetítik az alább linken. \nA részletes program: \n10.00 Nyitóbeszédek – a Kopp Mária Emlékév megnyitása Fűrész Tünde\, elnök\, KINCS Skrabski Fruzsina\, elnök\, Három Királyfi\, Három Királylány Mozgalom \n10.10 Köszöntők Zsigó Róbert\, családokért felelős parlamenti államtitkár Prof. Dr. Merkely Béla\, rektor\, Semmelweis Egyetem Videóüzenet Soltész Miklós\, egyházi és nemzetiségi kapcsolatokért felelős államtitkár\, Miniszterelnökség \n10.25 A 2021. évi Hungarostudy kutatás eredményeinek bemutatása Prof. Dr. Purebl György\, intézetigazgató\, Magatartástudományi Intézet\, Semmelweis Egyetem Dr. Engler Ágnes\, tudományos elnökhelyettes\, KINCS \n10.40 Kávészünet \n10.55 Kerekasztal-beszélgetés Kopp Mária és Skrabski Árpád szellemi örökségéről\, a Hungarostudy 2021 kutatásról\, a magyarok közösségének és családjainak lelki egészségéről Moderátor: Székely András\, tudományos főmunkatárs\, KINCS Dr. Susánszky Éva\, egyetemi docens\, Magatartástudományi Intézet\, Semmelweis Egyetem Dr. Bódizs Róbert Zoltán\, kutatási igazgatóhelyettes\, Magatartástudományi Intézet\, Semmelweis Egyetem dr. Pári András\, kutatási vezető\, KINCS Kapdebo Ágnes\, szakpolitikai elemző\, KINCS
URL:https://felvidek.ma/event/csalad-kozosseg-lelki-egeszseg-hungarostudy-2021/
CATEGORIES:Esemény
ATTACH;FMTTYPE=image/jpeg:https://felvidek.ma/wp-content/uploads/2022/01/251902394_178787211110132_2963278119513543600_n.jpg
END:VEVENT
BEGIN:VEVENT
DTSTART;TZID=Europe/Bratislava:20211128T103000
DTEND;TZID=Europe/Bratislava:20211128T103000
DTSTAMP:20260424T032324
CREATED:20211125T093045Z
LAST-MODIFIED:20211125T093102Z
UID:378758-1638095400-1638095400@felvidek.ma
SUMMARY:Jótékonysági Ringató a Lea anyaotthonokért
DESCRIPTION:A FICSAK idei gyűjtése is kiegészül a Ringató Adventi Jótékonysági ÉLŐ online koncertjével\, amelynek időpontja 2021. november 28.\, vasárnap 10:30. Aki szeretne a közös éneklésben\, mondókázásban\, karácsonyra hangolódásban otthonából részt venni\, megteheti\, csak annyit kérnek a szervezők\, hogy egy számára megfelelő és nélkülözhető összeggel\, egy jelképes belépő árával támogassa a „Segítsünk a bántalmazott édesanyáknak” gyűjtést az adománygyűjtő oldalon. \nAz online esemény a Ringató Facebook oldalán lesz elérhető\, a részletek itt találhatóak: https://www.facebook.com/events/295656955760010
URL:https://felvidek.ma/event/jotekonysagi-ringato-a-lea-anyaotthonokert/
CATEGORIES:Esemény
ATTACH;FMTTYPE=image/jpeg:https://felvidek.ma/wp-content/uploads/2021/11/ringato_ficsak.jpg
END:VEVENT
BEGIN:VEVENT
DTSTART;VALUE=DATE:20210814
DTEND;VALUE=DATE:20210815
DTSTAMP:20260424T032324
CREATED:20210804T111242Z
LAST-MODIFIED:20210804T111242Z
UID:362076-1628899200-1628985599@felvidek.ma
SUMMARY:1Úton Nemzetközi Zarándok hétvége a család felelős férfi tagjaiért
DESCRIPTION:Sokak szíve mozdult meg\, hogy a Szentatya által meghirdetett tematikus évhez igazodva megszervezésre kerüljön augusztus 14-én és 15-én az 1Úton Nemzetközi Zarándok hétvége a család felelős férfi tagjaiért. \nAz elmúlt hónapok zarándoklatok tervezésével telt a Mária Út életében. A Mária Út Egyesület és az önkéntesek szolgálata mögött komoly szándék állt: hogy megmutassák a zarándoklásban rejlő ajándékokat\, lehetőséget biztosítsanak minden érdeklődőnek\, hogy elindulhasson saját útján és persze\, hogy a Szent József évhez csatlakozva tegyenek valamit a férfiak családban betöltött szerepének megerősödéséért. \nLesznek zarándoklatok Felvidéken és délvidéken\, Ausztriában\, Erdélyben és persze hazánkban is\, melyre minden érdeklődőt sok szeretettel várnak. Lesznek bababarát szakaszok és lesznek olyan zarándoklatok\, amelyek csodás tájakon erősebb fizikai kihívással vezetik a zarándokokat az úton. \nA sok-sok zarándoklat igazi jelképe lehet az elmúlt időszakot követő újrakezdésnek. Mint egy szekér kerekének küllői úgy közelítenek ezek a zarándoklatok a napot záró szentmise helyszínek felé\, a „csapágy” felé\, és úgy közelítenek a zarándokok egymás felé és Isten felé is. \nAz 1Úton zarándoknap valódi közösségteremtő rendezvény\, hiszen aki nem tud részt venni a zarándoknapon\, imaszándékot küldhet a zarándokokkal. Azok\, akik valamilyen egészségügyi probléma miatt nem tudnak részt venni rádión és a közösségi médián is becsatlakozhatnak\, hiszen a Mária Rádió többször fog ezen a két napon élőben jelentkezni az egyes szakaszok történéseivel. \nHívnak mindenkit\, hogy áldozzunk egy napot azokért az apákért\, nagyapákért\, dédpapákért\, nevelő apákért\, nagybácsikért\, fiú testvérekért\, vagy a család bármely olyan férfi tagjáért\, akik szeretettel viseltetnek családjuk iránt. Mária életpéldája mutassa meg nekünk ebben a helyes irányt. Ő vezessen minket végig ezen az úton\, hogy megleljük az út és a célba érés örömét. \nRészletes program: 1uton.mariaut.hu.
URL:https://felvidek.ma/event/1uton-nemzetkozi-zarandok-hetvege-a-csalad-felelos-ferfi-tagjaiert/
CATEGORIES:Esemény
ATTACH;FMTTYPE=image/jpeg:https://felvidek.ma/wp-content/uploads/2021/08/aug14-15_1uton-scaled.jpg
END:VEVENT
BEGIN:VEVENT
DTSTART;TZID=Europe/Bratislava:20210610T170000
DTEND;TZID=Europe/Bratislava:20210610T170000
DTSTAMP:20260424T032324
CREATED:20210225T085618Z
LAST-MODIFIED:20210225T154320Z
UID:338024-1623344400-1623344400@felvidek.ma
SUMMARY:Előadások a család védelmében
DESCRIPTION:A Családtudományi Szövetség szeretettel ajánlja online előadás-sorozatát\, amelyet a család védelmében rendez.  \nAz előadás-sorozat megtekintése ingyenes\, de regisztrációhoz kötött. Regisztrálni ITT lehet\, és a megadott email címre fogják az előadás napján megküldeni az online (zoom) elérhetőséget. \n\nAz előadók segítenek zűrzavaros korunkban a párkapcsolat\, a házasság és a család témakörében az értékek terén történő eligazodásban.\n\nAz online rendezvényeket fiataloknak és nem fiataloknak egyaránt ajánlják. \nAz előadóknak kérdéseket is fel lehet majd tenni. \nA negyedik alkalom 2021. június 10. csütörtök 17.30-kor kezdődik.
URL:https://felvidek.ma/event/eloadasok-a-csalad-vedelmeben-4/
CATEGORIES:Esemény
ATTACH;FMTTYPE=image/png:https://felvidek.ma/wp-content/uploads/2021/02/p1.png
END:VEVENT
BEGIN:VEVENT
DTSTART;TZID=Europe/Bratislava:20210429T170000
DTEND;TZID=Europe/Bratislava:20210429T170000
DTSTAMP:20260424T032324
CREATED:20210225T085358Z
LAST-MODIFIED:20210225T154517Z
UID:338023-1619715600-1619715600@felvidek.ma
SUMMARY:Előadások a család védelmében
DESCRIPTION:A Családtudományi Szövetség szeretettel ajánlja online előadás-sorozatát\, amelyet a család védelmében rendez.  \nAz előadás-sorozat megtekintése ingyenes\, de regisztrációhoz kötött. Regisztrálni ITT lehet\, és a megadott email címre fogják az előadás napján megküldeni az online (zoom) elérhetőséget. \n\nAz előadók segítenek zűrzavaros korunkban a párkapcsolat\, a házasság és a család témakörében az értékek terén történő eligazodásban.\n\nAz online rendezvényeket fiataloknak és nem fiataloknak egyaránt ajánlják. \nAz előadóknak kérdéseket is fel lehet majd tenni. \nA harmadik alkalom 2021. április 29. csütörtök 17.30-kor kezdődik. \nTovábbi alkalom: \n2021. június 10. csütörtök 17.30
URL:https://felvidek.ma/event/eloadasok-a-csalad-vedelmeben-3/
CATEGORIES:Esemény
ATTACH;FMTTYPE=image/png:https://felvidek.ma/wp-content/uploads/2021/02/p1.png
END:VEVENT
BEGIN:VEVENT
DTSTART;TZID=Europe/Bratislava:20210325T180000
DTEND;TZID=Europe/Bratislava:20210325T180000
DTSTAMP:20260424T032324
CREATED:20210322T134133Z
LAST-MODIFIED:20210322T134133Z
UID:341866-1616695200-1616695200@felvidek.ma
SUMMARY:Védd a magzatot\, védd az életet!
DESCRIPTION:A Kárpát-medencei Családszervezetek Szövetsége és a Családlánc felvidéki tagszervezetei A megfogant élet világnapja alkalmából március 25-én\, csütörtökön 18.00 órai kezdettel szervezik meg a Védd a magzatot\, védd az életet című online rendezvényüket. \nOnline szentmisét közvetítenek a dunaszerdahelyi Nagyboldogasszony és Szent György –templomból. A szentmise a Felvidék.ma közösségi oldalán és a dunaszerdahelyi katolikus portál faceboook-oldalán is követhető lesz.
URL:https://felvidek.ma/event/vedd-a-magzatot-vedd-az-eletet/
CATEGORIES:Esemény
ATTACH;FMTTYPE=image/jpeg:https://felvidek.ma/wp-content/uploads/2021/03/megfogant_plakat_.jpg
END:VEVENT
BEGIN:VEVENT
DTSTART;TZID=Europe/Bratislava:20210325T170000
DTEND;TZID=Europe/Bratislava:20210325T170000
DTSTAMP:20260424T032324
CREATED:20210225T085037Z
LAST-MODIFIED:20210225T154643Z
UID:338022-1616691600-1616691600@felvidek.ma
SUMMARY:Előadások a család védelmében 
DESCRIPTION:A Családtudományi Szövetség szeretettel ajánlja online előadás-sorozatát\, amelyet a család védelmében rendez.  \nAz előadás-sorozat megtekintése ingyenes\, de regisztrációhoz kötött. Regisztrálni ITT lehet\, és a megadott email címre fogják az előadás napján megküldeni az online (zoom) elérhetőséget. \n\nAz előadók segítenek zűrzavaros korunkban a párkapcsolat\, a házasság és a család témakörében az értékek terén való eligazodásban.\n\nAz online rendezvényeket fiataloknak és nem fiataloknak egyaránt ajánlják. \nAz előadóknak kérdéseket is fel lehet majd tenni. \nA második alkalom 2021. március 25. csütörtök 17.30-kor kezdődik. \nTovábbi alkalmak: \n2021. április 29. csütörtök 17.30\n2021. június 10. csütörtök 17.30
URL:https://felvidek.ma/event/eloadasok-a-csalad-vedelmeben-2/
CATEGORIES:Esemény
ATTACH;FMTTYPE=image/png:https://felvidek.ma/wp-content/uploads/2021/02/p1.png
END:VEVENT
BEGIN:VEVENT
DTSTART;TZID=Europe/Bratislava:20210225T170000
DTEND;TZID=Europe/Bratislava:20210225T170000
DTSTAMP:20260424T032324
CREATED:20210225T084738Z
LAST-MODIFIED:20210225T084738Z
UID:338019-1614272400-1614272400@felvidek.ma
SUMMARY:Előadások a család védelmében
DESCRIPTION:A Családtudományi Szövetség szeretettel ajánlja online előadás-sorozatát\, amelyet a család védelmében rendez.  \nAz előadás-sorozat megtekintése ingyenes\, de regisztrációhoz kötött. Regisztrálni ITT lehet\, és a megadott email címre fogják az előadás napján megküldeni az online (zoom) elérhetőséget. \n\nAz előadók segítenek zűrzavaros korunkban a párkapcsolat\, a házasság és a család témakörében az értékek eligazodásában.\n\nAz online rendezvényeket fiataloknak és nem fiataloknak egyaránt ajánlják. \nAz előadóknak kérdéseket is fel lehet majd tenni. \nAz első alkalom 2021. február 25-én\, délután 17.30-kor kezdődik. \nTovábbi alkalmak:\n2021. március 25. csütörtök 17.30\n2021. április 29. csütörtök 17.30\n2021. június 10. csütörtök 17.30
URL:https://felvidek.ma/event/eloadasok-a-csalad-vedelmeben/
CATEGORIES:Esemény
ATTACH;FMTTYPE=image/png:https://felvidek.ma/wp-content/uploads/2021/02/p1.png
END:VEVENT
END:VCALENDAR