BEGIN:VCALENDAR
VERSION:2.0
PRODID:-//Felvidék.ma - ECPv6.3.4//NONSGML v1.0//EN
CALSCALE:GREGORIAN
METHOD:PUBLISH
X-WR-CALNAME:Felvidék.ma
X-ORIGINAL-URL:https://felvidek.ma
X-WR-CALDESC:Events for Felvidék.ma
REFRESH-INTERVAL;VALUE=DURATION:PT1H
X-Robots-Tag:noindex
X-PUBLISHED-TTL:PT1H
BEGIN:VTIMEZONE
TZID:Europe/Bratislava
BEGIN:DAYLIGHT
TZOFFSETFROM:+0100
TZOFFSETTO:+0200
TZNAME:CEST
DTSTART:20220327T010000
END:DAYLIGHT
BEGIN:STANDARD
TZOFFSETFROM:+0200
TZOFFSETTO:+0100
TZNAME:CET
DTSTART:20221030T010000
END:STANDARD
END:VTIMEZONE
BEGIN:VEVENT
DTSTART;TZID=Europe/Bratislava:20221218T153000
DTEND;TZID=Europe/Bratislava:20221218T153000
DTSTAMP:20260420T223847
CREATED:20221206T131239Z
LAST-MODIFIED:20221206T131239Z
UID:434283-1671377400-1671377400@felvidek.ma
SUMMARY:Bennünk a szeretet: 4. adventi gyertyagyújtás Dunaszerdahelyen
DESCRIPTION:December 18. \nBennünk a szeretet: 4. adventi gyertyagyújtás \nA Betlehemi láng érkezése Dunaszerdahelyre: közreműködik 10. sz. Szent György Cserkészcsapat \nFellépnek: Dunaszerdahelyi óvodák és alapiskolák\, a Szent György Kórus \nIdőpont: 15.30 \nHelyszín: Csaplár Benedek VMK előtti tér\, Dunaszerdahely
URL:https://felvidek.ma/event/bennunk-a-szeretet-4-adventi-gyertyagyujtas-dunaszerdahelyen/
CATEGORIES:Esemény
ATTACH;FMTTYPE=image/png:https://felvidek.ma/wp-content/uploads/2022/12/dec18_4_advent-fin.png
END:VEVENT
BEGIN:VEVENT
DTSTART;TZID=Europe/Bratislava:20221216T190000
DTEND;TZID=Europe/Bratislava:20221216T190000
DTSTAMP:20260420T223847
CREATED:20221206T131438Z
LAST-MODIFIED:20221206T131438Z
UID:434285-1671217200-1671217200@felvidek.ma
SUMMARY:Bereczky Zoltán koncert Dunaszerdahelyen
DESCRIPTION:December 16. \nBereczky Zoltán koncert \nIdőpont: 19.00 \nHelyszín: Csaplár Benedek VMK színházterme\, Dunaszerdahely \nJegyárak: 18 €
URL:https://felvidek.ma/event/bereczky-zoltan-koncert-dunaszerdahelyen/
CATEGORIES:Esemény
ATTACH;FMTTYPE=image/jpeg:https://felvidek.ma/wp-content/uploads/2022/12/bereczki-zoltan-akusztikus-koncert-original-158107.jpg
END:VEVENT
BEGIN:VEVENT
DTSTART;TZID=Europe/Bratislava:20221214T180000
DTEND;TZID=Europe/Bratislava:20221214T180000
DTSTAMP:20260420T223847
CREATED:20221206T112259Z
LAST-MODIFIED:20221206T112259Z
UID:434238-1671040800-1671040800@felvidek.ma
SUMMARY:Soma Mamagésa: A szakrális új nő – előadás Dunaszerdahelyen
DESCRIPTION:December 14. \nSoma Mamagésa: A szakrális új nő – előadás\, könyvbemutató\, dedikálás \nIdőpont: 18.00 \nHelyszín: Csaplár Benedek VMK színházterme\, Dunaszerdahely \nJegyárak: 10 €
URL:https://felvidek.ma/event/soma-mamagesa-a-szakralis-uj-no-eloadas-dunaszerdahelyen/
CATEGORIES:Esemény
ATTACH;FMTTYPE=image/jpeg:https://felvidek.ma/wp-content/uploads/2022/12/Soma-Mamagesa.jpg
END:VEVENT
BEGIN:VEVENT
DTSTART;TZID=Europe/Bratislava:20221214T173000
DTEND;TZID=Europe/Bratislava:20221214T173000
DTSTAMP:20260420T223847
CREATED:20221206T130837Z
LAST-MODIFIED:20221206T130837Z
UID:434281-1671039000-1671039000@felvidek.ma
SUMMARY:Életmesék Dunaszerdahelyen
DESCRIPTION:December 14. \n„A mesék összekötnek.“ Életmesék – kiadványsorozat bemutató Molnár Krisztával \nIdőpont: 17.30 \nHelyszín: Dunaszerdahelyi Csallóközi Könyvtár\, Csaplár Benedek VMK\, Dunaszerdahely
URL:https://felvidek.ma/event/eletmesek-dunaszerdahelyen/
CATEGORIES:Esemény
ATTACH;FMTTYPE=image/png:https://felvidek.ma/wp-content/uploads/2022/12/dec14_eletmesek.png
END:VEVENT
BEGIN:VEVENT
DTSTART;TZID=Europe/Bratislava:20221212T170000
DTEND;TZID=Europe/Bratislava:20221212T170000
DTSTAMP:20260420T223847
CREATED:20221206T130648Z
LAST-MODIFIED:20221206T130648Z
UID:434278-1670864400-1670864400@felvidek.ma
SUMMARY:Brüsszel után szabadon - könyvbemutató Dunaszerdahelyen
DESCRIPTION:
URL:https://felvidek.ma/event/brusszel-utan-szabadon-konyvbemutato-dunaszerdahelyen/
CATEGORIES:Esemény
ATTACH;FMTTYPE=image/png:https://felvidek.ma/wp-content/uploads/2022/12/dec12_konyvtar.png
END:VEVENT
BEGIN:VEVENT
DTSTART;TZID=Europe/Bratislava:20221212T110000
DTEND;TZID=Europe/Bratislava:20221212T110000
DTSTAMP:20260420T223847
CREATED:20221206T111633Z
LAST-MODIFIED:20221206T111633Z
UID:434235-1670842800-1670842800@felvidek.ma
SUMMARY:Az Apolló Színház előadása Dunaszerdahelyen
DESCRIPTION:December 12. \nBrémai muzsikusok – meseelőadás iskolásoknak. Az Apolló Színház előadása Időpont: 09.00\, 11.00 \nHelyszín: Csaplár Benedek VMK színházterme\, Dunaszerdahely
URL:https://felvidek.ma/event/az-apollo-szinhaz-eloadasa-dunaszerdahelyen/
CATEGORIES:Esemény
ATTACH;FMTTYPE=image/jpeg:https://felvidek.ma/wp-content/uploads/2018/01/20170530_092306.jpg
END:VEVENT
BEGIN:VEVENT
DTSTART;TZID=Europe/Bratislava:20221211T153000
DTEND;TZID=Europe/Bratislava:20221211T153000
DTSTAMP:20260420T223847
CREATED:20221206T110826Z
LAST-MODIFIED:20221206T111110Z
UID:434230-1670772600-1670772600@felvidek.ma
SUMMARY:Örömvasárnap: 3. adventi gyertyagyújtás Dunaszerdahelyen
DESCRIPTION:December 11. \nÖrömvasárnap: 3. adventi gyertyagyújtás \nFellépnek: Dunaszerdahelyi óvodák és alapiskolák\, Varga Rebeca \nIdőpont: 15.30 \nHelyszín: Csaplár Benedek VMK előtti tér\, Dunaszerdahely
URL:https://felvidek.ma/event/oromvasarnap-3-adventi-gyertyagyujtas-dunaszerdahelyen/
CATEGORIES:Esemény
ATTACH;FMTTYPE=image/jpeg:https://felvidek.ma/wp-content/uploads/2022/12/dec11_3_advent-fin.jpg
END:VEVENT
BEGIN:VEVENT
DTSTART;TZID=Europe/Bratislava:20221209T190000
DTEND;TZID=Europe/Bratislava:20221209T190000
DTSTAMP:20260420T223847
CREATED:20221206T110200Z
LAST-MODIFIED:20221206T110200Z
UID:434227-1670612400-1670612400@felvidek.ma
SUMMARY:KépTánc: A mi Felvidékünk – A Csallóközi Táncegyüttes műsora
DESCRIPTION:December 09. \nKépTánc: A mi Felvidékünk – A Csallóközi Táncegyüttes műsora \nIdőpont: 19.00 \nHelyszín: Csaplár Benedek VMK színházterme\, Dunaszerdahely \nJegyárak: 10 €
URL:https://felvidek.ma/event/keptanc-a-mi-felvidekunk-a-csallokozi-tancegyuttes-musora/
CATEGORIES:Esemény
ATTACH;FMTTYPE=image/jpeg:https://felvidek.ma/wp-content/uploads/2018/06/Csallóközi-tánegyüttes.jpg
END:VEVENT
BEGIN:VEVENT
DTSTART;TZID=Europe/Bratislava:20221209T160000
DTEND;TZID=Europe/Bratislava:20221222T160000
DTSTAMP:20260420T223847
CREATED:20221206T110512Z
LAST-MODIFIED:20221206T110512Z
UID:434228-1670601600-1671724800@felvidek.ma
SUMMARY:Karácsonyváró Dunaszerdahelyen
DESCRIPTION:December 09-22. \nKarácsonyváró. Finomságok\, forró italok az adventi jókedv jegyében. \nNaponta 16.00-21.00 között \nHelyszín: Csaplár Benedek VMK előtti tér
URL:https://felvidek.ma/event/karacsonyvaro-dunaszerdahelyen/
CATEGORIES:Esemény
ATTACH;FMTTYPE=image/jpeg:https://felvidek.ma/wp-content/uploads/2022/12/dec9_Karacsonyvaro-vianocne-dobroty-2022.jpg
END:VEVENT
BEGIN:VEVENT
DTSTART;TZID=Europe/Bratislava:20221208T150000
DTEND;TZID=Europe/Bratislava:20221208T150000
DTSTAMP:20260420T223847
CREATED:20221206T102451Z
LAST-MODIFIED:20221206T102451Z
UID:434226-1670511600-1670511600@felvidek.ma
SUMMARY:Kezdő és középhaladó csipkeverők találkozója
DESCRIPTION:December 08. \nVert csipke készítés – alkotóműhelyek II. ciklusa – Kezdő és középhaladó csipkeverők találkozója   \nIdőpont: 15.00 \nHelyszín: Csallóközi Népművelési Központ Kreatív Klubja\, Dunaszerdahely
URL:https://felvidek.ma/event/kezdo-es-kozephalado-csipkeverok-talalkozoja/
CATEGORIES:Esemény
ATTACH;FMTTYPE=image/jpeg:https://felvidek.ma/wp-content/uploads/2022/10/3-scaled.jpg
END:VEVENT
BEGIN:VEVENT
DTSTART;TZID=Europe/Bratislava:20221207T100000
DTEND;TZID=Europe/Bratislava:20221207T100000
DTSTAMP:20260420T223847
CREATED:20221206T102318Z
LAST-MODIFIED:20221206T131910Z
UID:434225-1670407200-1670407200@felvidek.ma
SUMMARY:Mentálisan sérültek karácsonya
DESCRIPTION:December 07. \nMentálisan sérültek karácsonya  \nIdőpont: 10.00 \nHelyszín: Csaplár Benedek VMK – zártkörű rendezvény\, Dunaszerdahely
URL:https://felvidek.ma/event/mentalisan-serultek-karacsonya/
LOCATION:Névtelen helyszín\, Dunaszerdahely\, Szlovákia
CATEGORIES:Esemény
ATTACH;FMTTYPE=image/jpeg:https://felvidek.ma/wp-content/uploads/2021/12/06-Egy-apro-karacsonyfadisz.jpg
END:VEVENT
BEGIN:VEVENT
DTSTART;TZID=Europe/Bratislava:20221207T090000
DTEND;TZID=Europe/Bratislava:20221207T090000
DTSTAMP:20260420T223847
CREATED:20221206T102136Z
LAST-MODIFIED:20221206T131832Z
UID:434224-1670403600-1670403600@felvidek.ma
SUMMARY:XIV. Jóreménység kuckója
DESCRIPTION:A dunaszerdahelyi Mentálisan Sérülteket Segítő Társulás tagjai\, az Eperjesi SzO és Nagymegyeri SzO kliensei és az Ekecsi Egyesített Iskola által készített munkák bemutatója \nIdőpont: 09.00 \nHelyszín: ZOC MAX\, Dunaszerdahely
URL:https://felvidek.ma/event/xiv-joremenyseg-kuckoja/
LOCATION:Névtelen helyszín\, Dunaszerdahely\, Szlovákia
CATEGORIES:Esemény
ATTACH;FMTTYPE=image/jpeg:https://felvidek.ma/wp-content/uploads/2021/10/13-Mindazoke-akik-nem-lehetnek-velunk-egy-egy-gyertya-egjen.jpg
END:VEVENT
END:VCALENDAR