BEGIN:VCALENDAR
VERSION:2.0
PRODID:-//Felvidék.ma - ECPv6.3.4//NONSGML v1.0//EN
CALSCALE:GREGORIAN
METHOD:PUBLISH
X-ORIGINAL-URL:https://felvidek.ma
X-WR-CALDESC:Events for Felvidék.ma
REFRESH-INTERVAL;VALUE=DURATION:PT1H
X-Robots-Tag:noindex
X-PUBLISHED-TTL:PT1H
BEGIN:VTIMEZONE
TZID:Europe/Bratislava
BEGIN:DAYLIGHT
TZOFFSETFROM:+0100
TZOFFSETTO:+0200
TZNAME:CEST
DTSTART:20220327T010000
END:DAYLIGHT
BEGIN:STANDARD
TZOFFSETFROM:+0200
TZOFFSETTO:+0100
TZNAME:CET
DTSTART:20221030T010000
END:STANDARD
BEGIN:DAYLIGHT
TZOFFSETFROM:+0100
TZOFFSETTO:+0200
TZNAME:CEST
DTSTART:20230326T010000
END:DAYLIGHT
BEGIN:STANDARD
TZOFFSETFROM:+0200
TZOFFSETTO:+0100
TZNAME:CET
DTSTART:20231029T010000
END:STANDARD
BEGIN:DAYLIGHT
TZOFFSETFROM:+0100
TZOFFSETTO:+0200
TZNAME:CEST
DTSTART:20240331T010000
END:DAYLIGHT
BEGIN:STANDARD
TZOFFSETFROM:+0200
TZOFFSETTO:+0100
TZNAME:CET
DTSTART:20241027T010000
END:STANDARD
END:VTIMEZONE
BEGIN:VEVENT
DTSTART;TZID=Europe/Bratislava:20240622T150000
DTEND;TZID=Europe/Bratislava:20240622T150000
DTSTAMP:20260423T025537
CREATED:20240613T081631Z
LAST-MODIFIED:20240613T081631Z
UID:516750-1719068400-1719068400@felvidek.ma
SUMMARY:Családi nap Dunaszerdahelyen
DESCRIPTION:Június 22-én\, szombaton 15.00 órai kezdettel szervezik meg a Cseperedő program keretei között a családi napot a dunaszerdahelyi Vásártéren. \nA részletes program a plakáton olvasható. \n 
URL:https://felvidek.ma/event/csaladi-nap-dunaszerdahelyen/
LOCATION:Vásártér\, Dunaszerdahely\, Szlovákia
CATEGORIES:Esemény
ATTACH;FMTTYPE=image/png:https://felvidek.ma/wp-content/uploads/2024/06/Csaladi-Nap-2024-allo-1.png
END:VEVENT
BEGIN:VEVENT
DTSTART;TZID=Europe/Bratislava:20221115T163000
DTEND;TZID=Europe/Bratislava:20221115T163000
DTSTAMP:20260423T025537
CREATED:20221114T173918Z
LAST-MODIFIED:20221114T173918Z
UID:431076-1668529800-1668529800@felvidek.ma
SUMMARY:Apakulcs
DESCRIPTION:November 15-én\, kedden 16.30 kezdettel szervezik meg Süveges Gergő Apakulcs című előadását a kassai MaJel Rovás Központ épületében. \nAz előadás a Cseperedő program Szülők iskola előadássorozat részeként valósul meg.
URL:https://felvidek.ma/event/apakulcs/
LOCATION:MaJel Rovás Központ\, Kassa\, Szlovákia
CATEGORIES:Esemény
ATTACH;FMTTYPE=image/jpeg:https://felvidek.ma/wp-content/uploads/2022/11/apakulcs.jpeg
END:VEVENT
BEGIN:VEVENT
DTSTART;TZID=Europe/Bratislava:20220325T100000
DTEND;TZID=Europe/Bratislava:20220325T100000
DTSTAMP:20260423T025537
CREATED:20220322T094944Z
LAST-MODIFIED:20220322T094944Z
UID:394658-1648202400-1648202400@felvidek.ma
SUMMARY:Ringató foglalkozás Muzslán
DESCRIPTION:Március 25-én\, pénteken 10.00 órai kezdettel szervezik meg a Ringató foglalkozást a Muzslai Községi Könyvtárban.
URL:https://felvidek.ma/event/ringato-foglalkozas-muzslan/
LOCATION:Községi könyvtár\, Muzsla\, Szlovákia
CATEGORIES:Esemény
ATTACH;FMTTYPE=image/png:https://felvidek.ma/wp-content/uploads/2022/03/Ringato-kezdes-Muzsla-2022.png
END:VEVENT
END:VCALENDAR