BEGIN:VCALENDAR
VERSION:2.0
PRODID:-//Felvidék.ma - ECPv6.3.4//NONSGML v1.0//EN
CALSCALE:GREGORIAN
METHOD:PUBLISH
X-WR-CALNAME:Felvidék.ma
X-ORIGINAL-URL:https://felvidek.ma
X-WR-CALDESC:Events for Felvidék.ma
REFRESH-INTERVAL;VALUE=DURATION:PT1H
X-Robots-Tag:noindex
X-PUBLISHED-TTL:PT1H
BEGIN:VTIMEZONE
TZID:Europe/Bratislava
BEGIN:DAYLIGHT
TZOFFSETFROM:+0100
TZOFFSETTO:+0200
TZNAME:CEST
DTSTART:20220327T010000
END:DAYLIGHT
BEGIN:STANDARD
TZOFFSETFROM:+0200
TZOFFSETTO:+0100
TZNAME:CET
DTSTART:20221030T010000
END:STANDARD
BEGIN:DAYLIGHT
TZOFFSETFROM:+0100
TZOFFSETTO:+0200
TZNAME:CEST
DTSTART:20230326T010000
END:DAYLIGHT
BEGIN:STANDARD
TZOFFSETFROM:+0200
TZOFFSETTO:+0100
TZNAME:CET
DTSTART:20231029T010000
END:STANDARD
BEGIN:DAYLIGHT
TZOFFSETFROM:+0100
TZOFFSETTO:+0200
TZNAME:CEST
DTSTART:20240331T010000
END:DAYLIGHT
BEGIN:STANDARD
TZOFFSETFROM:+0200
TZOFFSETTO:+0100
TZNAME:CET
DTSTART:20241027T010000
END:STANDARD
END:VTIMEZONE
BEGIN:VEVENT
DTSTART;TZID=Europe/Bratislava:20240330T130000
DTEND;TZID=Europe/Bratislava:20240330T130000
DTSTAMP:20260419T192337
CREATED:20240324T092302Z
LAST-MODIFIED:20240324T092302Z
UID:504544-1711803600-1711803600@felvidek.ma
SUMMARY:Húsvét a múzeumban
DESCRIPTION:Március 30-án\, szombaton 13.00 órai kezdettel szervezik meg a húsvét a múzeumban című rendezvényt a Galántai Honismereti Múzeumban.
URL:https://felvidek.ma/event/husvet-a-muzeumban-3/
LOCATION:Galántai Honismeretei Múzeum
CATEGORIES:Esemény
ATTACH;FMTTYPE=image/jpeg:https://felvidek.ma/wp-content/uploads/2024/03/2-21.jpg
END:VEVENT
BEGIN:VEVENT
DTSTART;TZID=Europe/Bratislava:20240327T170000
DTEND;TZID=Europe/Bratislava:20240327T170000
DTSTAMP:20260419T192337
CREATED:20240319T173954Z
LAST-MODIFIED:20240319T173954Z
UID:503878-1711558800-1711558800@felvidek.ma
SUMMARY:A gömöri hímestojásfestés titkai Miskolcon
DESCRIPTION:A gömöri hímes tojás minta több\, mint 100 éves múltra tekint vissza. A mintakincs és a technika kezdetben anyáról lányára szállt\, így őrizve meg a tudást. Zsuponyóné Ujváry Mária 1990-ben Putnokon a Gömöri Múzeum népművelőjeként találkozott Hárskúti Imrénével\, a Ragályon élt tojásírózó asszonnyal\, akinek gömöri mintái és bravúros keze munkája csodálatba ejtette a fiatal érdeklődőt. \n2004-ben Ujváry Mária\, a Törékeny varázslatok című könyvében leírta a díszítés menetét. Napjainkban Magyarországon ő a gömöri tájegység népi tojásíró művészetének leghitelesebb művelője. Mária elkötelezett aziránt\, hogy a gömöri technikát\, és mintakincset minél többen megismerjék\, megkedveljék és díszítsék. Ezért az előadásra elviszi csodálatos hímestojás gyűújteményének egy részét\, s arra is lehetősége lesz az érdeklődőknek\, hogy sajátkezűleg karcoljanak\, írjanak az általa hozott és kifújt tojásokra.
URL:https://felvidek.ma/event/a-gomori-himestojasfestes-titkai-miskolcon/
CATEGORIES:Esemény
ATTACH;FMTTYPE=image/jpeg:https://felvidek.ma/wp-content/uploads/2024/03/mar27_miskolc.jpg
END:VEVENT
BEGIN:VEVENT
DTSTART;TZID=Europe/Bratislava:20240323T100000
DTEND;TZID=Europe/Bratislava:20240323T100000
DTSTAMP:20260419T192337
CREATED:20240320T190106Z
LAST-MODIFIED:20240320T190106Z
UID:504103-1711188000-1711188000@felvidek.ma
SUMMARY:Húsvéti Palóc Piac
DESCRIPTION:Március 23-án\, szombaton 10.00 órai kezdettel szervezik meg a Húsvéti Palóc Piacot az ipolysági zsinagóga udvarán.
URL:https://felvidek.ma/event/husveti-paloc-piac/
LOCATION:Zsinagóga udvara\, Ipolyság\, Szlovákia
CATEGORIES:Esemény
ATTACH;FMTTYPE=image/jpeg:https://felvidek.ma/wp-content/uploads/2024/03/431521429_10226779249332754_4218392019000217878_n.jpg
END:VEVENT
BEGIN:VEVENT
DTSTART;TZID=Europe/Bratislava:20240322T170000
DTEND;TZID=Europe/Bratislava:20240322T170000
DTSTAMP:20260419T192337
CREATED:20240320T102706Z
LAST-MODIFIED:20240320T102706Z
UID:503990-1711126800-1711126800@felvidek.ma
SUMMARY:Tojásfadíszítés Ajnácskőn
DESCRIPTION:
URL:https://felvidek.ma/event/tojasfadiszites-ajnacskon/
CATEGORIES:Esemény
ATTACH;FMTTYPE=image/jpeg:https://felvidek.ma/wp-content/uploads/2024/03/mar22_17.jpg
END:VEVENT
BEGIN:VEVENT
DTSTART;VALUE=DATE:20240320
DTEND;VALUE=DATE:20240326
DTSTAMP:20260419T192337
CREATED:20240320T182050Z
LAST-MODIFIED:20240320T182131Z
UID:504097-1710892800-1711411199@felvidek.ma
SUMMARY:Nemzetünk Hímes Tojásai 2024
DESCRIPTION:FELHÍVÁS A MAGYARLAKTA TERÜLETEKEN ÉLŐ TOJÁST DÍSZÍTŐK RÉSZÉRE – IMMÁR ÖTÖDIK ÉVE\n  \nMinden évben eljön a húsvét\, és ekkor a tojások ünneplőbe öltöznek\, hímes tojássá változnak. Több száz éves hagyomány a Kárpát-medencében\, hogy a lányok-asszonyok elkészítik saját hímes tojásaikat. Ez élő hagyományunk ma is itt a Kárpát-medencében. \n  \nKészüljünk a 2024-es húsvétra tojásfestéssel! Gyűjtsük össze virtuálisan ezeket a saját készítésű hímes tojásokat! Ennek összefogására és népszerűsítésére vállalkozik a Nemzetünk hímes tojásai 2024. program.  Virtuális képsorozatot állítunk össze\, mely megmutatja\, hogy idén milyen hímes tojások készülnek a magyarlakta területeken. Közösen hozzuk létre ezt az albumot\, ezzel köszöntjük a húsvétot. \nKik vehetnek részt a programban? \nVárjuk gyerekek-felnőttek\, nők-férfiak saját készítésű hímes tojásait életkortól\, foglalkozástól függetlenül. \nMilyen tojással kerülhetek be ebbe a virtuális kiállításba? \nA hímes tojást készítheted hagyományos népi technikával\, de bármilyen más módon is díszítheted a tojást. Úgy ahogy szoktátok az előző években\, vagy éppen megújítva azokat. Ha a család vagy közösség több tagja is alkot\, azokat külön-külön személyenként lehet elküldeni. Mindenki egyetlen tojással vehet részt a programban. Nem kell feladni ezt a kis törékeny varázslatot\, elég\, ha befotózod. \nMilyen fotót küldjek? \nKérünk\, hogy az általad készített hímes tojást vedd a tenyeredbe és úgy fotózd le! Ezzel azt mutatjuk meg\, hogy saját kezünkkel csináltuk. Minden fotón csak a kezed és benne a hímes tojásod szerepeljen. Nem kell arc\, egész alakos kép\, csak lássuk a tenyeredet és a szépen díszített tojást\, semmi mást. \nMilyen információkat adjak meg magamról és a hímes tojásról? \nCsatoljuk azt a regisztrációs lapot\, amin szerepel a hímes tojásról és készítőjéről néhány adat. \nKinek küldjem a fotót és milyen formátumban? \nElég elektronikusan visszaküldeni a kitöltött regisztrációs lapot és külön csatolva a .jpg formátumú fotót\, lehetőleg 300 dpi felbontásban\, maximum 2 MB méretben a következő \ne-mail címre: nemzetunk.himestojasai@gmail.com \nMeddig van időm csatlakozni a virtuális tárlathoz? \n2024. március 25-ig várjuk a beérkezést e-mail-en. \nMutassuk meg a saját hímes tojásunkat és gyönyörködjünk nemzetünk többi hímes tojásában is! \nHogy minél többen értesüljenek a programról és minél színesebb legyen a tárlat\, kérünk\, add tovább a felhívást! https://www.facebook.com/nemzetunkhimestojasai \n Szervező: Mosonyi Éva tojásíró népi iparművész \nFelhívás_Nemzetünk Hímes Tojásai-2024 \nJelentkezési lap
URL:https://felvidek.ma/event/nemzetunk-himes-tojasai-2024/
CATEGORIES:Pályázat
ATTACH;FMTTYPE=image/jpeg:https://felvidek.ma/wp-content/uploads/2024/03/1-Mosonyi-300x225-1.jpg
END:VEVENT
BEGIN:VEVENT
DTSTART;TZID=Europe/Bratislava:20230410T103000
DTEND;TZID=Europe/Bratislava:20230410T103000
DTSTAMP:20260419T192337
CREATED:20230323T142319Z
LAST-MODIFIED:20230404T084415Z
UID:450411-1681122600-1681122600@felvidek.ma
SUMMARY:XVI. Palóc Húsvét a füleki várban
DESCRIPTION:Április 10-én\, hétfőn 10.30 kezdettel szervezik meg a XVI. Palóc Húsvétot a füleki várban. A részletes program a plakáton olvasható. 
URL:https://felvidek.ma/event/xvi-paloc-husvet-a-fuleki-varban/
CATEGORIES:Esemény
ATTACH;FMTTYPE=image/jpeg:https://felvidek.ma/wp-content/uploads/2023/03/apr10_fulek.jpg
END:VEVENT
BEGIN:VEVENT
DTSTART;TZID=Europe/Bratislava:20230410T080000
DTEND;TZID=Europe/Bratislava:20230410T080000
DTSTAMP:20260419T192337
CREATED:20230328T103502Z
LAST-MODIFIED:20230328T103502Z
UID:451107-1681113600-1681113600@felvidek.ma
SUMMARY:Húsvéthétfői magyar szentmisék Pozsonyban
DESCRIPTION:Április 10-én\, hétfőn 8.00 órai kezdettel szervezik meg a magyar nyelvű húsvéthétfői szentmisét a pozsonyi  ferences templomban\, majd 10.30  kezdettel a horvátújfalui templomban.   
URL:https://felvidek.ma/event/husvethetfoi-magyar-szentmisek-pozsonyban/
LOCATION:Több helyszín\, Szlovákia
CATEGORIES:Esemény
ATTACH;FMTTYPE=image/png:https://felvidek.ma/wp-content/uploads/2023/03/Husvethetfo.png
END:VEVENT
BEGIN:VEVENT
DTSTART;TZID=Europe/Bratislava:20230409T200000
DTEND;TZID=Europe/Bratislava:20230409T200000
DTSTAMP:20260419T192337
CREATED:20230227T095304Z
LAST-MODIFIED:20230227T095304Z
UID:445930-1681070400-1681070400@felvidek.ma
SUMMARY:Az ajnácskői önkéntes tűzoltók húsvéti bálja
DESCRIPTION:
URL:https://felvidek.ma/event/az-ajnacskoi-onkentes-tuzoltok-husveti-balja/
CATEGORIES:Esemény
ATTACH;FMTTYPE=image/jpeg:https://felvidek.ma/wp-content/uploads/2023/02/apr9_ajnacsko.jpg
END:VEVENT
BEGIN:VEVENT
DTSTART;TZID=Europe/Bratislava:20230409T193000
DTEND;TZID=Europe/Bratislava:20230409T193000
DTSTAMP:20260419T192337
CREATED:20230328T092802Z
LAST-MODIFIED:20230328T092802Z
UID:451082-1681068600-1681068600@felvidek.ma
SUMMARY:Húsvéti bál
DESCRIPTION:Április 9-én\, vasárnap 19.30 kezdettel szervezik meg a húsvéti bált az ipolyszakállosi kultúrházban. \nBelépő 12 euró. További részletek a plakáton olvashatóak.
URL:https://felvidek.ma/event/husveti-bal-2/
LOCATION:Kultúrház\, Ipolyszakállos\, Szlovákia
CATEGORIES:Esemény
ATTACH;FMTTYPE=image/jpeg:https://felvidek.ma/wp-content/uploads/2023/03/335855819_1688250384927085_6992065992287315537_n.jpg
END:VEVENT
BEGIN:VEVENT
DTSTART;TZID=Europe/Bratislava:20230409T090000
DTEND;TZID=Europe/Bratislava:20230409T090000
DTSTAMP:20260419T192337
CREATED:20230328T103216Z
LAST-MODIFIED:20230328T103216Z
UID:451103-1681030800-1681030800@felvidek.ma
SUMMARY:Húsvétvasárnapi magyar szentmisék Pozsonyban
DESCRIPTION:Április 9-én\, vasárnap 9.00 órai kezdettel szervezik meg a magyar nyelvű húsvétvasárnapi szentmisét a pozsonyi  ferences templomban\, majd 18.00 órai kezdettel a Virágvölgyi templomban.  
URL:https://felvidek.ma/event/husvetvasarnapi-magyar-szentmisek-pozsonyban/
LOCATION:Több helyszín\, Pozsony\, Szlovákia
CATEGORIES:Esemény
ATTACH;FMTTYPE=image/png:https://felvidek.ma/wp-content/uploads/2023/03/Husvetvasarnap.png
END:VEVENT
BEGIN:VEVENT
DTSTART;TZID=Europe/Bratislava:20230408T190000
DTEND;TZID=Europe/Bratislava:20230408T190000
DTSTAMP:20260419T192337
CREATED:20230323T082259Z
LAST-MODIFIED:20230323T082259Z
UID:450265-1680980400-1680980400@felvidek.ma
SUMMARY:Húsvéti bál Misivel Rimaszombatban
DESCRIPTION:
URL:https://felvidek.ma/event/husveti-bal-misivel-rimaszombatban/
CATEGORIES:Esemény
ATTACH;FMTTYPE=image/jpeg:https://felvidek.ma/wp-content/uploads/2023/03/apr10_rsz.jpg
END:VEVENT
BEGIN:VEVENT
DTSTART;TZID=Europe/Bratislava:20230408T090000
DTEND;TZID=Europe/Bratislava:20230408T090000
DTSTAMP:20260419T192337
CREATED:20230405T110046Z
LAST-MODIFIED:20230405T110046Z
UID:452347-1680944400-1680944400@felvidek.ma
SUMMARY:Húsvétváró Berzétén
DESCRIPTION:
URL:https://felvidek.ma/event/husvetvaro-berzeten/
CATEGORIES:Esemény
ATTACH;FMTTYPE=image/jpeg:https://felvidek.ma/wp-content/uploads/2023/04/apr8_berzete.jpg
END:VEVENT
BEGIN:VEVENT
DTSTART;TZID=Europe/Bratislava:20230407T100000
DTEND;TZID=Europe/Bratislava:20230407T100000
DTSTAMP:20260419T192337
CREATED:20230328T102757Z
LAST-MODIFIED:20230328T102837Z
UID:451099-1680861600-1680861600@felvidek.ma
SUMMARY:Nagypénteki magyar alkalmak Pozsonyban
DESCRIPTION:Április 7-én\, pénteken 10.00 órai kezdettel szervezik meg a keresztúti ájtatosság a máriavölgyi kálvárián. 17.30 nagypénteki szertartás a pozsonyi Ferences templomban.
URL:https://felvidek.ma/event/nagypenteki-magyar-alkalmak-pozsonyban/
LOCATION:Több helyszín\, Pozsony\, Szlovákia
CATEGORIES:Esemény
ATTACH;FMTTYPE=image/png:https://felvidek.ma/wp-content/uploads/2023/03/Nagypentek-1.png
END:VEVENT
BEGIN:VEVENT
DTSTART;TZID=Europe/Bratislava:20230406T170000
DTEND;TZID=Europe/Bratislava:20230406T170000
DTSTAMP:20260419T192337
CREATED:20230328T102405Z
LAST-MODIFIED:20230328T102405Z
UID:451096-1680800400-1680800400@felvidek.ma
SUMMARY:Nagycsütörtöki szentmise Pozsonyban
DESCRIPTION:Április 6-án\, csütörtökön 17.00 órai kezdettel tartják meg a nagycsütörtöki magyar nyelvű szentmisét a pozsonyi ferences templomban.
URL:https://felvidek.ma/event/nagycsutortoki-szentmise-pozsonyban-2/
LOCATION:Ferences templom\, Pozsony\, Szlovákia
CATEGORIES:Esemény
ATTACH;FMTTYPE=image/png:https://felvidek.ma/wp-content/uploads/2023/03/Nagycsutortok.png
END:VEVENT
BEGIN:VEVENT
DTSTART;TZID=Europe/Bratislava:20230404T140000
DTEND;TZID=Europe/Bratislava:20230404T140000
DTSTAMP:20260419T192337
CREATED:20230404T074714Z
LAST-MODIFIED:20230404T074714Z
UID:452090-1680616800-1680616800@felvidek.ma
SUMMARY:Húsvéti magyar piac
DESCRIPTION:Április 4-én\, kedden 14.00 órai kezdettel szervezik meg a húsvéti magyar piacot a kassai MaJel Központ épületében.
URL:https://felvidek.ma/event/husveti-magyar-piac/
LOCATION:MaJel Rovás Központ\, Kassa\, Szlovákia
CATEGORIES:Esemény
ATTACH;FMTTYPE=image/jpeg:https://felvidek.ma/wp-content/uploads/2023/04/magyar-piac.jpg
END:VEVENT
BEGIN:VEVENT
DTSTART;TZID=Europe/Bratislava:20230402T130000
DTEND;TZID=Europe/Bratislava:20230402T130000
DTSTAMP:20260419T192337
CREATED:20230322T144612Z
LAST-MODIFIED:20230322T144612Z
UID:450171-1680440400-1680440400@felvidek.ma
SUMMARY:Húsvétváró kézműves vásár Gergelyfalán
DESCRIPTION:
URL:https://felvidek.ma/event/husvetvaro-kezmuves-vasar-gergelyfalan/
CATEGORIES:Esemény
ATTACH;FMTTYPE=image/jpeg:https://felvidek.ma/wp-content/uploads/2023/03/apr2_gergelyfala.jpg
END:VEVENT
BEGIN:VEVENT
DTSTART;TZID=Europe/Bratislava:20230402T090000
DTEND;TZID=Europe/Bratislava:20230402T090000
DTSTAMP:20260419T192337
CREATED:20230328T093822Z
LAST-MODIFIED:20230328T093822Z
UID:451089-1680426000-1680426000@felvidek.ma
SUMMARY:Virágvasárnapi szentmise Pozsonyban
DESCRIPTION:Április 2-án\, vasárnap 9.00 órai kezdettel szervezik meg a virágvasárnapi szentmisét a pozsonyi ferences templomban. 18.00 órai kezdettel a Blumentál templomban tartanak magyar szentmisét.  
URL:https://felvidek.ma/event/viragvasarnapi-szentmise-pozsonyban-2/
LOCATION:Több helyszín\, Pozsony\, Szlovákia
CATEGORIES:Esemény
ATTACH;FMTTYPE=image/png:https://felvidek.ma/wp-content/uploads/2023/03/Viragvasarnap.png
END:VEVENT
BEGIN:VEVENT
DTSTART;TZID=Europe/Bratislava:20230401T140000
DTEND;TZID=Europe/Bratislava:20230401T140000
DTSTAMP:20260419T192337
CREATED:20230325T175416Z
LAST-MODIFIED:20230325T175416Z
UID:450731-1680357600-1680357600@felvidek.ma
SUMMARY:Húsvétváró Szőgyénben
DESCRIPTION:Április 1-én\, szombaton 14.00 órai kezdettel szervezik meg a húsvétváró rendezvényt a szőgyéni Tájház és Régészeti Múzeumban. \nRészletes program a plakáton olvasható.
URL:https://felvidek.ma/event/husvetvaro-szogyenben/
LOCATION:Tájház és Régészeti Múzeum\, Szőgyén\, Szlovákia
CATEGORIES:Esemény
ATTACH;FMTTYPE=image/jpeg:https://felvidek.ma/wp-content/uploads/2023/03/337276572_764861891713424_5688775472129319570_n.jpg
END:VEVENT
BEGIN:VEVENT
DTSTART;TZID=Europe/Bratislava:20230401T140000
DTEND;TZID=Europe/Bratislava:20230401T140000
DTSTAMP:20260419T192337
CREATED:20230322T145104Z
LAST-MODIFIED:20230322T145104Z
UID:450175-1680357600-1680357600@felvidek.ma
SUMMARY:Húsvétváró a Csemadokkal Tardoskedden
DESCRIPTION:
URL:https://felvidek.ma/event/husvetvaro-a-csemadokkal-tardoskedden/
CATEGORIES:Esemény
ATTACH;FMTTYPE=image/jpeg:https://felvidek.ma/wp-content/uploads/2023/03/apr1_tardoskedd.jpg
END:VEVENT
BEGIN:VEVENT
DTSTART;TZID=Europe/Bratislava:20230401T140000
DTEND;TZID=Europe/Bratislava:20230401T140000
DTSTAMP:20260419T192337
CREATED:20230322T142855Z
LAST-MODIFIED:20230322T144645Z
UID:450161-1680357600-1680357600@felvidek.ma
SUMMARY:Húsvéti kézműves foglalkozás Bátkában
DESCRIPTION:
URL:https://felvidek.ma/event/husveti-kezmuves-foglalkozas-batkaban/
CATEGORIES:Esemény
ATTACH;FMTTYPE=image/jpeg:https://felvidek.ma/wp-content/uploads/2023/03/apr1_batka.jpg
END:VEVENT
BEGIN:VEVENT
DTSTART;TZID=Europe/Bratislava:20230331T130000
DTEND;TZID=Europe/Bratislava:20230331T130000
DTSTAMP:20260419T192337
CREATED:20230322T145420Z
LAST-MODIFIED:20230322T145434Z
UID:450179-1680267600-1680267600@felvidek.ma
SUMMARY:Húsvétváró kőtés nap Királyréven
DESCRIPTION:A Csemadok Királyrévi Alapszervezete szeretettel meghívja a falu lakosságát a húsvétváró kőtés napra\, amelyre 2023. március 31-én\, pénteken 13.00 órától kerül sor a kultúrházban.\n13.00 órától elkészítjük a egyik legrégebbi édességet\, a kőtést. Amíg a kemencében sül az édesség\, addig húsvéti tojásokat készítünk több fajta technikával.\nKérjük\, hogy a résztvevők hozzanak magukkal kifújt tyúktojást.\nA részvétel ingyenes. Mindenkit szeretettel várunk!\n\nhttps://www.facebook.com/events/582531527269448/?ref=newsfeed
URL:https://felvidek.ma/event/husvetvaro-kotes-nap-kiralyreven/
CATEGORIES:Esemény
ATTACH;FMTTYPE=image/jpeg:https://felvidek.ma/wp-content/uploads/2023/03/marc31_kiralyrev.jpg
END:VEVENT
BEGIN:VEVENT
DTSTART;TZID=Europe/Bratislava:20230325T103000
DTEND;TZID=Europe/Bratislava:20230325T103000
DTSTAMP:20260419T192337
CREATED:20230323T081801Z
LAST-MODIFIED:20230323T081801Z
UID:450260-1679740200-1679740200@felvidek.ma
SUMMARY:Húsvétváró kézműves foglalkozás Rakottyáson
DESCRIPTION:
URL:https://felvidek.ma/event/husvetvaro-kezmuves-foglalkozas-rakottyason/
CATEGORIES:Esemény
ATTACH;FMTTYPE=image/jpeg:https://felvidek.ma/wp-content/uploads/2023/03/marc25_rakottyas.jpg
END:VEVENT
BEGIN:VEVENT
DTSTART;TZID=Europe/Bratislava:20230325T100000
DTEND;TZID=Europe/Bratislava:20230325T100000
DTSTAMP:20260419T192337
CREATED:20230322T163823Z
LAST-MODIFIED:20230323T081847Z
UID:450214-1679738400-1679738400@felvidek.ma
SUMMARY:Húsvéti kézműves vásár
DESCRIPTION:A Creativ Art csoportosulás március 25-én\, szombaton 10.00 órai kezdettel szervezik meg a húsvéti kézműves vásárt az ipolysági városligetben.
URL:https://felvidek.ma/event/husveti-kezmuves-vasar/
LOCATION:Városliget\, Ipolyság\, Szlovákia
CATEGORIES:Esemény
ATTACH;FMTTYPE=image/jpeg:https://felvidek.ma/wp-content/uploads/2023/03/336878715_151604494491886_4879116369725529242_n.jpg
END:VEVENT
BEGIN:VEVENT
DTSTART;TZID=Europe/Bratislava:20230325T090000
DTEND;TZID=Europe/Bratislava:20230325T090000
DTSTAMP:20260419T192337
CREATED:20230322T145236Z
LAST-MODIFIED:20230322T145236Z
UID:450177-1679734800-1679734800@felvidek.ma
SUMMARY:Húsvéti játszóház Pozsonyban
DESCRIPTION:
URL:https://felvidek.ma/event/husveti-jatszohaz-pozsonyban/
CATEGORIES:Esemény
ATTACH;FMTTYPE=image/jpeg:https://felvidek.ma/wp-content/uploads/2023/03/marc25_pozsony.jpg
END:VEVENT
BEGIN:VEVENT
DTSTART;TZID=Europe/Bratislava:20220418T103000
DTEND;TZID=Europe/Bratislava:20220418T103000
DTSTAMP:20260419T192337
CREATED:20220412T095220Z
LAST-MODIFIED:20220412T095220Z
UID:397793-1650277800-1650277800@felvidek.ma
SUMMARY:XV. Palóc Húsvét a füleki várban
DESCRIPTION:Április 18-án\, hétfőn 10.30 kezdettel szervezik meg a XV. Palóc Húsvétot a füleki várban. \nA részletes program a plakáton olvasható.
URL:https://felvidek.ma/event/xv-paloc-husvet-a-fuleki-varban/
CATEGORIES:Esemény
ATTACH;FMTTYPE=image/jpeg:https://felvidek.ma/wp-content/uploads/2022/04/Program.jpg
END:VEVENT
BEGIN:VEVENT
DTSTART;TZID=Europe/Bratislava:20220418T080000
DTEND;TZID=Europe/Bratislava:20220418T080000
DTSTAMP:20260419T192337
CREATED:20220407T133228Z
LAST-MODIFIED:20220407T133228Z
UID:397114-1650268800-1650268800@felvidek.ma
SUMMARY:Húsvéthétfői szentmise
DESCRIPTION:Áprilisi 18-án\, hétfőn 8.00 órai kezdettel szervezik meg a húsvéthétfői szentmisét a pozsonyi ferencesek templomában.
URL:https://felvidek.ma/event/husvethetfoi-szentmise-2/
LOCATION:Ferences templom\, Pozsony\, Szlovákia
CATEGORIES:Esemény
ATTACH;FMTTYPE=image/jpeg:https://felvidek.ma/wp-content/uploads/2022/04/kalvaria.jpg
END:VEVENT
BEGIN:VEVENT
DTSTART;TZID=Europe/Bratislava:20220417T090000
DTEND;TZID=Europe/Bratislava:20220417T090000
DTSTAMP:20260419T192337
CREATED:20220407T133122Z
LAST-MODIFIED:20220407T133122Z
UID:397112-1650186000-1650186000@felvidek.ma
SUMMARY:Húsvétvasárnapi szentmise Pozsonyban
DESCRIPTION:Április 17-én\, vasárnap 9.00 órai kezdettel szervezik meg a húsvétvasárnapi szentmisét a pozsonyi ferencesek templomában. \n18.00 Szentmise a Virágvölgyi templomban
URL:https://felvidek.ma/event/husvetvasarnapi-szentmise-pozsonyban-2/
LOCATION:Több helyszín\, Pozsony\, Szlovákia
CATEGORIES:Esemény
ATTACH;FMTTYPE=image/jpeg:https://felvidek.ma/wp-content/uploads/2022/04/kalvaria.jpg
END:VEVENT
BEGIN:VEVENT
DTSTART;TZID=Europe/Bratislava:20220416T170000
DTEND;TZID=Europe/Bratislava:20220416T170000
DTSTAMP:20260419T192337
CREATED:20220407T133000Z
LAST-MODIFIED:20220407T133000Z
UID:397110-1650128400-1650128400@felvidek.ma
SUMMARY:Húsvét vigíliája Pozsonyban
DESCRIPTION:Április 16-án\, szombaton 17.00 órai kezdettel szervezik meg a húsvéti vigíliáját a feltámadási körmenettel a pozsonyi ferencesek templomában.
URL:https://felvidek.ma/event/husvet-vigiliaja-pozsonyban/
LOCATION:Ferences templom\, Pozsony\, Szlovákia
CATEGORIES:Esemény
ATTACH;FMTTYPE=image/jpeg:https://felvidek.ma/wp-content/uploads/2022/04/kalvaria.jpg
END:VEVENT
BEGIN:VEVENT
DTSTART;TZID=Europe/Bratislava:20220416T100000
DTEND;TZID=Europe/Bratislava:20220416T100000
DTSTAMP:20260419T192337
CREATED:20220412T062724Z
LAST-MODIFIED:20220412T062724Z
UID:397725-1650103200-1650103200@felvidek.ma
SUMMARY:Húsvéti kaland
DESCRIPTION:A Gömörhorkai Önkormányzat\, a Horkai Polgári Társulás és a Kövirózsa panzió közösen szervezi meg április 16-án\, szombaton 10.00 órai kezdettel a Húsvéti kaland elnevezésű rendezvényét a gömörhorkai Kövirózsa panzió udvarán.
URL:https://felvidek.ma/event/husveti-kaland/
LOCATION:Kövirózsa panzió udvara\, Gömörhorka\, Szlovákia
CATEGORIES:Esemény
ATTACH;FMTTYPE=image/jpeg:https://felvidek.ma/wp-content/uploads/2022/04/husvet_GH2022-page-001.jpg
END:VEVENT
BEGIN:VEVENT
DTSTART;TZID=Europe/Bratislava:20220415T173000
DTEND;TZID=Europe/Bratislava:20220415T173000
DTSTAMP:20260419T192337
CREATED:20220407T132832Z
LAST-MODIFIED:20220407T132832Z
UID:397108-1650043800-1650043800@felvidek.ma
SUMMARY:Magyar szertartás nagypénteken
DESCRIPTION:Április 15-én\, pénteken 17.30 órai kezdettel szervezik meg a nagypénteki szertartást a pozsonyi ferences templomban. \n20.30 Keresztút a máriavölgyi Kálvárián
URL:https://felvidek.ma/event/magyar-szertartas-nagypenteken/
LOCATION:Több helyszín\, Pozsony\, Szlovákia
CATEGORIES:Esemény
ATTACH;FMTTYPE=image/jpeg:https://felvidek.ma/wp-content/uploads/2022/04/kalvaria.jpg
END:VEVENT
END:VCALENDAR