BEGIN:VCALENDAR
VERSION:2.0
PRODID:-//Felvidék.ma - ECPv6.3.4//NONSGML v1.0//EN
CALSCALE:GREGORIAN
METHOD:PUBLISH
X-WR-CALNAME:Felvidék.ma
X-ORIGINAL-URL:https://felvidek.ma
X-WR-CALDESC:Events for Felvidék.ma
REFRESH-INTERVAL;VALUE=DURATION:PT1H
X-Robots-Tag:noindex
X-PUBLISHED-TTL:PT1H
BEGIN:VTIMEZONE
TZID:Europe/Bratislava
BEGIN:DAYLIGHT
TZOFFSETFROM:+0100
TZOFFSETTO:+0200
TZNAME:CEST
DTSTART:20230326T010000
END:DAYLIGHT
BEGIN:STANDARD
TZOFFSETFROM:+0200
TZOFFSETTO:+0100
TZNAME:CET
DTSTART:20231029T010000
END:STANDARD
END:VTIMEZONE
BEGIN:VEVENT
DTSTART;TZID=Europe/Bratislava:20230322T100000
DTEND;TZID=Europe/Bratislava:20230322T100000
DTSTAMP:20260419T225627
CREATED:20230307T083139Z
LAST-MODIFIED:20230307T083139Z
UID:447032-1679479200-1679479200@felvidek.ma
SUMMARY:Konferencia: Határmenti régiók – Ister-Granum térség együttműködésének lehetőségei
DESCRIPTION:A Széchenyi Társaság és a Szövetség a Közös Célokért közösen szervezi meg március 22-én\, szerdán 10.00 órai kezdettel a „Határmenti régiók” sorozat harmadik rendezvényére\, az Ister-Granum térség múltja\, jelene\, infrastruktúra fejlesztésének perspektívái /a határmenti együttműködések lehetőségei/ című konferenciáját az esztergomi Szent Adalbert Központban. \nA tervezett előadások két fő téma köré csoportosítva délelőtt és délután kerülnek megrendezésre: infrastrukturális lehetőségek fejlesztése\, a múlt-jelen-jövő áttekintése; a határ menti régiók gazdasági együttműködése. \nA konferencián a részvétel díjtalan\, de regisztrációhoz kötött. A regisztrált résztvevők részére a két előadási blokk között díjmentes ebédelési lehetőséget biztosítunk a Szent Adalbert Központ éttermében. \nAz előadások után\, a résztvevők fakultatív program keretén belül saját járműveikkel Helembára utaznak\, az új\, de még nem átadott hidat megtekinteni\, illetve egy pohár pezsgővel koccintva megünnepelni a konferencia és egyéb közös munka eredményét. \nRészvételi szándékát\, kérjük jelezze a következő űrlapon\, legkésőbb 2023. március 17-én\, 12 óráig: \n  \n  \n 
URL:https://felvidek.ma/event/konferencia-hatarmenti-regiok-ister-granum-terseg-egyuttmukodesenek-lehetosegei/
LOCATION:Szent Adalbert Központ\, Esztergom\, Magyarország
CATEGORIES:Esemény
ATTACH;FMTTYPE=image/jpeg:https://felvidek.ma/wp-content/uploads/2023/03/„Hatarmenti-regiok-az-Ister-Granum-terseg-egyuttmukodesenek-lehetosegei.jpg
END:VEVENT
END:VCALENDAR