BEGIN:VCALENDAR
VERSION:2.0
PRODID:-//Felvidék.ma - ECPv6.3.4//NONSGML v1.0//EN
CALSCALE:GREGORIAN
METHOD:PUBLISH
X-WR-CALNAME:Felvidék.ma
X-ORIGINAL-URL:https://felvidek.ma
X-WR-CALDESC:Events for Felvidék.ma
REFRESH-INTERVAL;VALUE=DURATION:PT1H
X-Robots-Tag:noindex
X-PUBLISHED-TTL:PT1H
BEGIN:VTIMEZONE
TZID:Europe/Bratislava
BEGIN:DAYLIGHT
TZOFFSETFROM:+0100
TZOFFSETTO:+0200
TZNAME:CEST
DTSTART:20210328T010000
END:DAYLIGHT
BEGIN:STANDARD
TZOFFSETFROM:+0200
TZOFFSETTO:+0100
TZNAME:CET
DTSTART:20211031T010000
END:STANDARD
BEGIN:DAYLIGHT
TZOFFSETFROM:+0100
TZOFFSETTO:+0200
TZNAME:CEST
DTSTART:20220327T010000
END:DAYLIGHT
BEGIN:STANDARD
TZOFFSETFROM:+0200
TZOFFSETTO:+0100
TZNAME:CET
DTSTART:20221030T010000
END:STANDARD
BEGIN:DAYLIGHT
TZOFFSETFROM:+0100
TZOFFSETTO:+0200
TZNAME:CEST
DTSTART:20230326T010000
END:DAYLIGHT
BEGIN:STANDARD
TZOFFSETFROM:+0200
TZOFFSETTO:+0100
TZNAME:CET
DTSTART:20231029T010000
END:STANDARD
END:VTIMEZONE
BEGIN:VEVENT
DTSTART;TZID=Europe/Bratislava:20231123T163000
DTEND;TZID=Europe/Bratislava:20231123T163000
DTSTAMP:20260423T215306
CREATED:20231110T172905Z
LAST-MODIFIED:20231110T172905Z
UID:485853-1700757000-1700757000@felvidek.ma
SUMMARY:Dankó Rádió utazó koncertsorozata Rimaszombatban
DESCRIPTION:A Dankó Rádió utazó koncertsorozata\, a Dankó Klub november 23-án a Felvidékre érkezik. \nA rimaszombati kultúrházban Szász Kati és Egri József\, Nádas György\, valamint a műsor háziasszonya\, Budai Beatrix lép fel Tordai Zoltán és zenekara kíséretével. \nEzen a koncerten derül fény arra is\, hogy a Dankó Rádió hallgatóinak szavazatai alapján melyik szerzemény lett Az év magyarnótája 2023-ban. \nA belépés szokás szerint ingyenes\, de a férőhelyek korlátozott száma miatt regisztrációhoz kötött. Regisztrálni e-mailben lehet: dankoradio@mtva.hu
URL:https://felvidek.ma/event/danko-radio-utazo-koncertsorozata-rimaszombatban/
CATEGORIES:Esemény
ATTACH;FMTTYPE=image/jpeg:https://felvidek.ma/wp-content/uploads/2023/11/nov23_danko.jpg
END:VEVENT
BEGIN:VEVENT
DTSTART;VALUE=DATE:20230711
DTEND;VALUE=DATE:20230805
DTSTAMP:20260423T215306
CREATED:20230711T153855Z
LAST-MODIFIED:20230711T153855Z
UID:467068-1689033600-1691193599@felvidek.ma
SUMMARY:Nagy lehetőség a pályakezdőknek a közmédia tehetséggondozó programja
DESCRIPTION:A jövő televíziós és rádiós szakembereit keresi a közmédia. Magyarország legnagyobb és legmodernebb eszközparkkal rendelkező médiavállalata augusztus 4-ig várja az egyetemisták és friss diplomások jelentkezését. A korábbi évek tapasztalatairól mentorok és egy a képzésben résztvevő fiatal tehetség mesélt. \n A diploma előtt álló vagy friss diplomás média vagy médiatechnológia iránt érdeklődőknek kínál egyedülálló lehetőséget a Közszolgálati Médiaakadémia Alapítvány Tehetséggondozó Programja. A közmédia célja\, hogy a  gyakorlatban mutassa meg a szakma fortélyait a jelentkezőknek\, hiszen így válhatnak igazán jó szakemberekké. A csatlakozásra az egyik mentor\, valamint egy egykori mentorált biztatta a jelentkezés előtt állókat. \n„Tantermi órák helyett gyakorlatorientált tehetséggondozó programot kínálunk a növendékeknek. A jelentkezők szinte azonnal belekerülnek a szerkesztőség vérkeringésébe\, betekintést nyernek a napi munkafolyamatokba\, és a legtehetségesebbeknek\, a program lezárultával akár munkalehetőséget is kínálhat az MTVA” – mondta el a Petőfi Rádió Paletta című műsorában az egyik mentor\, Németi Noémi. Az M1 csatorna munkatársa hozzátette\, a program három hónapig tart\, és minden hónap végén a mentor értékelése alapján folytathatja a résztvevő. A program időtartama további három hónappal meghosszabbítható\, amennyiben a mentor ajánlja. Az M1 szerkesztőségének egyik jelenlegi munkatársa\, Fidel Fanni is a képzés elvégzése után nyert felvételt. \n„Jelenleg televíziós műsorkészítést tanulok\, még egy évem van hátra a képzésből. Bár elérhetetlen álomnak tűnt\, hogy kezdőként bekerülhetek az MTVA-hoz\, de mégis megpróbáltam\, azonnal jelentkeztem. Végül sikerült\, és már fel is vettek\, főállásban vagyok” – mesélt sikereiről a közmédia ifjú tehetsége. \nA tartalomkészítői mellett a produkciós területre is várják a jelentkezőket\, az adáslebonyolításon keresztül a hangvágó\, a képmérnök\, a rendező\, a rendezőasszisztens pozíció is kitanulható\, emellett a gyártási területre és gyártásvezetői asszisztensi munkába is betekintést nyerhetnek a jelentkezők. \nA program további erőssége\, hogy a növendékek az általuk preferált tévé- vagy rádiócsatornát is megjelölhetik a képzés idejére. A beérkező jelentkezésekhez ezért is fontos részletes motivációs levelet csatolni – javasolta Merkl László\, az M5 kulturális csatorna vezető szerkesztője a Duna Nyár 23 című magazinműsorának vendégeként\, aki szintén mentorként segíti a fiatalokat. \nA szakmai pályájukat egy professzionális médiaszakmai szervezetnél elképzelők augusztus 4-ig adhatják le pályázataikat a jelentkezes@mtva.hu e-mail címen\, bővebb információ a media-akademia.hu oldalon található. A program szeptember 18-án kezdődik.
URL:https://felvidek.ma/event/nagy-lehetoseg-a-palyakezdoknek-a-kozmedia-tehetseggondozo-programja/
CATEGORIES:Pályázat
ATTACH;FMTTYPE=image/png:https://felvidek.ma/wp-content/uploads/2023/07/image005.png
END:VEVENT
BEGIN:VEVENT
DTSTART;TZID=Europe/Bratislava:20230217T080000
DTEND;TZID=Europe/Bratislava:20230531T160000
DTSTAMP:20260423T215306
CREATED:20230217T090234Z
LAST-MODIFIED:20230217T090246Z
UID:444412-1676620800-1685548800@felvidek.ma
SUMMARY:Petőfi 200 – Gyermekkari kórusművekre írt ki pályázatot a Bartók Rádió
DESCRIPTION:1. A pályázat célja: \n\n\nPetőfi Sándor születésének 200. évfordulója alkalmából az MTVA Bartók Rádió Csatornaigazgatóság pályázatot hirdet magyar és határon túli magyar zeneszerzők számára gyermekkari művek komponálására.\n\n\n2. Kritériumok: \nA pályaművet Petőfi Sándor verseinek\, versrészleteinek felhasználásával kell megalkotni a Magyar Rádió Gyermekkórusa számára dedikálva. A kórus tervezett létszáma maximum 75 fő. \nBármely Petőfi Sándor-vers felhasználása megengedett\, amely témájában és megfogalmazásában illik a gyermekkari előadáshoz\, és gyermekkari bemutatásra alkalmas. Színpadi mozgás használata\, prózai megszólalás elfogadott. Hangbejátszást nem lehet alkalmazni. \nA pályamű időtartama: minimum 2 perc\, maximum 6 perc. \nA pályamű lehet a cappella előadású vagy zongorakísérettel előadandó kórusmű\, egyéb hangszer használata azonban nem megengedett\, kivéve a kórus tagjai által megszólaltatható kisebb hangszereké. \nTovábbi elvárások a pályaművel kapcsolatban: \n· a szerzőnek rendelkeznie kell a mű előadási jogaival\n· nem lehet már kiadott mű\n· nyilvános előadáson korábban nem szerepelhetett a pályamű\n· kereskedelmi forgalomban lévő hangfelvétel nincs a pályaműből\n· a pályamű kottaíró programmal készült \nEgy pályázó több zeneművel is pályázhat\, de csak egy díjat kaphat. \n3. A pályázat benyújtása: \nA pályaművek teljesen kidolgozott partitúráit 6 példányban kell eljuttatni az alábbi címre: \nMTVA Bartók Rádió Csatornaigazgatóság\, Petőfi zenemű pályázat\n1037 Budapest\, Kunigunda útja 64. \nA partitúrákat névtelenül kell benyújtani\, azonban elvárás egy tetszőleges jelige feltüntetése a borítón és az oldalakon. Ugyanezen jeligével ellátott\, zárt borítékban\, egy csomagban a partitúrákkal kell leadni a pályázó adatait\, elérhetőségeit. A versenyt követően minden lezárt\, jeligével ellátott boríték\, amelyhez kapcsolódó pályamű nem részesül díjazásban\, megsemmisítésre kerül. \nA hiányos vagy a kiírás feltételeinek nem megfelelő pályázatokat érvénytelennek kell tekinteni. \n4. A pályázat benyújtási határideje: 2023. május 31.\, 16.00 óra \n5. A zsűri tagjai: \nKovács Zoltán – Erkel Ferenc- és Bartók-Pásztory-díjas zeneszerző\,\naz MTVA Bartók Rádió Zenei Lektorátusának tagja\,\nOlsvay Endre – Erkel Ferenc-díjas zeneszerző\,\naz MTVA Bartók Rádió Zenei Lektorátusának tagja\,\nVajda Gergely – Bartók-Pásztory-díjas karmester\, zeneszerző\,\naz MTVA Bartók Rádió Zenei Lektorátusának tagja\,\nDinyés Soma – a Magyar Rádió Gyermekkórusának vezető karnagya\,\nWalter Judit – a Magyar Rádió Gyermekkórusának betanító karnagya \n6. A pályázat díjazása: \n1. díj – 500.000 Ft\n2. díj – 300.000 Ft\n3. díj – 200.000 Ft \nA zsűrinek jogában áll megosztott díjakat vagy különdíjakat adni.\nA győztes pályaműveket a Magyar Rádió Gyermekkórusa 2023 őszén\, a Petőfi-év keretében műsorra tűzi és a Bartók Rádió a későbbiekben stúdiófelvételt készít belőlük. Az ősbemutató hangverseny és egyben a díjátadó ünnepség helyszíne és időpontja: \n2023. december 17.\, 18.00 óra – Budapest\, Zeneakadémia\, nagyterem. \nAz ősbemutató hangversenyt a Bartók Rádió élőben közvetíti. \nA zsűri döntését követően az MTVA a díjazott alkotások listáját 2023. június 30-ig a www.mediaklikk.hu/bartok oldalon jelenteti meg. \nKérdéseket a Bartok_csatornaigazgato_info@mtva.hu e-mail címre lehet küldeni a pályázat kiírásával kapcsolatban.
URL:https://felvidek.ma/event/petofi-200-gyermekkari-korusmuvekre-irt-ki-palyazatot-a-bartok-radio/
CATEGORIES:Pályázat
ATTACH;FMTTYPE=image/jpeg:https://felvidek.ma/wp-content/uploads/2023/01/Petofi200-logo-positive-color-1500x1111-1.jpg
END:VEVENT
BEGIN:VEVENT
DTSTART;VALUE=DATE:20221201
DTEND;VALUE=DATE:20230114
DTSTAMP:20260423T215306
CREATED:20221201T130841Z
LAST-MODIFIED:20221201T130841Z
UID:433597-1669852800-1673654399@felvidek.ma
SUMMARY:Ismét várja a jelentkezőket A Dal
DESCRIPTION: Ismét várja a zenészek jelentkezését A Dal! A Duna élő show-ja jövőre is a nézőkkel együtt keresi az ország legjobb dalát és a közönségkedvenc produkció elnyeri „Az Év Dala 2023” címet. Hazánk egyedülálló dalversenyére január 13-ig lehet jelentkezni. \nHamarosan újra esélyt kaphat 40 új magyar dal arra\, hogy főműsoridőben bemutatkozzon az országnak a Duna képernyőjén. A Dal 2023 kiválasztottjaira izgalmas kihívás vár\, mivel a produkciókat élőben kell bemutatni\, és míg az elődöntőben a dalok akusztikus hangszerelésben mérettetnek meg\, a döntőben már szimfonikus feldolgozásban\, a Magyar Rádió Szimfonikus Zenekara kíséretében. A győztes dal előadója „Az Év Dala 2023” cím\, illetve a Petőfi Zenei Díj „Év dala 2023” elismerés mellett tízmillió forintot kap zenei produkciója fejlesztésére. A döntőbe jutott másik hét dal előadója szintén részesül zenei pályájára fordítható nyereményben. \nAz új magyar könnyűzenei művek megszületését és a teljes hazai zenei paletta színesítését szolgáló dalválasztó páratlan lehetőségeket nyújt az előadóknak. Pályázni egy legfeljebb háromperces magyar nyelvű dallal lehet\, amely még nem\, vagy legkorábban 2022. augusztus  20. után került kereskedelmi forgalomba\, médiafelületre (televízió\, rádió\, internet)\, illetve nem hangzott el nyilvános előadás keretében. A dalverseny ezúttal is nyitott mindenki számára\, és támogatja a műfaji sokszínűséget. A jelentkezés és a pályázati feltételek megtalálhatók az adal.hu oldalon\, amelyen keresztül 2023. január 13.\, péntek 22 óráig lehet jelentkezni az online jelentkezési lap kitöltésével és a szükséges mellékletek feltöltésével. \n Jelentkezési határidő: 2023. január 13.\, péntek 22 óráig az adal.hu oldalon. \n A Dal 2023 – tavasszal a Dunán!
URL:https://felvidek.ma/event/ismet-varja-a-jelentkezoket-a-dal/
CATEGORIES:Pályázat
ATTACH;FMTTYPE=image/jpeg:https://felvidek.ma/wp-content/uploads/2022/03/A-Dal-2022-donto_Olah-Ibolya_foto_MTI_Bruzak-Noemi-3.jpg
END:VEVENT
BEGIN:VEVENT
DTSTART;VALUE=DATE:20220405
DTEND;VALUE=DATE:20220412
DTSTAMP:20260423T215306
CREATED:20220405T114612Z
LAST-MODIFIED:20220405T114612Z
UID:396783-1649116800-1649721599@felvidek.ma
SUMMARY:Versfolyam kihívást indít az M5
DESCRIPTION:Az április 11-i magyar költészet napjához kapcsolódva ismét kulturális internetes aktivitásra hívja nézőit az M5 csatorna. A kihívás április 4-től él a közösségi médiában. \nMost bárki elmondhatja kedvenc versét a nagy közönségnek az M5 újonnan indított kihívásával. Az érdeklődők úgy csatlakozhatnak a közmédia kulturális csatornájának kezdeményezéshez\, hogy a közösségi oldalukra feltöltenek egy videót\, amelyben elszavalják kedvenc magyar versüket\, majd a bejegyzéshez használják a #m5tv és a #akulturaotthona hashtageket\, megjelölve azokat az ismerőseiket\, akiket szeretnének hozzáadni a kihíváshoz. \nÁprilis 11-ig érdemes követni a hashtageket is: a közmédia több műsorvezetője is csatlakozik a kihíváshoz\, elszavalják kedvenc verseiket és a videóban megosztják\, hogy miért pont azt a költeményt választották. Ezen a napon elindult a versfolyam: az M5 Facebook-oldalát a költészet napján ellepik a megosztott videók. A szavalók között mások mellett feltűnik majd Kautzky Armand\, a Duna Család-barát magazinjának műsorvezetője\, Csőre Gábor\, az M5 Librettó című műsorának műsorvezetője\, valamint Bősze Ádám\, a Bartók Rádió műsorvezetője. \n\nVersfolyam kihívás – április 4-11. között a közmédia arcaival a közösségi médiában!
URL:https://felvidek.ma/event/versfolyam-kihivast-indit-az-m5/
CATEGORIES:Pályázat
ATTACH;FMTTYPE=image/jpeg:https://felvidek.ma/wp-content/uploads/2021/09/07-Vers-is-elhangzott-a-megemlekezesen.jpg
END:VEVENT
BEGIN:VEVENT
DTSTART;TZID=Europe/Bratislava:20211009T194000
DTEND;TZID=Europe/Bratislava:20211009T194000
DTSTAMP:20260423T215306
CREATED:20210929T132427Z
LAST-MODIFIED:20210929T132427Z
UID:370534-1633808400-1633808400@felvidek.ma
SUMMARY:Sztárparádét ígér a legújabb magyar film\, az Ecc-pecc
DESCRIPTION:A színházi világ kulisszái mögé enged betekintést az Ecc-pecc című vígjáték\, amelyet a Thália színházban\, a társulat színészeivel forgattak idén januárban. Medveczky Balázs Ecc-pecc kimehetsz című színdarabjából készült filmben olyan színészek szerepelnek\, mint Pindroch Csaba\, Szervét Tibor és Csőre Gábor\, valamint Szabó Erika is\, aki szerepéről és a forgatás különlegességéről is árult el részleteket a Duna Televízió műsorában. \nOktóber 9-én 19:40-től láthatják a Duna Televízió nézői az Ecc-pecc című magyar filmet\, amelynek forgatókönyvét Medveczky Balázs\, Ecc-pecc kimehetsz című saját színdarabjából dolgozta át az író Sólyom Tamással. A film rendezője Madarász Isti\, aki idén januárjában tíz nap alatt forgatta le a produkciót a Thália színházban. A vígjáték szereplői azok a színészek\, akik a belvárosi teátrumban estéről estére szórakoztatják a közönséget. \n„Egy törtető színésznőt alakítok a darabban\, aki még a szerelmét is elárulja a siker érdekében” – mesélte szerepéről Szabó Erika a Család-barát stúdiójában. „Alapvetően a szórakoztatás a célja a filmnek\, ugyanakkor a színházi világ kulisszájába is betekinthet a néző. A történet szerint érkezik valaki az intézmény élére\, aki megpróbálja gazdaságilag rendbe tenni a színházat\, ám művészileg nem ért a rendezéshez. Pénzügyi szempontból nézve pedig a Rómeó és Júliát is el lehet játszani három szereplővel” – részletezte a színművész. \nSzabó Erika a forgatási napokat különösen élvezte. „A pandémia végén kezdtük dolgozni\, így egymás újrafelfedezése is volt ez a munka. Az egész társulat számára különleges volt a forgatás\, benne volt az eufórikus öröm is\, hogy ismét munkába állhatunk” – emlékezett vissza a színésznő. \nHogy milyen volt a közös munka Madarász Istivel\, arról is mesélt Szabó Erika a Család-barátban. A beszélgetés IDE kattintva újranézhető. \nA Duna Televízión látható Család-barát magazin hétköznaponként 10.25-től várja a nézőket a képernyők elé\, szombatonként 10.35-től pedig a hétköznapi adások legemlékezetesebb pillanataiból láthatnak válogatást az érdeklődők.
URL:https://felvidek.ma/event/sztarparadet-iger-a-legujabb-magyar-film-az-ecc-pecc/
CATEGORIES:Esemény
ATTACH;FMTTYPE=image/jpeg:https://felvidek.ma/wp-content/uploads/2021/07/20120724-mtva-logo-m1-landart-1.jpg
END:VEVENT
BEGIN:VEVENT
DTSTART;VALUE=DATE:20210715
DTEND;VALUE=DATE:20210801
DTSTAMP:20260423T215306
CREATED:20210715T115241Z
LAST-MODIFIED:20210715T115241Z
UID:359700-1626307200-1627775999@felvidek.ma
SUMMARY:Szerkesztő-riporter gyakornokokat keres a közmédia
DESCRIPTION:A közmédia idén is elindítja tehetséggondozó programját\, amelynek célja a fiatal utánpótlás kinevelése a tartalmi és a produkciós területre. A NYÁR 21 legutóbbi adásában Apró Georgina\, a Közszolgálati Médiaakadémia Alapítvány ügyvezető igazgatója\, Medveczky Balázs\, a Duna Televízió csatornaigazgatója\, valamint Bartha Tímea\, a közmédia egyik ifjú tehetsége beszéltek arról\, miért érdemes jelentkezni a mentorprogramba. \nGyakorlatorientált képzésben\, közvetlenül az MTVA Kunigunda úti székházában ismerhetik meg a televíziózás és a rádiózás munkafolyamatait azok a fiatalok\, akik felvételt nyernek a közmédia háromhónapos tehetséggondozó programjába. A mentorprogram kiválasztottjai megismerkedhetnek a szerkesztői\, műsorvezetői\, vagy akár a felvételvezetői\, stúdió- és rendezőasszisztensi tevékenységekkel is. \nAz alapítványi támogatással megvalósuló\, egyéni kompetenciafejlesztés kiemelten a Duna Televízió\, az M2 Petőfi TV és a Petőfi Rádió\, valamint az M4 Sport csatorna szerkesztőségeiben történik\, de a mentoráltak betekintést nyerhetnek a hír-\, és a kulturális területek műsorkészítésébe is. A jelentkezés feltételeiről Apró Georgina\, a Közszolgálati Médiaakadémia Alapítvány ügyvezető igazgatója és Medveczky Balázs\, a Duna Televízió csatornaigazgatója számoltak be a Duna Televízió\, NYÁR 21 című műsorában. \n„Elsősorban szerkesztő-riporter gyakornokokat keresünk\, ide felsőfokú végzettségű jelentkezőket várunk\, de vannak olyan területek is\, ahova elegendők a befejezett középfokú tanulmányok. A jelentkezőkkel személyesen is elbeszélgetünk\, felmérjük kompetenciáikat és igyekszünk figyelembe venni\, hogy melyik csatornát részesítik előnyben személyes preferenciájuk alapján” – mondta el a közmédia nyári magazinműsorában Apró Georgina\, a Közszolgálati Médiaakadémia Alapítvány ügyvezető igazgatója. \n„A gyakornokok nálunk nem iskolapadban tanulnak\, hanem egy mentort kapnak maguk mellé\, akinek a segítségével elsajátíthatják a szakma fortélyait. Ha jól sikerül a háromhónapos program\, akkor a végén egy szerződést ajánlunk\, hogy folytathassuk a közös munkát” – tette hozzá Medveczky Balázs. \nAz MTVA alkotói csapatában jelenleg is több olyan kolléga dolgozik\, akik a mentorprogram elvégzése után nyertek felvételt valamelyik szerkesztőséghez. Bartha Tímea 2017-ben\, a Fölszállott a páva című műsor idején csatlakozott a Duna Televízió stábjához\, amire élete egyik legmeghatározóbb élményeként emlékszik vissza. \n„A programnak nemcsak az az erőssége\, hogy a gyakorlatra helyezi a fókuszt\, hanem hogy valóban figyelembe veszik a kollégák\, hogy milyen érdeklődésű a mentorált. Én célzottan a Fölszállott a páva című műsorba készültem\, akkor irányították a figyelmemet a tehetséggondozó programra. Ennek már négy éve\, azóta is a Duna Televíziónál dolgozom” – fogalmazott Bartha Tímea\, a csatorna szerkesztő-riportere. \nA közmédia tehetséggondozó programja térítésmentes\, önéletrajzzal és motivációs levéllel lehet leadni a jelentkezéseket a jelentkezes@mtva.hu e-mail címre július 31-ig. \nA közmédia megújult nyári magazinműsora\, a NYÁR 21 kibővített tartalommal Magyarország teljes turisztikai portfóliójából válogatva\, az élmények legjavával várja a Duna Televízió nézőit hétfőtől szombatig 10.00-12.00 óra között\, vasárnap pedig 6.50-től a heti adások legjobb pillanataival. \nA NYÁR 2021 aktuális adásai 60 napig visszanézhetők a Médiaklikken.
URL:https://felvidek.ma/event/szerkeszto-riporter-gyakornokokat-keres-a-kozmedia/
CATEGORIES:Pályázat
ATTACH;FMTTYPE=image/jpeg:https://felvidek.ma/wp-content/uploads/2021/07/20120724-mtva-logo-m1-landart-1.jpg
END:VEVENT
END:VCALENDAR