BEGIN:VCALENDAR
VERSION:2.0
PRODID:-//Felvidék.ma - ECPv6.3.4//NONSGML v1.0//EN
CALSCALE:GREGORIAN
METHOD:PUBLISH
X-WR-CALNAME:Felvidék.ma
X-ORIGINAL-URL:https://felvidek.ma
X-WR-CALDESC:Events for Felvidék.ma
REFRESH-INTERVAL;VALUE=DURATION:PT1H
X-Robots-Tag:noindex
X-PUBLISHED-TTL:PT1H
BEGIN:VTIMEZONE
TZID:Europe/Budapest
BEGIN:DAYLIGHT
TZOFFSETFROM:+0100
TZOFFSETTO:+0200
TZNAME:CEST
DTSTART:20250330T010000
END:DAYLIGHT
BEGIN:STANDARD
TZOFFSETFROM:+0200
TZOFFSETTO:+0100
TZNAME:CET
DTSTART:20251026T010000
END:STANDARD
END:VTIMEZONE
BEGIN:VEVENT
DTSTART;TZID=Europe/Budapest:20250617T080000
DTEND;TZID=Europe/Budapest:20250715T170000
DTSTAMP:20260423T132804
CREATED:20250617T085701Z
LAST-MODIFIED:20250617T095818Z
UID:573544-1750147200-1752598800@felvidek.ma
SUMMARY:„Tehetségközelben” – komplex tehetséggondozó programok támogatása
DESCRIPTION:A Kulturális és Innovációs Minisztérium (a továbbiakban: Támogató) megbízásából a\nNemzeti Kulturális Támogatáskezelő (a továbbiakban: NKTK) a Nemzeti Tehetség\nProgram végrehajtásának 2025-2026. évi cselekvési programja alapján nyílt pályázatot\nhirdet a „Tehetségközelben” – komplex tehetséggondozó programok\ntámogatására. \nA Nemzeti Tehetség Program kiemelt területei közé tartozik a minden társadalmi réteg\nszámára nyitott és látható\, nyomon követhető tehetséggondozó rendszer biztosítása. \nA Nemzeti Tehetség Program 2025-2026. évi cselekvési programjának I. 1.\npontja alapján a Program támogatási területei közé tartoznak a magyarországi és határon túli\ntehetséggondozó programok. \n1. A pályázat célja\n1.1. Olyan komplex programok megvalósítása\, amelyek célja a magas színvonalú\ntehetséggondozó és mentori szolgáltatás\, továbbá az egyenlő hozzáférés biztosítása\,\nlehetőség szerint több intézmény tehetséges fiataljainak együttes részvételével. \n2. Rendelkezésre álló keretösszeg\n2.1. A pályázatok támogatására rendelkezésre álló keretösszeg 1 000 000 000 Ft\, azaz\nEgymilliárd forint\, a Magyarország 2025. évi központi költségvetéséről szóló 2024.\névi XC. törvény 1. melléklete\, XX. Kulturális és Innovációs Minisztérium fejezet\,\n20/9/1 Nemzeti Tehetség Program fejezeti előirányzat (ÁHT: 282178) terhére. \n3. A támogatás formája és mértéke\n3.1. A pályázat útján igényelhető támogatás 100% intenzitású\, vissza nem térítendő\ntámogatás\, 100%-os mértékű támogatási előleg formájában.\n3.2. A pályázathoz saját forrás biztosítása nem kötelező.\n3.3. A pályázaton legalább 2 000 000 Ft\, illetve legfeljebb 5 000 000 Ft vissza nem\ntérítendő támogatás igényelhető. \nBenyújtási határidő: 2025. július 15. \n\n\n Letölthető:\nPályázati kiírás és útmutató\nMunkaterv\nNyilatkozat adatok változatlanságáról\n\n\n\n\n Linkek:\nA programról\nÜgyfélszolgálat\nKommunikációs útmutató\n\n\n  \nNégymilliárd forintos keretösszeggel indult a Nemzeti Tehetség Program
URL:https://felvidek.ma/event/tehetsegkozelben-komplex-tehetseggondozo-programok-tamogatasa/
CATEGORIES:Pályázat
ATTACH;FMTTYPE=image/jpeg:https://felvidek.ma/wp-content/uploads/2025/06/palyazat_tehetseggondozo.jpg
END:VEVENT
BEGIN:VEVENT
DTSTART;TZID=Europe/Budapest:20250617T080000
DTEND;TZID=Europe/Budapest:20250715T170000
DTSTAMP:20260423T132804
CREATED:20250617T085304Z
LAST-MODIFIED:20250617T095806Z
UID:573540-1750147200-1752598800@felvidek.ma
SUMMARY:Szakkollégiumok tehetséggondozó programjainak támogatása
DESCRIPTION:A Kulturális és Innovációs Minisztérium (a továbbiakban: Támogató) megbízásából a\nNemzeti Kulturális Támogatáskezelő (a továbbiakban: NKTK) a Nemzeti Tehetség\nProgram végrehajtásának 2025-2026. évi cselekvési programja alapján nyílt pályázatot\nhirdet a szakkollégiumok tehetséggondozó programjainak támogatására. \nA Nemzeti Tehetség Program kiemelt területei közé tartozik a minden társadalmi réteg\nszámára nyitott és látható\, nyomon követhető tehetséggondozó rendszer biztosítása. \nA Nemzeti Tehetség Program 2025-2026. évi cselekvési programjának I. 1.\npontja alapján a Program támogatási területei közé tartoznak a hazai és határon túli\ntehetséggondozó programok. \n1. A pályázat célja\n1.1. A hazai és határon túli magyar nyelvű szakkollégiumok támogatása. \n2. Rendelkezésre álló keretösszeg\n2.1. A pályázatok támogatására rendelkezésre álló keretösszeg 150 000 000 Ft\, azaz\nSzázötvenmillió forint\, a Magyarország 2025. évi központi költségvetéséről szóló\n2024. évi XC. törvény 1. melléklete\, XX. Kulturális és Innovációs Minisztérium fejezet\,\n20/9/1 Nemzeti Tehetség Program fejezeti előirányzat (ÁHT: 282178) terhére. \n3. A támogatás formája és mértéke\n3.1. A pályázat útján igényelhető támogatás 100% intenzitású\, vissza nem térítendő\ntámogatás\, 100%-os mértékű támogatási előleg formájában. \n3.2. A pályázathoz saját forrás biztosítása nem kötelező.\n3.3. A pályázaton legalább 2 000 000 Ft\, illetve legfeljebb 4 000 000 Ft vissza nem\ntérítendő támogatás igényelhető. \nBenyújtási határidő: 2025. július 15. \n\n\n Letölthető:\nPályázati kiírás és útmutató\nMunkaterv\nNyilatkozat adatok változatlanságáról\n\n\n\n\n Linkek:\nA programról\nÜgyfélszolgálat\nKommunikációs útmutató\n\n\nhttps://felvidek.ma/2025/06/16/negymilliard-forintos-keretosszeggel-indult-a-nemzeti-tehetseg-program/
URL:https://felvidek.ma/event/szakkollegiumok-tehetseggondozo-programjainak-tamogatasa/
CATEGORIES:Pályázat
ATTACH;FMTTYPE=image/jpeg:https://felvidek.ma/wp-content/uploads/2025/06/palyazat_szakkollegium.jpg
END:VEVENT
BEGIN:VEVENT
DTSTART;TZID=Europe/Budapest:20250617T080000
DTEND;TZID=Europe/Budapest:20250715T170000
DTSTAMP:20260423T132804
CREATED:20250617T084532Z
LAST-MODIFIED:20250617T095756Z
UID:573536-1750147200-1752598800@felvidek.ma
SUMMARY:„STEM Akadémia” tehetséggondozó program
DESCRIPTION:A Kulturális és Innovációs Minisztérium (a továbbiakban: Támogató) megbízásából a\nNemzeti Kulturális Támogatáskezelő (a továbbiakban: NKTK) a Nemzeti Tehetség\nProgram végrehajtásának 2025-2026. évi cselekvési programja alapján nyílt pályázatot\nhirdet a „STEM Akadémia” tehetséggondozó program megvalósításának\ntámogatására. \nA Nemzeti Tehetség Program kiemelt területei közé tartozik a minden társadalmi réteg\nszámára nyitott és látható\, nyomon követhető tehetséggondozó rendszer biztosítása.\nA Nemzeti Tehetség Program 2025-2026. évi cselekvési programjának I. 1.\npontja alapján a Program támogatási területei közé tartoznak a hazai és határon túli\ntehetséggondozó programok.\n1. A pályázat célja\n1.1.Olyan komplex\, felmenő rendszerű – a középfokú oktatásban vagy szakképzés\nkeretében tanulmányokat folytató diákoknak szóló – tehetséggondozó program\nmegvalósítása\, amelynek célja\, hogy növekedjen a műszaki\, természettudományi\,\nmatematikai és informatikai (MTMI) területeken felsőfokú tanulmányokat választó\nhallgatók aránya.\n2. Rendelkezésre álló keretösszeg\n2.1. A pályázatok támogatására rendelkezésre álló keretösszeg 150 000 000 Ft\, azaz\nEgyszázötvenmillió forint: „A” komponens: 75 000 000 Ft\, „B” komponens:\n75 000 000 Ft\, a Magyarország 2025. évi központi költségvetéséről szóló 2024. évi\nXC. törvény 1. melléklete\, XX. Kulturális és Innovációs Minisztérium fejezet\, 20/9/1\nNemzeti Tehetség Program fejezeti előirányzat (ÁHT: 282178) terhére. \n3. A támogatás formája és mértéke\n3.1. A pályázat útján igényelhető támogatás 100% intenzitású\, vissza nem térítendő\ntámogatás\, 100%-os mértékű támogatási előleg formájában.\n3.2. A pályázathoz saját forrás biztosítása nem kötelező.\n3.3. A pályázaton legalább 10 000 000 Ft\, illetve legfeljebb 15 000 000 Ft vissza nem\ntérítendő támogatás igényelhető. \nBenyújtási határidő: 2025. július 15. \n\n\n Letölthető:\nPályázati kiírás és útmutató\nMunkaterv\nNyilatkozat adatok változatlanságáról\n\n\n\n\n Linkek:\nA programról\nÜgyfélszolgálat\nKommunikációs útmutató\n\n\n\n\nhttps://felvidek.ma/2025/06/16/negymilliard-forintos-keretosszeggel-indult-a-nemzeti-tehetseg-program/
URL:https://felvidek.ma/event/stem-akademia-tehetseggondozo-program/
CATEGORIES:Pályázat
ATTACH;FMTTYPE=image/jpeg:https://felvidek.ma/wp-content/uploads/2025/06/palyazat_akademia.jpg
END:VEVENT
BEGIN:VEVENT
DTSTART;TZID=Europe/Budapest:20250617T080000
DTEND;TZID=Europe/Budapest:20250715T170000
DTSTAMP:20260423T132804
CREATED:20250617T083926Z
LAST-MODIFIED:20250617T103859Z
UID:573533-1750147200-1752598800@felvidek.ma
SUMMARY:Tanulmányi és művészeti versenyek megrendezésének támogatására
DESCRIPTION:A Kulturális és Innovációs Minisztérium megbízásából a Nemzeti Kulturális Támogatáskezelő nyílt pályázatot hirdet a tanulmányi és művészeti versenyek megrendezésének támogatására. \nBenyújtási határidő: 2025. július 15. \n1. A pályázat célja\n1.1. Nagy hagyományú és szakmailag elismert magyarországi országos\, vagy magyarországi és kárpát-medencei meghirdetésű hagyományos és online tanulmányi és művészeti versenyek megrendezésének támogatása. \n2. Rendelkezésre álló keretösszeg\n2.1. A pályázatok támogatására rendelkezésre álló keretösszeg 150 000 000 Ft\, azaz\nEgyszázötvenmillió forint\, a Magyarország 2025. évi központi költségvetéséről\nszóló 2024. évi XC. törvény 1. melléklete\, XX. Kulturális és Innovációs Minisztérium\nfejezet\, 20/9/1 Nemzeti Tehetség Program fejezeti előirányzat (ÁHT: 282178)\nterhére \n3. A támogatás formája és mértéke\n3.1. A pályázat útján igényelhető támogatás 100% intenzitású\, vissza nem térítendő\ntámogatás\, 100%-os mértékű támogatási előleg formájában.\n3.2. A pályázathoz saját forrás biztosítása nem kötelező.\n3.3. A pályázaton legalább 2 000 000 Ft\, illetve legfeljebb 4 000 000 Ft vissza nem\ntérítendő támogatás igényelhető. \n4. Támogatható tevékenységek\n4.1. A 2025/2026. tanévben magyarországi\, vagy magyarországi és határon túli\,\nmagyar anyanyelvű köznevelési/szakképző intézményben tanulók számára\nmeghirdetett többfordulós országos\, vagy országos és Kárpát-medencei\nmeghirdetésű\, a Nemzeti alaptantervre\, valamint az érettségi vizsga általános és\nrészletes vizsgakövetelményeire épülő\, de azon túlmutató követelményeket magába\nfoglaló hagyományos és online tanulmányi\, vagy művészeti (zeneművészeti\,\nképző- és iparművészeti\, táncművészeti\, szín- és bábművészeti\, irodalmi)\, vagy\nszakmai versenyek megrendezésének támogatása..\nA pályázati kiírás keretében csak olyan verseny támogatható\, amelynek\ndöntője Magyarországon kerül megrendezésre.\nA pályázat kötelező programeleme:\n– a verseny döntőjében helyezést elérő versenyzők tárgyi díjazása. \n  \n\n\n Letölthető:\nPályázati kiírás és útmutató\nMunkaterv\nNyilatkozat adatok változatlanságáról\n\n\n\n\n Linkek:\nA programról\nÜgyfélszolgálat\nKommunikációs útmutató\n\n\n\n\n\n\nhttps://felvidek.ma/2025/06/16/negymilliard-forintos-keretosszeggel-indult-a-nemzeti-tehetseg-program/
URL:https://felvidek.ma/event/tanulmanyi-es-muveszeti-versenyek-megrendezesenek-tamogatasara/
CATEGORIES:Pályázat
ATTACH;FMTTYPE=image/jpeg:https://felvidek.ma/wp-content/uploads/2025/06/palyazat_tanulmanyi-versenyek.jpg
END:VEVENT
BEGIN:VEVENT
DTSTART;TZID=Europe/Budapest:20250617T080000
DTEND;TZID=Europe/Budapest:20250715T170000
DTSTAMP:20260423T132804
CREATED:20250617T083226Z
LAST-MODIFIED:20250617T095733Z
UID:573528-1750147200-1752598800@felvidek.ma
SUMMARY:Nemzet Fiatal Tehetségeiért Ösztöndíj
DESCRIPTION:A Kulturális és Innovációs Minisztérium (a továbbiakban: Támogató) megbízásából\na Nemzeti Kulturális Támogatáskezelő (a továbbiakban: NKTK) a Nemzeti Tehetség\nProgram végrehajtásának 2025-2026. évi cselekvési programja alapján nyílt\nösztöndíjpályázatot hirdet a Nemzet Fiatal Tehetségeinek támogatására. \nA Nemzeti Tehetség Program 2025-2026. évi cselekvési programjának I. 3.\npontja alapján a Program támogatási területei közé tartoznak az ösztöndíjprogramok. \n1. A pályázat célja\n1.1. A kiemelkedően tehetséges fiatalok egyedi fejlesztésének ösztönzése\nösztöndíj-támogatás formájában. \n2. Rendelkezésre álló keretösszeg\n2.1. A pályázatok támogatására rendelkezésre álló keretösszeg 500 000 000 Ft\, azaz\nÖtszázmillió forint a Magyarország 2025. évi központi költségvetéséről szóló 2024. évi\nXC. törvény 1. melléklete\, XX. Kulturális és Innovációs Minisztérium fejezet\, 20/9/1\nNemzeti Tehetség Program fejezeti előirányzat (ÁHT: 282178) terhére. \nBenyújtási határidő: 2025. július 15. \n\n\n Letölthető:\nPályázati kiírás és útmutató\n\n\n\n  \nNégymilliárd forintos keretösszeggel indult a Nemzeti Tehetség Program \n \n 
URL:https://felvidek.ma/event/nemzet-fiatal-tehetsegeiert-osztondij/
CATEGORIES:Pályázat
ATTACH;FMTTYPE=image/jpeg:https://felvidek.ma/wp-content/uploads/2025/06/palyazat_fiatalok.jpg
END:VEVENT
BEGIN:VEVENT
DTSTART;TZID=Europe/Budapest:20250617T080000
DTEND;TZID=Europe/Budapest:20250630T170000
DTSTAMP:20260423T132804
CREATED:20250617T092431Z
LAST-MODIFIED:20250617T095721Z
UID:573555-1750147200-1751302800@felvidek.ma
SUMMARY:A tehetségsegítő szervezetek működésének támogatása
DESCRIPTION:A Kulturális és Innovációs Minisztérium (a továbbiakban: Támogató) megbízásából a\nNemzeti Kulturális Támogatáskezelő (a továbbiakban: NKTK) a Nemzeti Tehetség\nProgram végrehajtásának 2025-2026. évi cselekvési programja alapján meghívásos\npályázatot hirdet a Magyaországi és határon túli tehetségsegítő szervezetek működésének\ntámogatására. \nA Nemzeti Tehetség Program kiemelt területei közé tartozik a hazai\, a hazai nemzetiségi\nés a határon túli magyar tehetségfejlesztő közösségek segítése\, tudományos\ntájékozottságuk bővítése.\nA Nemzeti Tehetség Program 2025-2026. évi cselekvési programjának II. 2.\npontja alapján a Program támogatási területei közé tartozik a hazai és határon túli\ntehetségsegítő szervezetek működésének támogatása.\n1. A pályázat célja\n1.1.Hazai és határon túli tehetségsegítő szervezetek működésének támogatása.\n2. Rendelkezésre álló keretösszeg\n2.1. A pályázatok támogatására rendelkezésre álló keretösszeg 981 000 000 Ft\, azaz\nKilencszáznyolcvanegymillió forint\, a Magyarország 2025. évi központi\nköltségvetéséről szóló 2024. évi XC. törvény 1. melléklete\, XX. Kulturális és\nInnovációs Minisztérium fejezet\, 20/9/1 Nemzeti Tehetség Program fejezeti\nelőirányzat (ÁHT: 282178) terhére. \n3. A támogatás formája és mértéke\n3.1. A pályázat útján igényelhető támogatás 100% intenzitású\, vissza nem térítendő\ntámogatás\, 100%-os mértékű támogatási előleg formájában.\n3.2. A pályázathoz saját forrás biztosítása nem kötelező.\n3.3. A pályázaton az alábbi szervezetek igényelhetnek vissza nem térítendő\ntámogatást:\n„A” komponens:\n Nemzeti Tehetség Központ Közhasznú Nonprofit Kft.\, Budapest (105 000 000 Ft)\n„B” komponens:\n Nemzeti Tehetség Központ Közhasznú Nonprofit Kft.\, Budapest (490 000 000 Ft)\n„C” komponens:\n Magyar Tehetségsegítő Szervezetek Szövetsége\, Budapest (132 000 000 Ft)\n„D” komponens:\n Oktatási Hivatal\, Budapest (58 000 000 Ft)\n„E” komponens:\n Oktatási Hivatal\, Budapest (20 000 000 Ft)\n„F” komponens:\n TDK-ért Közhasznú Alapítvány\, Miskolc (20 000 000 Ft)\n„G” komponens:\n Kutató Diákokért Alapítvány\, Budapest (10 000 000 Ft)\n„H” komponens:\n Nők a Tudományban Egyesület\, Budapest (10 000 000 Ft)\n„I” komponens:\n Erdélyi Tehetségsegítő Tanács\, Kolozsvár (8 000 000 Ft)\n Kárpátaljai Tehetségsegítő Tanács\, Beregszász (8 000 000 Ft)\n Mentor TT – Felvidéki Tehetségsegítő Tanács\, Galánta (8 000 000 Ft)\n Székelyföldi Tehetségsegítő Tanács\, Sepsiszentgyörgy (8 000 000 Ft)\n Vajdasági Tehetségsegítő Tanács\, Szabadka (8 000 000 Ft)\n„J” komponens:\n Future of Media Kft.\, Kazincbarcika (96 000 000 Ft) \nBenyújtási határidő: 2025. június 30. \n\n\n Letölthető:\nPályázati kiírás és útmutató\nMunkaterv\nNyilatkozat adatok változatlanságáról\n\n\n\n\n Linkek:\nA programról\nÜgyfélszolgálat\nKommunikációs útmutató\n\n\n  \nNégymilliárd forintos keretösszeggel indult a Nemzeti Tehetség Program
URL:https://felvidek.ma/event/a-tehetsegsegito-szervezetek-mukodesenek-tamogatasa/
CATEGORIES:Pályázat
ATTACH;FMTTYPE=image/jpeg:https://felvidek.ma/wp-content/uploads/2025/06/palyazat_tehetsegsegitok.jpg
END:VEVENT
BEGIN:VEVENT
DTSTART;TZID=Europe/Budapest:20250617T080000
DTEND;TZID=Europe/Budapest:20250630T170000
DTSTAMP:20260423T132804
CREATED:20250617T091757Z
LAST-MODIFIED:20250617T095708Z
UID:573552-1750147200-1751302800@felvidek.ma
SUMMARY:A határon túli Tudományos Diákköri műhelyek és rendezvényeik támogatása
DESCRIPTION:A Kulturális és Innovációs Minisztérium (a továbbiakban: Támogató) megbízásából a\nNemzeti Kulturális Támogatáskezelő (a továbbiakban: NKTK) a Nemzeti Tehetség\nProgram végrehajtásának 2025-2026. évi cselekvési programja alapján meghívásos\npályázatot hirdet a határon túli Tudományos Diákköri műhelyek és rendezvényeik\ntámogatására. \nA Nemzeti Tehetség Program kiemelt területei közé tartozik a nagy hagyományú és\nszakmailag elismert tanulmányi\, művészeti és sportversenyek támogatása.\nA Nemzeti Tehetség Program 2025-2026. évi cselekvési programjának I. 2.\npontja alapján a Program támogatási területei közé tartozik hazai és nemzetközi\nversenyeken\, konferenciákon való részvétel\, valamint magyarországi versenyek megrendezésének támogatása. \n1. A pályázat célja\n1.1. A határon túli Tudományos Diákköri műhelyek és rendezvényeik támogatása.\n2. Rendelkezésre álló keretösszeg\n2.1. A pályázatok támogatására rendelkezésre álló keretösszeg 25 000 000 Ft\, azaz\nHuszonötmillió forint\, a Magyarország 2025. évi központi költségvetéséről szóló\n2024. évi XC. törvény 1. melléklete\, XX. Kulturális és Innovációs Minisztérium fejezet\,\n20/9/1 Nemzeti Tehetség Program fejezeti előirányzat (ÁHT: 282178) terhére.\n3. A támogatás formája és mértéke\n3.1. A pályázat útján igényelhető támogatás 100% intenzitású\, vissza nem térítendő\ntámogatás\, 100%-os mértékű támogatási előleg formájában. \n3.2. A pályázathoz saját forrás biztosítása nem kötelező.\n3.3. A pályázaton az alábbi szervezetek igényelhetnek vissza nem térítendő\ntámogatást:\n II. Rákóczi Ferenc Kárpátaljai Magyar Főiskola – Felnőttképzési Központ\,\nBeregszász (5 000 000 Ft)\n Babeş-Bolyai Tudományegyetem\, Kolozsvár (5 000 000 Ft)\n Jedlik Ányos Polgári Társulás\, Nyitra (5 000 000 Ft)\n Sapientia Erdélyi Magyar Tudományegyetem\, Kolozsvár (5 000 000 Ft)\n Vajdasági Magyar Felsőoktatási Kollégium\, Újvidék (5 000 000 Ft) \n  \nBenyújtási határidő: 2025. június 30. \n\n\n Letölthető:\nPályázati kiírás és útmutató\nMunkaterv\nNyilatkozat adatok változatlanságáról\n\n\n\n\n Linkek:\nA programról\nÜgyfélszolgálat\nKommunikációs útmutató\n\n\n\nNégymilliárd forintos keretösszeggel indult a Nemzeti Tehetség Program
URL:https://felvidek.ma/event/a-hataron-tuli-tudomanyos-diakkori-muhelyek-es-rendezvenyeik-tamogatasa/
CATEGORIES:Pályázat
ATTACH;FMTTYPE=image/jpeg:https://felvidek.ma/wp-content/uploads/2025/06/palyazat_diakkori-muhelyek.jpg
END:VEVENT
BEGIN:VEVENT
DTSTART;TZID=Europe/Budapest:20250617T080000
DTEND;TZID=Europe/Budapest:20250630T170000
DTSTAMP:20260423T132804
CREATED:20250617T091400Z
LAST-MODIFIED:20250617T095657Z
UID:573548-1750147200-1751302800@felvidek.ma
SUMMARY:A határon túli tehetséges magyar tanulók támogatása
DESCRIPTION:A Kulturális és Innovációs Minisztérium (a továbbiakban: Támogató) megbízásából a\nNemzeti Kulturális Támogatáskezelő (a továbbiakban: NKTK) a Nemzeti Tehetség\nProgram végrehajtásának 2025-2026. évi cselekvési programja alapján meghívásos\npályázatot hirdet a határon túli tehetséges magyar tanulók támogatására. \nA Nemzeti Tehetség Program kiemelt területei közé tartozik a kiemelkedően tehetséges\nfiatalok megtalálása.\nA Nemzeti Tehetség Program 2025-2026. évi cselekvési programjának I. 3.\npontja alapján a Program támogatási területei közé tartoznak az ösztöndíjprogramok.\n1. A pályázat célja\n1.1. A 2025/2026. tanévre pénzügyi segítség nyújtása a határon túli magyar nyelvű\nközoktatásban részt vevő\, kiemelkedően tehetséges\, 6–12. (Szlovákiában 6-13.)\névfolyamon (alapfokú iskolában vagy középiskolában) tanuló\, szociálisan hátrányos\nhelyzetű tanulók számára.\n2. Rendelkezésre álló keretösszeg\n2.1. A pályázatok támogatására rendelkezésre álló keretösszeg 49 900 000 Ft\, azaz\nNegyvenkilencmillió-kilencszázezer forint\, a Magyarország 2025. évi központi\nköltségvetéséről szóló 2024. évi XC. törvény 1. melléklete\, XX. Kulturális és\nInnovációs Minisztérium fejezet\, 20/9/1 Nemzeti Tehetség Program fejezeti\nelőirányzat (ÁHT: 282178) terhére. \n3. A támogatás formája és mértéke\n3.1. A pályázat útján igényelhető támogatás 100% intenzitású\, vissza nem térítendő\ntámogatás\, 100%-os mértékű támogatási előleg formájában. \n3.2. A pályázathoz saját forrás biztosítása nem kötelező.\n3.3. A pályázaton az alábbi szervezetek igényelhetnek vissza nem térítendő támogatást:\n Erdélyi Tehetségsegítő Tanács\, Kolozsvár (14 150 000 Ft)\n(ebből a pályázat lebonyolításának költségeire fordítható: 1 100 000 Ft)\n „Genius” Jótékonysági Alapítvány\, Beregszász (4 200 000 Ft)\n(ebből a pályázat lebonyolításának költségeire fordítható: 600 000 Ft)\n Mentor Tehetségsegítő Tanács\, Galánta (5 450 000 Ft)\n(ebből a pályázat lebonyolításának költségeire fordítható: 650 000 Ft)\n Székelyföldi Tehetségsegítő Tanács\, Sepsiszentgyörgy (14 150 000 Ft)\n(ebből a pályázat lebonyolításának költségeire fordítható: 1 100 000 Ft)\n Szlovákiai Magyar Pedagógusok Szövetsége\, Komárom (5 450 000 Ft)\n(ebből a pályázat lebonyolításának költségeire fordítható: 650 000 Ft)\n Vajdasági Tehetségsegítő Tanács\, Szabadka (6 500 000 Ft)\n(ebből a pályázat lebonyolításának költségeire fordítható: 800 000 Ft)\nA tanulók által ösztöndíjként elnyerhető támogatás: 150 000 Ft-nak megfelelő\ndeviza/valuta/tanuló a 2025/2026. tanévre. \nBenyújtási határidő: 2025. június 30. \n\n\n Letölthető:\nPályázati kiírás és útmutató\nNyilatkozat adatok változatlanságáról\n\n\n\n\n Linkek:\nA programról\nÜgyfélszolgálat\nKommunikációs útmutató\n\n\n\nNégymilliárd forintos keretösszeggel indult a Nemzeti Tehetség Program \n \n 
URL:https://felvidek.ma/event/a-hataron-tuli-tehetseges-magyar-tanulok-tamogatasa/
CATEGORIES:Pályázat
ATTACH;FMTTYPE=image/jpeg:https://felvidek.ma/wp-content/uploads/2025/06/palyazat_meghivasos.jpg
END:VEVENT
END:VCALENDAR