BEGIN:VCALENDAR
VERSION:2.0
PRODID:-//Felvidék.ma - ECPv6.3.4//NONSGML v1.0//EN
CALSCALE:GREGORIAN
METHOD:PUBLISH
X-ORIGINAL-URL:https://felvidek.ma
X-WR-CALDESC:Events for Felvidék.ma
REFRESH-INTERVAL;VALUE=DURATION:PT1H
X-Robots-Tag:noindex
X-PUBLISHED-TTL:PT1H
BEGIN:VTIMEZONE
TZID:Europe/Bratislava
BEGIN:DAYLIGHT
TZOFFSETFROM:+0100
TZOFFSETTO:+0200
TZNAME:CEST
DTSTART:20230326T010000
END:DAYLIGHT
BEGIN:STANDARD
TZOFFSETFROM:+0200
TZOFFSETTO:+0100
TZNAME:CET
DTSTART:20231029T010000
END:STANDARD
END:VTIMEZONE
BEGIN:VEVENT
DTSTART;VALUE=DATE:20230720
DTEND;VALUE=DATE:20231001
DTSTAMP:20260421T084709
CREATED:20230720T102944Z
LAST-MODIFIED:20230720T103948Z
UID:468561-1689811200-1696118399@felvidek.ma
SUMMARY:NSKI Diplomamunka pályázat 2023 - felhívás
DESCRIPTION:A Nemzetstratégiai Kutatóintézet pályázatot hirdet alap- és mesterszakos felsőoktatási hallgatók részére\, nemzetstratégiai jellegű vagy jelentőségű témakörben készült kiemelkedő diplomamunkák jutalmazására. A diplomamunka pályázaton a 2022/2023-as tanévben megvédett diplomamunkákkal lehet pályázni\, amennyiben a diplomamunka értékelése átlagban legalább négyes (romániai osztályozás szerint legalább 8; szlovákiai rendszerben legalább 2). A pályázaton részt vehetnek a felhívásban felsorolt témakörökhöz kötődő szakokon tanuló hallgatók magyar vagy angol nyelvű diplomamunkáikkal. A beérkezett pályázatokat és diplomamunkákat a Nemzetstratégiai Kutatóintézet munkatársaiból és felkért anyaországi és külhoni szakértőkből álló Bírálóbizottság bírálja el. \nA beadott dolgozatok közül a kategóriánként legjobb három szerző pénzjutalomban részesül. \nA Diplomamunka pályázat keretében olyan diplomamunkákat várunk\, amelyek a Kárpát-medence térségére\, a külhonban és/vagy a diaszpórában (külföldön) élő magyarokkal foglalkoznak. Felhívásunk multidiszciplináris\, a diplomamunkák témaköre minden tudományterületre kiterjedhet\, valamint interdiszciplináris jellegű pályaműveket is várunk (a különösen releváns témaköröket a felhívásban lejjebb külön is kiemeljük). A pályamunkák földrajzi léptéke változatos lehet\, hiszen nemzetstratégiai jelentőségű vizsgálatok már akár lokális (települési)\, de akár teljes nagyrégiós (Kárpát-medencei vagy Közép-Európai) léptékben egyaránt elvégezhetők. \nA Diplomamunka pályázat célja\, hogy hozzájáruljon a Magyarországgal szomszédos országokban és a távolabbi diaszpórában élő külhoni magyar közösségek társadalmi-gazdasági és kulturális viszonyainak feltárásához\, valamint e külhoni közösségek Magyarországgal és egymással alkotott hálózatainak a feltérképezéséhez. Továbbá\, a pályázat a magyarság és más nemzetek közötti kapcsolatok megértését is szolgálja. Cél az is\, hogy azonosítani lehessen olyan újszerű\, tematikus és módszertani kutatási megközelítések\, amelyek gazdagítják a határon átnyúló magyar tudományosságot. \nTémakörök \nA Diplomamunka pályázatban az alábbi témakörökbe várjuk a hallgatók munkáit: \n\nKárpát-medencei és Kárpát-medencei magyar gazdaság\, fejlesztéspolitika\, pénzügyek\nMagyar nyelvhasználat és nyelvi jogok a Kárpát-medencében\nKisebbségi magyar nyelvű oktatás\nA kisebbségi jogok és a Kárpát-medencei magyarság\nEtnikumok és interetnikus kapcsolatok Kárpát-medencében\, néprajz és identitás\nA magyarság és Magyarország geopolitikai összefüggésekben\, valamint magyarok a világban\, a magyar diaszpóra\nKárpát-medencei társadalom\, hitélet\, közösségek\nA Kárpát-medencei magyarság tájai\, természetes és épített környezete\nA klímaváltozás és a Kárpát-medencei magyar közösségek\nA Kárpát-medencei magyarság innovációi (beleértve műszaki és természettudományos)\nA háborús konfliktus hatása a Kárpát-medencei magyar közösségekre\nA kultúra\, a hagyomány és az örökség szerepe a Kárpát-medencei magyar közösségek szervezésében\, szerveződésében\n\nA jelentkezés menete \nA beadni kívánt pályamunkákat a tudomanyospalyazat@nski.gov.hu email címre kell elküldeni. A tárgy mezőbe a ’Diplomamunka pályázat’ szöveget kérjük beírni! A dolgozat mellett el kell küldeni a felhívás mellékleteként csatolt jelentkezési lapot\, egy bővített absztraktot\, valamint egy témavezetői ajánlást vagy más oktatói ajánlást arról a szakról\, ahol a dolgozat készült. A pályamunkát kizárólag elektronikus formában lehet benyújtani\, nyomtatott fizikai formában azt nem tudjuk befogadni. A késedelmesen beadott pályázat automatikusan kizárásra kerül. Az eredményről a pályázókat e-mailben értesítjük. \nJelentkezési határidő: 2023. szeptember 30. \nEredményhirdetés várható időpontja: 2023. október 31-ig. \nBeadandó mellékletek \n\nKitöltött és aláírt jelentkezési lap (szkennelve)\nDiplomamunka (PDF formátumban)\nA dolgozat absztraktja címmel\, minimum 1000\, maximum 2500 karakter terjedelemben\, PDF formátumban\nTémavezetői vagy oktatói ajánlás (aláírva\, szkennelve)\n\nJutalmak \nA három legjobbnak ítélt pályamunka szerzője alapszakon és mesterszakon egyaránt pénzjutalomban részesül. \nA külön jutalomban részesülő pályázók könyvcsomagot\, valamint a részvételt tanúsító igazolást kapnak. \nA nyertesek lehetőséget kapnak\, hogy pályaművük eredményeiből nyilvános szakmai előadást tartsanak a Nemzetstratégiai Kutatóintézet rendezvényén. A díjazott pályaművekből készített szakmai tanulmányokat az NSKI tudományos közlésként befogadja és publikálja. \nTovábbi információ az alábbi linken található: https://nski.hu/nski-diplomamunka-palyazat-2023.html?fbclid=IwAR1VgunnefPLkJyfIwxne23hI0mxMBECZ_SNlwEfYHdrVqVgL8K0Lmu-UUE
URL:https://felvidek.ma/event/nski-diplomamunka-palyazat-2023-felhivas/
CATEGORIES:Pályázat
ATTACH;FMTTYPE=image/jpeg:https://felvidek.ma/wp-content/uploads/2023/07/Facebook_Diplomamunka-palyazat-2023.jpg
END:VEVENT
END:VCALENDAR