BEGIN:VCALENDAR
VERSION:2.0
PRODID:-//Felvidék.ma - ECPv6.3.4//NONSGML v1.0//EN
CALSCALE:GREGORIAN
METHOD:PUBLISH
X-WR-CALNAME:Felvidék.ma
X-ORIGINAL-URL:https://felvidek.ma
X-WR-CALDESC:Events for Felvidék.ma
REFRESH-INTERVAL;VALUE=DURATION:PT1H
X-Robots-Tag:noindex
X-PUBLISHED-TTL:PT1H
BEGIN:VTIMEZONE
TZID:Europe/Budapest
BEGIN:DAYLIGHT
TZOFFSETFROM:+0100
TZOFFSETTO:+0200
TZNAME:CEST
DTSTART:20240331T010000
END:DAYLIGHT
BEGIN:STANDARD
TZOFFSETFROM:+0200
TZOFFSETTO:+0100
TZNAME:CET
DTSTART:20241027T010000
END:STANDARD
TZID:Europe/Bratislava
BEGIN:DAYLIGHT
TZOFFSETFROM:+0100
TZOFFSETTO:+0200
TZNAME:CEST
DTSTART:20210328T010000
END:DAYLIGHT
BEGIN:STANDARD
TZOFFSETFROM:+0200
TZOFFSETTO:+0100
TZNAME:CET
DTSTART:20211031T010000
END:STANDARD
BEGIN:DAYLIGHT
TZOFFSETFROM:+0100
TZOFFSETTO:+0200
TZNAME:CEST
DTSTART:20220327T010000
END:DAYLIGHT
BEGIN:STANDARD
TZOFFSETFROM:+0200
TZOFFSETTO:+0100
TZNAME:CET
DTSTART:20221030T010000
END:STANDARD
BEGIN:DAYLIGHT
TZOFFSETFROM:+0100
TZOFFSETTO:+0200
TZNAME:CEST
DTSTART:20230326T010000
END:DAYLIGHT
BEGIN:STANDARD
TZOFFSETFROM:+0200
TZOFFSETTO:+0100
TZNAME:CET
DTSTART:20231029T010000
END:STANDARD
BEGIN:DAYLIGHT
TZOFFSETFROM:+0100
TZOFFSETTO:+0200
TZNAME:CEST
DTSTART:20240331T010000
END:DAYLIGHT
BEGIN:STANDARD
TZOFFSETFROM:+0200
TZOFFSETTO:+0100
TZNAME:CET
DTSTART:20241027T010000
END:STANDARD
END:VTIMEZONE
BEGIN:VEVENT
DTSTART;TZID=Europe/Budapest:20241008T161500
DTEND;TZID=Europe/Budapest:20241008T161500
DTSTAMP:20260421T041818
CREATED:20241002T130331Z
LAST-MODIFIED:20241002T130331Z
UID:531860-1728404100-1728404100@felvidek.ma
SUMMARY:Boldog Salkaházi Sára imakilenced 9. állomása
DESCRIPTION:A Pázmaneum Társulás és a Dunaszerdahelyi Római Katolikus Plébánia közösen szervezi meg október 8-án\, kedden 16.15 kezdettel a Boldog Salkaházi Sára imakilenced 9. állomását valamint a Pázmaneum Társulás megalakulásának 19. évfordulója alkalmából szervezett megemlékezést a dunaszerdahelyi Szent György-templomban.
URL:https://felvidek.ma/event/boldog-salkahazi-sara-imakilenced-9-allomasa/
LOCATION:Szent György-templom\, Dunaszerdahely\, Szlovákia
CATEGORIES:Esemény
ATTACH;FMTTYPE=image/jpeg:https://felvidek.ma/wp-content/uploads/2024/10/B-S-Sara-Imakilenced-Dsz.jpg
END:VEVENT
BEGIN:VEVENT
DTSTART;TZID=Europe/Bratislava:20240527T163000
DTEND;TZID=Europe/Bratislava:20240527T163000
DTSTAMP:20260421T041818
CREATED:20240522T071030Z
LAST-MODIFIED:20240522T071030Z
UID:513286-1716827400-1716827400@felvidek.ma
SUMMARY:Lengyel-Magyar Akadémia
DESCRIPTION:Lengyel–Magyar Akadémia címmel szervez Szent II. János Pál pápa és Boldog Jerzy Popieluszko ereklyéinek Dunaszerdahelyre érkezése alkalmából május 27-én\, hétfőn 16.30 kezdettel programot a Római Katolikus Egyház Dunaszerdahelyi Plébániája\, Dunaszerdahely Város Önkormányzata\, az MCC – Felvidék\, a Biró Márton polgári társulás és a Pázmaneum polgári társulás. \nA részletes program: \nNagyboldogasszony- és Szent György-templom \n16.30 P. Pawel Cebula OFM Conv. atya: Szent II. János Pál – Mária gyermeke\n16.45 Molnár Imre: Boldog Jerzy Popieluszko atya – A kiengesztelődés mártírja\n17.00 Szentmise. Főcelebráns és szónok: P. Pawel Cebula OFM Conv. atya \nVárosháza\, Makovecz-terem \n18:15 Több mint barátság… A szentek és boldogok vezetnek bennünket az élet zarándokútján – Gyöngyszemek az 1000 éves magyar–lengyel kapcsolat történetéből. \nBeszélgetés Pawel Cebula\, Molnár Imre és Bozay Krisztián részvételével. \nAz estet vezeti: Pomichal Krisztián. Zenei szolgálat: Ifj. Mezei Ernő.
URL:https://felvidek.ma/event/lengyel-magyar-akademia/
LOCATION:Több helyszín\, Dunaszerdahely\, Szlovákia
CATEGORIES:Esemény
ATTACH;FMTTYPE=image/jpeg:https://felvidek.ma/wp-content/uploads/2024/05/A3-as-plakatok-scaled.jpg
END:VEVENT
BEGIN:VEVENT
DTSTART;TZID=Europe/Bratislava:20231213T173000
DTEND;TZID=Europe/Bratislava:20231213T173000
DTSTAMP:20260421T041818
CREATED:20231201T104943Z
LAST-MODIFIED:20231201T104943Z
UID:489190-1702488600-1702488600@felvidek.ma
SUMMARY:A mi jelünk a kereszt – Esterházy János emlékest
DESCRIPTION:A Pázmaneum Társulás december 13-án\, szerdán 18.00 órai kezdettel szervezi meg a A mi jelünk a kereszt – Esterházy János emlékestet a dunaszerdahelyu Vermes-villában. \nProgram: \n17:30 Koszorúzás a Fő utcai Esterházy domborműnél\n18:00 Pawel Cebula OFM\, posztulátor és dr. Molnár Imre történész\, Esterházy-kutató előadása a Vermes-villában Isten szolgájának a boldoggá avatási eljárásól \nA polgári esten közreműködik Boráros Imre Kossuth-díjas színművész\, a Komáromi Jókai Színház örökös tagja. A rendezvényen megvásárolható lesz a 2024-es Regnum Marianum Kalendárium. Társszervezők: Csaplár Benedek Városi Művelődési Központ és\na Kortárs Magyar Galéria.
URL:https://felvidek.ma/event/a-mi-jelunk-a-kereszt-esterhazy-janos-emlekest/
LOCATION:Vermes-villa\, Dunaszerdahely\, Szlovákia
CATEGORIES:Esemény
ATTACH;FMTTYPE=image/jpeg:https://felvidek.ma/wp-content/uploads/2023/12/EJ2023-Flyer-A4.jpg
END:VEVENT
BEGIN:VEVENT
DTSTART;TZID=Europe/Bratislava:20230918T140000
DTEND;TZID=Europe/Bratislava:20230918T140000
DTSTAMP:20260421T041818
CREATED:20230830T103733Z
LAST-MODIFIED:20230830T103733Z
UID:474010-1695045600-1695045600@felvidek.ma
SUMMARY:Keresztény Európa
DESCRIPTION:A Pázmaneum Társulás szeptember 18-án\, hétfőn 14.00 órai kezdettel szervezi meg a Keresztény Európa – közéleti fórum Gál Kinga európai parlamenti képviselővel című rendezvényét a dunaszerdahelyi városháza tanácstermében. \nA fórum részletes programja a plakáton olvasható\, valamint letölthető ITT. 
URL:https://felvidek.ma/event/kereszteny-europa/
LOCATION:Városháza tanácsterme\, Dunaszerdahely\, Szlovákia
CATEGORIES:Esemény
ATTACH;FMTTYPE=image/png:https://felvidek.ma/wp-content/uploads/2023/08/01-2.png
END:VEVENT
BEGIN:VEVENT
DTSTART;TZID=Europe/Bratislava:20230228T103500
DTEND;TZID=Europe/Bratislava:20230228T103500
DTSTAMP:20260421T041818
CREATED:20230224T074958Z
LAST-MODIFIED:20230224T074958Z
UID:445543-1677580500-1677580500@felvidek.ma
SUMMARY:Megemlékezés a kommunizmus üldözöttjeiről
DESCRIPTION:A Pázmaneum Társulás február 28-án\, kedden 10.35 kezdettel szervezi meg dr. Farkas Zsolt előadását a kommunizmus üldözöttjeiről a dunaszerdahelyi Vámbéry Ármin Gimnáziumban.
URL:https://felvidek.ma/event/megemlekezes-a-kommunizmus-uldozottjeirol/
LOCATION:Vámbéry Ármin Gimnázium\, Dunaszerdahely\, Szlovákia
CATEGORIES:Esemény
ATTACH;FMTTYPE=image/jpeg:https://felvidek.ma/wp-content/uploads/2023/02/Kommunizmus-aldozatainak-emleknapja.jpg
END:VEVENT
BEGIN:VEVENT
DTSTART;TZID=Europe/Bratislava:20230209T133000
DTEND;TZID=Europe/Bratislava:20230209T133000
DTSTAMP:20260421T041818
CREATED:20230206T111307Z
LAST-MODIFIED:20230206T111307Z
UID:442666-1675949400-1675949400@felvidek.ma
SUMMARY:Mindszenty kiállítás Dunaszerdahelyen
DESCRIPTION:A Pázmaneum Társulás\, a Jópásztor Alapítvány és a Vámbéry Ármin Gimnázium szervezésében kerül sor az Életkapuk – interaktív kiállítás fiataloknak című tárlat megnyitójára 2023. február 9-én 13:30 órakor Dunaszerdahelyen\, a Vámbéry Ármin Gimnázium épületében.
URL:https://felvidek.ma/event/mindszenty-kiallitas-dunaszerdahelyen/
CATEGORIES:Esemény
ATTACH;FMTTYPE=image/jpeg:https://felvidek.ma/wp-content/uploads/2023/02/Mindszenty-kiallitas-plakat-jpg.jpg
END:VEVENT
BEGIN:VEVENT
DTSTART;TZID=Europe/Bratislava:20221020T180000
DTEND;TZID=Europe/Bratislava:20221020T180000
DTSTAMP:20260421T041818
CREATED:20221011T092959Z
LAST-MODIFIED:20221011T092959Z
UID:425624-1666288800-1666288800@felvidek.ma
SUMMARY:Könyvbemutató: A mi Széchenyink
DESCRIPTION:A Pázmaneum Társulás és Csemadok Vámbéry Ármin Alapszervezete közösen szervezi meg október 20-án\, csütörtökön 18.00 órai kezdettel Tarics Péter A mi Széchenyink című kötetének a bemutatóját a dunaszerdahelyi Csemadok Házban.
URL:https://felvidek.ma/event/konyvbemutato-a-mi-szechenyink/
LOCATION:Csemadok ház\, Dunaszerdahely\, Szlovákia
CATEGORIES:Esemény
ATTACH;FMTTYPE=image/jpeg:https://felvidek.ma/wp-content/uploads/2022/10/311409919_8820084871342305_1236560079855588505_n.jpg
END:VEVENT
BEGIN:VEVENT
DTSTART;TZID=Europe/Bratislava:20210412T180000
DTEND;TZID=Europe/Bratislava:20210412T180000
DTSTAMP:20260421T041819
CREATED:20210408T084716Z
LAST-MODIFIED:20210410T100252Z
UID:344120-1618250400-1618250400@felvidek.ma
SUMMARY:Felvidékről kitelepített magyarok emléknapja - online megemlékezés
DESCRIPTION:A Pázmaneum Társulás a járványügyi helyzetből adódóan online megemlékezést tart április 12-én\, hétfőn 18.00 órai kezdettel a Felvidékről kitelepített magyarok emléknapja alkalmából. \n\nTörténelmi visszatekintést tart Berényi József\, Nagyszombat megye alelnöke. Közreműködik Vass Virág\, a Vámbéry Ármin Gimnázium diákja és Bíró Eszter\, a Kodály Zoltán Alapiskola tanulója.\n\n\nAz emlékműsor a Pázmaneum Társulás hivatalos youtube csatornáján\, illetve a Facebook oldalon\,  vaiamint a Felvidék.ma közösségi oldalán lesz látható.
URL:https://felvidek.ma/event/felvidekrol-kitelepitett-magyarok-emleknapja-online-megemlekezes/
CATEGORIES:Esemény
ATTACH;FMTTYPE=image/jpeg:https://felvidek.ma/wp-content/uploads/2021/04/image0.jpeg
END:VEVENT
BEGIN:VEVENT
DTSTART;TZID=Europe/Bratislava:20210308T180000
DTEND;TZID=Europe/Bratislava:20210308T180000
DTSTAMP:20260421T041819
CREATED:20210305T121218Z
LAST-MODIFIED:20210305T125149Z
UID:339324-1615226400-1615226400@felvidek.ma
SUMMARY:Út a végtelenbe - Isten szolgája\, Esterházy János
DESCRIPTION:Március 8-án\, hétfőn 18.00 órai kezdettel szervezik meg Út a végtelenbe – Isten szolgája\, Esterházy János című dokumentumfilm vetítését.  \nAz online vetítést megtekinthetik a Szövetség a Közös Célokért Facebook-oldalán
URL:https://felvidek.ma/event/ut-a-vegtelenbe-isten-szolgaja-esterhazy-janos/
CATEGORIES:Esemény,Kiemelt
ATTACH;FMTTYPE=image/png:https://felvidek.ma/wp-content/uploads/2021/03/EJ_FILM_kep.png
END:VEVENT
END:VCALENDAR