BEGIN:VCALENDAR
VERSION:2.0
PRODID:-//Felvidék.ma - ECPv6.3.4//NONSGML v1.0//EN
CALSCALE:GREGORIAN
METHOD:PUBLISH
X-WR-CALNAME:Felvidék.ma
X-ORIGINAL-URL:https://felvidek.ma
X-WR-CALDESC:Events for Felvidék.ma
REFRESH-INTERVAL;VALUE=DURATION:PT1H
X-Robots-Tag:noindex
X-PUBLISHED-TTL:PT1H
BEGIN:VTIMEZONE
TZID:Europe/Bratislava
BEGIN:DAYLIGHT
TZOFFSETFROM:+0100
TZOFFSETTO:+0200
TZNAME:CEST
DTSTART:20210328T010000
END:DAYLIGHT
BEGIN:STANDARD
TZOFFSETFROM:+0200
TZOFFSETTO:+0100
TZNAME:CET
DTSTART:20211031T010000
END:STANDARD
END:VTIMEZONE
BEGIN:VEVENT
DTSTART;TZID=Europe/Bratislava:20211016T100000
DTEND;TZID=Europe/Bratislava:20211016T100000
DTSTAMP:20260422T224944
CREATED:20211005T080331Z
LAST-MODIFIED:20211005T080331Z
UID:371337-1634378400-1634378400@felvidek.ma
SUMMARY:Filmvetítés az Urániában: Nem\, nem\, soha I-IV.
DESCRIPTION:A FILM TRIANON GYALÁZATÁNAK 100. ÉVFORDULÓJÁRA KÉSZÜLT\, ÁLLAMI TÁMOGATÁS NÉLKÜL. \nAz Angelus Bt. tisztelettel meghívja Önt JELENCZKI ISTVÁN NEM\, NEM\, SOHA I-IV. \n„ISTEN AZ IGAZ ÜGYET NEM HAGYJA EL ” \ncímű dokumentumfilmjének vetítésére az \nUránia Nemzeti Filmszínház dísztermébe\, \n2021 október 16-án délelőtt 10 órára. \n\n rész: Magyarország Archiregnum. 91 perc.\n\nszünet \n2. rész: Nemzetgyilkossági gyakorlat. 87 perc. \n  \nSzombaton a filmvetítés után a megjelent DVD-t dedikálják: \nBabucs Zoltán\, Csere Péter\, Domokos László\, Oberfrank Pál\, Popély Gyula\, \nRaffay Ernő\, Simon Péter\, Takács Bence\, Szidiropulosz Archimédesz\, Vincze Gábor\, és a film rendezője. \n2021 október 17-én délelőtt 10 órakor kerül vetítésre a \nIII. rész: Folyamatos Trianon. 98 perc. \nszünet \n4. rész: Magyar Feltámadás. 133 perc. \nVasárnap a filmvetítés után a megjelent DVD-t dedikálják: \nBabucs Zoltán\, Bagdy Emőke\, Csere Péter\, Domokos László\, Kőrösi András\, Popély Gyula\, Raffay Ernő\, Simon Péter\, Szidiropulosz Archimédesz\, Vincze Gábor\, és a film rendezője. \nJegyváltás mindkét napra szükséges\, elővételi lehetőség a filmszínház jegypénztárában és internetes híroldalán. \nhttps://urania-nf.hu/hu/film/nem-nem-soha-i-ii- \nhttps://urania-nf.hu/hu/film/nem-nem-soha-iii-iv- \n1088 Budapest\, Rákóczi út 21. Tel.: 486-3400\, 486-34-14. \nA filmet a Magyar Köztelevízió letiltotta!
URL:https://felvidek.ma/event/filmvetites-az-uraniaban-nem-nem-soha-i-iv/
CATEGORIES:Esemény
ATTACH;FMTTYPE=image/jpeg:https://felvidek.ma/wp-content/uploads/2017/06/23076_nem_nem_soha.jpg
END:VEVENT
BEGIN:VEVENT
DTSTART;TZID=Europe/Bratislava:20210909T150000
DTEND;TZID=Europe/Bratislava:20210909T150000
DTSTAMP:20260422T224944
CREATED:20210830T075614Z
LAST-MODIFIED:20210830T075614Z
UID:365550-1631199600-1631199600@felvidek.ma
SUMMARY:„Versailles 100 év távlatából” című előadás Sátoraljaújhelyen
DESCRIPTION:Meghívó \nA Széchenyi Társaság és a Szövetség a Közös Célokért \ntisztelettel meghívja az érdeklődőket \n„Versailles 100 év távlatából” című előadására \nKöszöntőt mond: Szamosvölgyi Péter\, polgármester \nElőadók: \ndr. Vizi László Tamás\, történész – \nEgy kétségbeesett küldetés. Az Apponyi Albert vezette delegáció Párizsban – 1920 \nDuray Miklós\, a SZAKC tiszteletbeli elnöke – \nA bukás szükségszerű volt-e vagy törvényszerű? \ndr. Ringer István\, régész\, muzeológus – \nSátoraljaújhely és Trianon \nZáró gondolatok: \nSzemereki Zoltán\, a Széchenyi Társaság elnöke \nKözreműködik a HANGÁSZNÉGYES valamint \na Petőfi Irodalmi Múzeum\, a Magyar Nyelv Múzeuma \nés a Kazinczy Ferenc Múzeum \nIdőpont: 2021. szeptember 9.  15:00 óra \nHelyszín: A Magyar Nyelv Múzeuma \n3988 Sátoraljaújhely\, Kazinczy u. 275.
URL:https://felvidek.ma/event/versailles-100-ev-tavlatabol-cimu-eloadas-satoraljaujhelyen/
CATEGORIES:Esemény
ATTACH;FMTTYPE=image/jpeg:https://felvidek.ma/wp-content/uploads/2021/08/Meghivo-Szechenyi-program_20210909_Satoraljaujhely-1.jpg
END:VEVENT
BEGIN:VEVENT
DTSTART;TZID=Europe/Bratislava:20210812T200000
DTEND;TZID=Europe/Bratislava:20210812T200000
DTSTAMP:20260422T224944
CREATED:20210806T073553Z
LAST-MODIFIED:20210812T070052Z
UID:362321-1628798400-1628798400@felvidek.ma
SUMMARY:Ismerős Arcok Gútán
DESCRIPTION:A tavaly elmaradt Trianon 100 turné után az idei évben emlékeznek meg a 101 évvel ezelőtti békediktátumról\, amely szétszakította a nemzetünket és alapjában változtatta meg a magyarság életét. Ebből az alkalomból az Ismerős Arcok együttes „Határon túlról\, szívektől innen…” címmel megemlékező estet szervez Gútán 2021. augusztus 12-én (csütörtök) 20.00 órakor a VMK-ban. \n\nA műsor jellemző gondolatai a hazaszeretet\, a kultúránk\, értékeink megóvása\, valamint a közösségben való létezés fontossága.\n\nAz est vendégei Simó József és Kemény Gábor lesznek\, aki válogatott versekkel és szemelvényekkel teszi még katartikusabbá a zenekar dalait. \nJegyár: 5 Euro\nJegyárusítás: 0905 525 546 \nJegyek augusztus 2-tól kaphatók a gútai VMK könyvtárában is (hétköznap 15:00-tól 17:00-ig) illetve online: https://jegy.rock1.hu/ismeros-arcok_guta_20210812oldalon\nA rendezvényeken való részvétel szabályát az aktuális kormányrendelet határozza meg. \nAz Ismerős Arcok zenekar a megalakulásától fogva kiemelt jelentőséget tulajdonít azoknak a történelmi eseményeknek\, amelyek meghatározó módon alakították a magyar nemzet sorsát\, létét a Kárpát-medencében.\nDalaikkal fontos küldetést teljesítenek\, hiszen feladatuknak tekintik a magyarságtudat ébrentartását\, értékeink hagyományaink megőrzését és továbbítását a következő generációk számára. Az idei évben emlékezünk meg a 100 évvel ezelőtti trianoni békediktátumról\, amely szétszakította a nemzetünket és alapjában változtatta meg a magyarság életét. Ebből az alkalomból  az Ismerős Arcok zenekar „Határon túlról szívektől innen…” címmel országos megemlékező koncerteket szervez\, erre az alkalomra összeállított műsorral. A műsor jellemző gondolatai a hazaszeretet\, a kultúránk\, értékeink tisztelete és megóvása\, valamint a trianoni döntés utáni magyar közösségben való létezés fontossága. Az est vendége Simó József előadóművész lesz\, aki válogatott versekkel és szemelvényekkel teszi még katartikusabbá a műsort.
URL:https://felvidek.ma/event/ismeros-arcok-gutan/
CATEGORIES:Esemény
ATTACH;FMTTYPE=image/jpeg:https://felvidek.ma/wp-content/uploads/2021/08/aug12_guta.jpg
END:VEVENT
BEGIN:VEVENT
DTSTART;TZID=Europe/Bratislava:20210709T170000
DTEND;TZID=Europe/Bratislava:20210709T170000
DTSTAMP:20260422T224944
CREATED:20210623T135247Z
LAST-MODIFIED:20210623T135247Z
UID:356404-1625850000-1625850000@felvidek.ma
SUMMARY:„Versailles 100 év távlatából” Léván
DESCRIPTION:A budapesti Széchenyi Társaság és a Szövetség a Közös Célokért „Versailles 100 év távlatából” című következő előadására július 9-én\, pénteken\, 17.00 órai kezdettel a Reviczky Házban kerül sor. \nElőadók:\nGubík László\, a SZAKC elnöke – A trianoni békediktátum hatása Lévára\nKöő Artúr\, történész – A Trianonhoz vezető út – Okok\, amelyekről ritkán beszélünk \nKözreműködik:\nBirner Aladár\, zongorista
URL:https://felvidek.ma/event/versailles-100-ev-tavlatabol-levan/
LOCATION:Reviczky Ház
CATEGORIES:Esemény
ATTACH;FMTTYPE=image/jpeg:https://felvidek.ma/wp-content/uploads/2021/06/Meghivo-Szechenyi-program_20210709_Leva.jpg
END:VEVENT
BEGIN:VEVENT
DTSTART;TZID=Europe/Bratislava:20210703T150000
DTEND;TZID=Europe/Bratislava:20210703T150000
DTSTAMP:20260422T224944
CREATED:20210623T140435Z
LAST-MODIFIED:20210623T140435Z
UID:356409-1625324400-1625324400@felvidek.ma
SUMMARY:„Versailles 100 év távlatából” Nagymegyeren
DESCRIPTION:A budapesti Széchenyi Társaság és a Szövetség a Közös Célokért „Versailles 100 év távlatából” című következő előadására július 3-án\, szombaton 15.00 órai kezdettel a Fészek Ifjúsági Központban kerül sor.
URL:https://felvidek.ma/event/versailles-100-ev-tavlatabol-nagymegyeren/
LOCATION:Fészek Ifjúsági Központ
CATEGORIES:Esemény
ATTACH;FMTTYPE=image/jpeg:https://felvidek.ma/wp-content/uploads/2021/06/Meghivo-Szechenyi-program_20210703_Nagymegyer.jpg
END:VEVENT
END:VCALENDAR