BEGIN:VCALENDAR
VERSION:2.0
PRODID:-//Felvidék.ma - ECPv6.3.4//NONSGML v1.0//EN
CALSCALE:GREGORIAN
METHOD:PUBLISH
X-ORIGINAL-URL:https://felvidek.ma
X-WR-CALDESC:Events for Felvidék.ma
REFRESH-INTERVAL;VALUE=DURATION:PT1H
X-Robots-Tag:noindex
X-PUBLISHED-TTL:PT1H
BEGIN:VTIMEZONE
TZID:Europe/Budapest
BEGIN:DAYLIGHT
TZOFFSETFROM:+0100
TZOFFSETTO:+0200
TZNAME:CEST
DTSTART:20250330T010000
END:DAYLIGHT
BEGIN:STANDARD
TZOFFSETFROM:+0200
TZOFFSETTO:+0100
TZNAME:CET
DTSTART:20251026T010000
END:STANDARD
END:VTIMEZONE
BEGIN:VEVENT
DTSTART;VALUE=DATE:20251119
DTEND;VALUE=DATE:20251201
DTSTAMP:20260423T200558
CREATED:20251119T113737Z
LAST-MODIFIED:20251119T113737Z
UID:598708-1763510400-1764547199@felvidek.ma
SUMMARY:„Szeresd a hazait\, válaszd a hazait!”
DESCRIPTION:tt a karácsony\, ezért szeretnénk lehetőséget biztosítani hirdetéseitek megjelenítésére a Szlovákiai Magyar Vállalkozók Szövetsége közösségi platformjain és weboldalán! \nMint tudjátok\, közeledik a karácsony. Tisztában vagyunk vele\, hogy ebben az időszakban több vállalkozás termékei\, szolgáltatásai is az ünnepre hangolnak\, készülnek. \nÉppen ezért lehetőséget kínálunk azok számára\, akik az általuk kínált termékekkel vagy szolgáltatásokkal kapcsolatos karácsonyi promóciókat el szeretnék juttatni más vállalkozókhoz. lSzámunkra is fontos\, hogy minél többen helyi termelőktől\, helyi kézművesektől vásároljanak\, a helyi szolgáltatók ajánlatait válasszák. \nEzt most megtehetitek a Szlovákiai Magyar Vállalkozók Szövetségén keresztül is. \nEhhez mindössze töltsétek ki az alábbi adatbekérőt 2025. november 30-ig!
URL:https://felvidek.ma/event/szeresd-a-hazait-valaszd-a-hazait/
CATEGORIES:Pályázat
ATTACH;FMTTYPE=image/jpeg:https://felvidek.ma/wp-content/uploads/2025/11/szovetseg_karacsony_2025.jpg
END:VEVENT
END:VCALENDAR