BEGIN:VCALENDAR
VERSION:2.0
PRODID:-//Felvidék.ma - ECPv6.3.4//NONSGML v1.0//EN
CALSCALE:GREGORIAN
METHOD:PUBLISH
X-WR-CALNAME:Felvidék.ma
X-ORIGINAL-URL:https://felvidek.ma
X-WR-CALDESC:Events for Felvidék.ma
REFRESH-INTERVAL;VALUE=DURATION:PT1H
X-Robots-Tag:noindex
X-PUBLISHED-TTL:PT1H
BEGIN:VTIMEZONE
TZID:Europe/Bratislava
BEGIN:DAYLIGHT
TZOFFSETFROM:+0100
TZOFFSETTO:+0200
TZNAME:CEST
DTSTART:20230326T010000
END:DAYLIGHT
BEGIN:STANDARD
TZOFFSETFROM:+0200
TZOFFSETTO:+0100
TZNAME:CET
DTSTART:20231029T010000
END:STANDARD
END:VTIMEZONE
BEGIN:VEVENT
DTSTART;TZID=Europe/Bratislava:20230211T110000
DTEND;TZID=Europe/Bratislava:20230211T110000
DTSTAMP:20260424T165420
CREATED:20230210T121349Z
LAST-MODIFIED:20230210T121349Z
UID:443526-1676113200-1676113200@felvidek.ma
SUMMARY:XX. Házasság világnapja Pécsett - online közvetítés
DESCRIPTION:A Pécsi Székesegyház Nagycsaládos Egyesület immár XX. alkalommal szervezi meg a Házasság világnapját\, idén február 11-én\, Pécsett. \nAz értékadó eseménysorozat szombaton 11 órakor ünnepélyes szentmisével kezdődik a Pécsi Bazilikában\, amelyet Felföldi László megyéspüspök fog celebrálni. \nA szentmise élőben követhető lesz a Pécsi Székesegyház weboldalán az élő közvetítések menüpont alatt: https://pecsiegyhazmegye.hu/szentmise \nMajd a Pécsi Püspökség „Magtár” nevű épületében dr. Csókay András idegsebész főorvos hitvesével közösen személyes tanúságot tesz a Házasság kötelékében. \n\nSzimbolikus is ez a helyszín\, ahol mintegy 280 anyaországi és határon túli résztvevő közreműködésével magként igyekszik elszórni a Kárpát-medencében a házasság értékét és fontosságát.\n\nElfogadta a meghívást a programra dr. Beneda Attila\, családügyekért felelős helyettes államtitkár (Kulturális és Innovációs Minisztérium)\, Péterffy Attila\, Pécs város polgármestere\, Kardosné Gyurkó Katalin\, a NOE elnöke és Márton Zsuzsanna\, a Kárpát-medencei Családszervezetek Szövetségének elnöke. \nA Magtár programja\, szintén élőben követhető lesz a PSZNE Facebook-oldalán: \nhttps://www.facebook.com/pszne \nSimon Tamás\, az egyesület elnöke és a szervezők sok szeretettel hívnak és várnak minden érdeklődőt\, hogy az online térben részesei legyenek a rendezvénynek. \nTovábbi információ: https://pecsinagycsaladosok.hu/
URL:https://felvidek.ma/event/xx-hazassag-vilagnapja-pecsett-online-kozvetites/
CATEGORIES:Esemény
ATTACH;FMTTYPE=image/jpeg:https://felvidek.ma/wp-content/uploads/2023/02/feb11_pecs.jpg
END:VEVENT
END:VCALENDAR