BEGIN:VCALENDAR
VERSION:2.0
PRODID:-//Felvidék.ma - ECPv6.3.4//NONSGML v1.0//EN
CALSCALE:GREGORIAN
METHOD:PUBLISH
X-WR-CALNAME:Felvidék.ma
X-ORIGINAL-URL:https://felvidek.ma
X-WR-CALDESC:Events for Felvidék.ma
REFRESH-INTERVAL;VALUE=DURATION:PT1H
X-Robots-Tag:noindex
X-PUBLISHED-TTL:PT1H
BEGIN:VTIMEZONE
TZID:Europe/Budapest
BEGIN:DAYLIGHT
TZOFFSETFROM:+0100
TZOFFSETTO:+0200
TZNAME:CEST
DTSTART:20250330T010000
END:DAYLIGHT
BEGIN:STANDARD
TZOFFSETFROM:+0200
TZOFFSETTO:+0100
TZNAME:CET
DTSTART:20251026T010000
END:STANDARD
BEGIN:DAYLIGHT
TZOFFSETFROM:+0100
TZOFFSETTO:+0200
TZNAME:CEST
DTSTART:20260329T010000
END:DAYLIGHT
BEGIN:STANDARD
TZOFFSETFROM:+0200
TZOFFSETTO:+0100
TZNAME:CET
DTSTART:20261025T010000
END:STANDARD
END:VTIMEZONE
BEGIN:VEVENT
DTSTART;VALUE=DATE:20251113
DTEND;VALUE=DATE:20260101
DTSTAMP:20260426T000425
CREATED:20251118T100631Z
LAST-MODIFIED:20251118T100631Z
UID:598430-1762992000-1767225599@felvidek.ma
SUMMARY:Esszéíró pályázat magyar nyelv napja\, a magyar szórvány napja\, az anyanyelv hete\, a magyar kultúra napja alkalmából
DESCRIPTION:A Csemadok Országos Elnöksége 2025-ben is meghirdeti ESSZÉÍRÓ PÁLYÁZATÁT az általános iskolák felső tagozata (I. kategória)\, a középiskolások (II. kategória) és a felnőtt nemzedék (III. kategória) számára. \nAz esszék tárgya az anyanyelvhez és szülőföldhöz való ragaszkodás\, a nemzeti identitás kérdésköre\, illetve a kisebbségi sors vállalása. \nA pályázó alkotók az alábbi kötelezően választható témák köré fűzhetik gondolataikat:\n1. „A nép sokféle nyelven beszél\, de egyforma szívvel szeret.” – Jókai Mór\n2. „A könyv csodálatos utazás a múltba és a jövőbe.” – Jókai Mór\n3. „A magyarságot az atyafiság és az együttes érdek alapján a sors verte egybe; hazát a bátorsággal irányított életösztön szerzett neki\, de nemzetté a magyar szó teremtette. Mint jelképes hatalom\, a magyar szó nekünk a legnagyobb ereklye. Kegyelet\, hűség és becsület illeti őt.” – Tamási Áron\n4. „Otthon vagy? Hol vagy „otthon”? Csak a nyelvben\, Minden más fonák\, zavaros\, homályos.” – Márai Sándor\n5. „Ha az ember nem az anyanyelvén beszél\, egy icipicit hazugságra kényszerül mindig. Nem azt mondja\, amit valójában szeretne\, hanem amit zavar nélkül ki tud fejezni. Aki az anyanyelvét felejti el\, az őszinteséget felejti el örökre.” – Jókai Anna\n6. A nyelv maga is erkölcs. – Csoóri Sándor\n7. Mért pattanna el csodálatos anyanyelvünk\, egész életünket bearanyozó\, elviselhetővé tevő\, bizony másokban néha irigységet is ébresztő magyar kultúránk\, ha ennyien törődünk vele\, ennyien vigyázunk rá szerte a Kárpát-hazában. S ha van Valakink\, aki odaföntről és őrködik felette\, őrködik felettünk. – Dudás Károly \nA témákat bármelyik életkorba tartozó alkotó választhatja\, de az értékelésre kategóriánként kerül sor. Az alkotások terjedelme minimum 2- maximum 5 A4-es oldal (12-es betűnagyság\, 1\,5 sorköz). \nA nyertes pályaművek alkotói könyvjutalomban részesülnek\, illetve az esszéket közzétesszük a Csemadok Első Kézből című lapjában\, illetve a Felvidék.ma hírportálon. \nA pályázat eredményhirdetésére a Csemadok Országos Tanácsa központi ünnepségén\, 2026. január 18-án\, a Magyar Kultúra Napja alkalmából szervezett ünnepségen kerül sor\, Galántán\, ahol elhangzik a fődíjas pályamű. \nAz esszéket az alkotó nevének\, a kategóriájának és elérhetőségeinek feltüntetésével kérjük a következő elektronikus címre továbbítsák PDF formátumban: szorvanyprogram@gmail.com Beküldési határidő: 2025. december 31.
URL:https://felvidek.ma/event/esszeiro-palyazat-magyar-nyelv-napja-a-magyar-szorvany-napja-az-anyanyelv-hete-a-magyar-kultura-napja-alkalmabol/
CATEGORIES:Pályázat
ATTACH;FMTTYPE=image/jpeg:https://felvidek.ma/wp-content/uploads/2025/05/csemadok.sk_.jpg
END:VEVENT
BEGIN:VEVENT
DTSTART;TZID=Europe/Budapest:20251113T080000
DTEND;TZID=Europe/Budapest:20260120T170000
DTSTAMP:20260426T000425
CREATED:20251113T122133Z
LAST-MODIFIED:20251113T122133Z
UID:597529-1763020800-1768928400@felvidek.ma
SUMMARY:XX. Olvasni jó! – Országos irodalmi vetélkedő
DESCRIPTION:A Szlovákiai Magyar Pedagógusok Szövetsége\, a Rimaszombati Regionális Pedagógiai Központ és a Tompa Mihály Református Gimnázium 2025-ben is meghirdetik az Olvasni jó! országos irodalmi vetélkedőt. Kiknek szól?Alapiskolák és a nyolcosztályos gimnáziumok 14–15 éves diákjainak. A felkészülés anyaga:Győri Katalin: Nem festek álmokat című regénye A verseny célja:Az olvasás szeretetének erősítése\, irodalmi hagyományaink megőrzése\, a történetek világának kreatív felfedezése. Csapatok:Háromtagú csapatok jelentkezhetnek – iskolánként egy csapat. Fontos dátumok: Jelentkezési határidő: 2026. január 20. Országos döntő: 2026. április 24.\, Rimaszombat\, Csillagház Jelentkezés online\, az alábbi űrlapon: https://forms.gle/Kt2pbpCycJ3KVgxGA Minden olyan diákot szeretettel várunk\, aki szívesen elmerülne egy izgalmas\, irodalmi kalandban! 
URL:https://felvidek.ma/event/xx-olvasni-jo-orszagos-irodalmi-vetelkedo/
CATEGORIES:Pályázat
ATTACH;FMTTYPE=image/jpeg:https://felvidek.ma/wp-content/uploads/2025/11/olvasni-jo.jpg
END:VEVENT
BEGIN:VEVENT
DTSTART;VALUE=DATE:20251127
DTEND;VALUE=DATE:20260201
DTSTAMP:20260426T000425
CREATED:20251127T094515Z
LAST-MODIFIED:20251127T094515Z
UID:600121-1764201600-1769903999@felvidek.ma
SUMMARY:Femine Fortis – Erős Nők 2026
DESCRIPTION:A Femine Fortis – Erős Nők polgári társulás tizenegyedik alkalommal keresi a Felvidék magyar nő Példaképét. A szervezet 2016 óta ítéli oda a Példakép-díjat. 2026-ban is keressük a Példaképeket.  \nÖn is ismer olyan nőt\, lányt\, asszonyt\, aki a példaképünk lehet\, olyan sikeres hölgyet\, aki tettével bizonyított\, nőként alkotott maradandót\, egyedülit\, hiánypótlót? Szeretné\, ha mindenki megismerné a történetét? Sikereit? Az oda vezető utat?Ha Ön is ismer olyan nőt\, lányt\, asszonyt\, aki a példaképünk lehet\, olyan sikeres embert\, aki bebizonyította nőként is lehet nagyot alkotni\, szeretné\, ha mindenki megismerné a történetét\, a sikereit és az oda vezető utat\, akkor jelölje Példaképnek. \nBárkit lehet jelölni\, akit méltó példaképünkké válhat. \nA javaslatokat 2026. január 31-ig várjuk.  \nA kuratórium a jelölések beérkezése után dönt. A kuratórium tagjai: Bauer Edit\, Hervay Rozália\, Kiss Beáta\, Németh Gabriella\, Neszméri Tünde\, Reiter Flóra\, Szomolai Andrea és Zupko Mária.Az elismerést ünnepélyes keretek között Füleken adjuk át márciusban. \nVárjuk a jelöléseket a feminefortis@gmail.com címre. Kérjük\, adják meg a jelölt elérhetőségeit (telefon\, e-mail)\, és küldjenek egy életrajzot\, illetve egy legalább fél oldalas ajánlást (méltatást)\, amelyben kifejtik\, miért javasolják az adott személyt a kitüntetésre. \nLehet az egy édesanya\, egy vállalkozó\, közéleti ember\, regionális politikus\, művész\, író\, pedagógus\, kultúraszervező. A lényeg\, hogy értékeket jelenítsen meg\, hogy a környezete és a felvidéki magyarság felnézhessen rá\, hogy valódi példaként szolgálhasson nemzetünk számára. Kérjük szlovákiai magyar nőket jelöljenek\, díjunkat azért alapítottuk\, hogy megmutassuk\, mennyi értékes ember\, mennyi alkotó\, önfeláldozó\, értékeket őrző és gyarapító ember él közöttünk. \nKérjük a jelölőket\, hogy saját elérhetőségüket is adják meg. \nAz eddig díjazottak \nAz első évben Cséfalvay Ágnes és Bodnár Éva\, egy évvel később Tóth Erika és Szobi Kerekes Eszter munkásságát ismertük el\, 2018-ban Szvorák Zsuzsanna és Rácz Jolán\, 2019-ben Szabóné Kozár Éva\, Molnár Zsuzsa posztumusz és Bauer Edit kapták meg az elismerést\, a 2020-as évben pedig Klemen Teréziát díjaztuk\, valamint Tóth Klára posztumusz kapta meg az elismerést. 2021-ben Szögedi Anna\, Tornalja polgármestere\, 2022-ben a jubileumát ünneplő Strédl Terézia kapott elismerést\, 2023-ban Dr. Dolán Rózsa és Szelzák Erika kapták a díjat. 2024-ben Szarka Zsuzsa lett a Példakép-díjas\, külndíjat kapott Molnár Beáta\, míg Hahn Éva Példakép-Életmű-díjat kapott. A tizedik díjátadón több hölgyet is díjaztunk\, Tanko Gabriella\, Szanyi Mária\, Gál Veronika és Nagy Anita kaptak elimserést.
URL:https://felvidek.ma/event/femine-fortis-eros-nok-2026/
CATEGORIES:Pályázat
ATTACH;FMTTYPE=image/jpeg:https://felvidek.ma/wp-content/uploads/2025/11/femine-fortis.jpg
END:VEVENT
BEGIN:VEVENT
DTSTART;TZID=Europe/Budapest:20251213T100000
DTEND;TZID=Europe/Budapest:20251213T100000
DTSTAMP:20260426T000425
CREATED:20251210T135930Z
LAST-MODIFIED:20251219T140137Z
UID:603870-1765620000-1765620000@felvidek.ma
SUMMARY:Karácsonyváró forgatag Serkében
DESCRIPTION:Sok szeretettel várnak minden kedves érdeklődőt\, kicsit és nagyot egyaránt\, a december 13-án megrendezésre kerülő karácsonyváró foglalkozásokra és vásárra!
URL:https://felvidek.ma/event/karacsonyvaro-forgatag-serkeben/
CATEGORIES:Esemény
ATTACH;FMTTYPE=image/jpeg:https://felvidek.ma/wp-content/uploads/2025/12/dec13.jpg
END:VEVENT
BEGIN:VEVENT
DTSTART;TZID=Europe/Budapest:20251213T100000
DTEND;TZID=Europe/Budapest:20251213T100000
DTSTAMP:20260426T000425
CREATED:20251211T122252Z
LAST-MODIFIED:20251211T122252Z
UID:602443-1765620000-1765620000@felvidek.ma
SUMMARY:Advent a múzeumban
DESCRIPTION:December 13-án\, szombaton 10.00 órai kezdettel szervezik meg az Advent a múzeumban című rendezvényt a dél-komáromi Brigetio Öröksége Látogatóközpontban. \nTovábbi részletek a plakáton olvashatóak.
URL:https://felvidek.ma/event/advent-a-muzeumban/
LOCATION:Brigetio Örökség Látogatóközpont\, Komárom\, Magyarország
CATEGORIES:Esemény
ATTACH;FMTTYPE=image/jpeg:https://felvidek.ma/wp-content/uploads/2025/12/KGYM_Advent-a-Muzeumban_2025_12_13_.jpg
END:VEVENT
BEGIN:VEVENT
DTSTART;TZID=Europe/Budapest:20251213T130000
DTEND;TZID=Europe/Budapest:20251213T130000
DTSTAMP:20260426T000425
CREATED:20251205T160027Z
LAST-MODIFIED:20251205T160027Z
UID:601610-1765630800-1765630800@felvidek.ma
SUMMARY:Karácsony a múzeumban
DESCRIPTION:December 13-án\, szombaton 13.00 órai kezdettel szervezik meg a Karácsony a múzeumban című rendezvényt a Galántai Honismereti Múzeumban.
URL:https://felvidek.ma/event/karacsony-a-muzeumban-2/
LOCATION: Galántai Honismereti Múzeum
CATEGORIES:Esemény
ATTACH;FMTTYPE=image/png:https://felvidek.ma/wp-content/uploads/2025/12/web-banner-2025-vianoce.png
END:VEVENT
BEGIN:VEVENT
DTSTART;TZID=Europe/Budapest:20251213T150000
DTEND;TZID=Europe/Budapest:20251213T150000
DTSTAMP:20260426T000425
CREATED:20251125T104516Z
LAST-MODIFIED:20251125T104516Z
UID:599752-1765638000-1765638000@felvidek.ma
SUMMARY:Jótékonysági hangverseny
DESCRIPTION:December 13-án\, szombaton 15.00 órai kezdettel szervezik meg a párkányi Stilla Pectus kórus jótékonysági hangversenyét a ráti Szent Mihály Gyermekotthon javára a pozsonyi ferences templomban.
URL:https://felvidek.ma/event/jotekonysagi-hangverseny-2/
LOCATION:Ferences templom
CATEGORIES:Esemény
ATTACH;FMTTYPE=image/jpeg:https://felvidek.ma/wp-content/uploads/2025/11/589881497_1255886136579576_5639349892234568405_n.jpg
END:VEVENT
BEGIN:VEVENT
DTSTART;TZID=Europe/Budapest:20251213T150000
DTEND;TZID=Europe/Budapest:20251213T150000
DTSTAMP:20260426T000425
CREATED:20251205T183829Z
LAST-MODIFIED:20251205T183829Z
UID:601657-1765638000-1765638000@felvidek.ma
SUMMARY:Kiállítás: Embergyöngy
DESCRIPTION:December 13-án\, szombaton 15.00 órai kezdettel szervezik meg Méry Beáta Embergyöngy című kiállításának megnyitóját a somorjai (Sámot) Antióchiai Szent Margit templomban.  
URL:https://felvidek.ma/event/kiallitas-embergyongy/
LOCATION:Antióchiai Szent Margit templom\, Sámot\, Szlovákia
CATEGORIES:Esemény
ATTACH;FMTTYPE=image/jpeg:https://felvidek.ma/wp-content/uploads/2025/12/593872713_2398960923853810_112123450964868421_n.jpg
END:VEVENT
BEGIN:VEVENT
DTSTART;TZID=Europe/Budapest:20251213T160000
DTEND;TZID=Europe/Budapest:20251213T160000
DTSTAMP:20260426T000425
CREATED:20251127T123613Z
LAST-MODIFIED:20251127T123613Z
UID:600162-1765641600-1765641600@felvidek.ma
SUMMARY:Adventi hangverseny
DESCRIPTION:December 13-án\, szombaton 16.00 órai kezdettel szervezik meg az adventi hangverseny az ipolysági római katolikus templomban.
URL:https://felvidek.ma/event/adventi-hangverseny-4/
LOCATION:Római katolikus templom\, Makranc\, Szlovákia
CATEGORIES:Esemény
ATTACH;FMTTYPE=image/jpeg:https://felvidek.ma/wp-content/uploads/2025/11/cf1274cc-a783-4784-90c6-d508336c4ca6.jpg
END:VEVENT
BEGIN:VEVENT
DTSTART;TZID=Europe/Budapest:20251213T160000
DTEND;TZID=Europe/Budapest:20251213T160000
DTSTAMP:20260426T000425
CREATED:20251127T154518Z
LAST-MODIFIED:20251127T154518Z
UID:600226-1765641600-1765641600@felvidek.ma
SUMMARY:Karácsonyváró Nagyölveden
DESCRIPTION:December 13-án\, szombaton 16.00 órai kezdettel szervezik meg a karácsonyváró programot a nagyölvedi kultúrházban.
URL:https://felvidek.ma/event/karacsonyvaro-nagyolveden/
LOCATION:Kultúrház\, Nagyfödémes\, Szlovákia
CATEGORIES:Esemény
ATTACH;FMTTYPE=image/jpeg:https://felvidek.ma/wp-content/uploads/2025/11/588886304_26347524341502981_2127756893888205150_n.jpg
END:VEVENT
BEGIN:VEVENT
DTSTART;TZID=Europe/Budapest:20251213T163000
DTEND;TZID=Europe/Budapest:20251213T163000
DTSTAMP:20260426T000425
CREATED:20251202T095356Z
LAST-MODIFIED:20251202T095356Z
UID:600934-1765643400-1765643400@felvidek.ma
SUMMARY:Advent Komáromban – szombati program
DESCRIPTION:November 28-a és december 23-a között szervezik meg a karácsonyváró eseményeket Advent Komáromban címmel a komáromi Klapka téren. \nA december 13-ei\, szombati program a plakáton olvasható.
URL:https://felvidek.ma/event/advent-komaromban-szombati-program-2/
LOCATION:Klapka tér
CATEGORIES:Esemény
ATTACH;FMTTYPE=image/jpeg:https://felvidek.ma/wp-content/uploads/2025/12/03-2.jpg
END:VEVENT
BEGIN:VEVENT
DTSTART;TZID=Europe/Budapest:20251213T180000
DTEND;TZID=Europe/Budapest:20251213T180000
DTSTAMP:20260426T000425
CREATED:20251118T094359Z
LAST-MODIFIED:20251118T094359Z
UID:598420-1765648800-1765648800@felvidek.ma
SUMMARY:Színház: Portugál
DESCRIPTION:December 13-án\, szombaton 18.00 órai kezdettel mutatják be a Portugál című darabot a Kassai Thália Színház előadásában Szesztán.   \nRendezte  Dudás Péter.
URL:https://felvidek.ma/event/szinhaz-portugal-40/
CATEGORIES:Esemény
ATTACH;FMTTYPE=image/png:https://felvidek.ma/wp-content/uploads/2025/05/logo-uj.png
END:VEVENT
BEGIN:VEVENT
DTSTART;TZID=Europe/Budapest:20251213T200000
DTEND;TZID=Europe/Budapest:20251213T200000
DTSTAMP:20260426T000425
CREATED:20251127T140318Z
LAST-MODIFIED:20251127T140318Z
UID:600200-1765656000-1765656000@felvidek.ma
SUMMARY:Akusztikus rock karácsony
DESCRIPTION:December 13-án\, szombaton 20.00 órai kezdettel szervezik meg az akusztikus rock karácsonyt a füleki Pumukli vendéglőben.  \nTovábbi részletek ITT olvashatóak. 
URL:https://felvidek.ma/event/akusztikus-rock-karacsony/
LOCATION:Pumukli vendéglő\, Fülek\, Szlovákia
CATEGORIES:Esemény
ATTACH;FMTTYPE=image/jpeg:https://felvidek.ma/wp-content/uploads/2025/11/579663668_763192316772991_4280739753485194458_n.jpg
END:VEVENT
BEGIN:VEVENT
DTSTART;TZID=Europe/Budapest:20251214T083000
DTEND;TZID=Europe/Budapest:20251214T083000
DTSTAMP:20260426T000425
CREATED:20251124T120406Z
LAST-MODIFIED:20251124T120406Z
UID:599570-1765701000-1765701000@felvidek.ma
SUMMARY:Karácsonyi adománygyűjtés
DESCRIPTION:December 14-én\, vasárnap 8.30 kezdetű magyar nyelvű szentmise keretében karácsony gyűjtést szerveznek a lévai és a környékbeli rászoruló családok részére a lévai Szent Mihály arkangyal plébániatemplomban.  
URL:https://felvidek.ma/event/karacsonyi-adomanygyujtes-3/
LOCATION:Szent Mihály arkangyal plébániatemplom\, Léva\, Szlovákia
CATEGORIES:Esemény
ATTACH;FMTTYPE=image/png:https://felvidek.ma/wp-content/uploads/2025/11/25_adomany-karacsony.png
END:VEVENT
BEGIN:VEVENT
DTSTART;TZID=Europe/Budapest:20251214T113000
DTEND;TZID=Europe/Budapest:20251214T113000
DTSTAMP:20260426T000425
CREATED:20251210T135818Z
LAST-MODIFIED:20251210T135818Z
UID:602315-1765711800-1765711800@felvidek.ma
SUMMARY:A Jókai-kapu ünnepélyes felavatása
DESCRIPTION:December 14-én\, vasárnap 11.30 kezdettel szervezik meg a Jókai-kapu ünnepélyes felavatását Jókai egykori komáromi Jókai lakóház udvarán.
URL:https://felvidek.ma/event/a-jokai-kapu-unnepelyes-felavatasa/
LOCATION:Jókai lakóház udvara\, Komárom\, Szlovákia
CATEGORIES:Esemény
ATTACH;FMTTYPE=image/jpeg:https://felvidek.ma/wp-content/uploads/2025/12/Dec-Jokai200_meghivo-6.jpg
END:VEVENT
BEGIN:VEVENT
DTSTART;TZID=Europe/Budapest:20251214T150000
DTEND;TZID=Europe/Budapest:20251214T150000
DTSTAMP:20260426T000425
CREATED:20251208T155353Z
LAST-MODIFIED:20251208T155353Z
UID:602027-1765724400-1765724400@felvidek.ma
SUMMARY:Karácsonyváró délután
DESCRIPTION:December 14-én\, vasárnap 15.00 órai kezdettel szervezik meg a karácsonyváró délutánt az ipolysági református egyházközség parókiájában.
URL:https://felvidek.ma/event/karacsonyvaro-delutan-3/
LOCATION:Református parókia\, Ipolyság\, Szlovákia
CATEGORIES:Esemény
ATTACH;FMTTYPE=image/jpeg:https://felvidek.ma/wp-content/uploads/2025/12/594964766_1162480772745191_2482172249095633754_n.jpg
END:VEVENT
BEGIN:VEVENT
DTSTART;TZID=Europe/Budapest:20251214T150000
DTEND;TZID=Europe/Budapest:20251214T150000
DTSTAMP:20260426T000425
CREATED:20251209T101118Z
LAST-MODIFIED:20251209T101118Z
UID:602097-1765724400-1765724400@felvidek.ma
SUMMARY:Szép napunk támad
DESCRIPTION:December 14-én\, vasárnap 15.00 órai kezdettel szervezik meg a Szép napunk támad című ünnepi karácsonyi hangversenyt a Galántai Városi Művelődési Központ színháztermében.
URL:https://felvidek.ma/event/szep-napunk-tamad/
LOCATION:Városi Művelődési Központ\, Fülek\, Szlovákia
CATEGORIES:Esemény
ATTACH;FMTTYPE=image/jpeg:https://felvidek.ma/wp-content/uploads/2025/12/Karacsonyi-koncert2025.jpg
END:VEVENT
BEGIN:VEVENT
DTSTART;TZID=Europe/Budapest:20251214T150000
DTEND;TZID=Europe/Budapest:20251214T150000
DTSTAMP:20260426T000425
CREATED:20251210T093428Z
LAST-MODIFIED:20251210T093428Z
UID:602260-1765724400-1765724400@felvidek.ma
SUMMARY:Keresztút a családok egységéért
DESCRIPTION:December 14-én\, vasárnap 15.00 órai kezdettel szervezik meg a keresztutat a családok egységéért az ipolysági római katolikus templomban.
URL:https://felvidek.ma/event/keresztut-a-csaladok-egysegeert/
LOCATION:Római katolikus templom\, Makranc\, Szlovákia
CATEGORIES:Esemény
ATTACH;FMTTYPE=image/jpeg:https://felvidek.ma/wp-content/uploads/2025/12/Meghivo_26-01.jpg
END:VEVENT
BEGIN:VEVENT
DTSTART;TZID=Europe/Budapest:20251214T160000
DTEND;TZID=Europe/Budapest:20251214T160000
DTSTAMP:20260426T000425
CREATED:20251127T095209Z
LAST-MODIFIED:20251127T095209Z
UID:600126-1765728000-1765728000@felvidek.ma
SUMMARY:Karácsonyi ízek a tesmagi tájház udvarán
DESCRIPTION:December 14-én\, vasárnap 16.00 órai kezdettel szervezik meg a Karácsonyi ízek a tesmagi tájház udvarán című közösségépítő alkalmat a község tájházában.
URL:https://felvidek.ma/event/karacsonyi-izek-a-tesmagi-tajhaz-udvaran/
LOCATION:Tájház\, Gúta\, Szlovákia
CATEGORIES:Esemény
ATTACH;FMTTYPE=image/jpeg:https://felvidek.ma/wp-content/uploads/2025/11/590703063_25304285672524509_7355628591715884247_n.jpg
END:VEVENT
BEGIN:VEVENT
DTSTART;TZID=Europe/Budapest:20251214T163000
DTEND;TZID=Europe/Budapest:20251214T163000
DTSTAMP:20260426T000425
CREATED:20251202T095541Z
LAST-MODIFIED:20251202T095541Z
UID:600936-1765729800-1765729800@felvidek.ma
SUMMARY:Advent Komáromban – vasárnapi program
DESCRIPTION:November 28-a és december 23-a között szervezik meg a karácsonyváró eseményeket Advent Komáromban címmel a komáromi Klapka téren. \nA december 14-ei\, vasárnapi program a plakáton olvasható.
URL:https://felvidek.ma/event/advent-komaromban-vasarnapi-program-2/
LOCATION:Kapka tér
CATEGORIES:Esemény
ATTACH;FMTTYPE=image/jpeg:https://felvidek.ma/wp-content/uploads/2025/12/03-2.jpg
END:VEVENT
BEGIN:VEVENT
DTSTART;TZID=Europe/Budapest:20251214T180000
DTEND;TZID=Europe/Budapest:20251214T180000
DTSTAMP:20260426T000425
CREATED:20251202T084608Z
LAST-MODIFIED:20251202T084608Z
UID:600883-1765735200-1765735200@felvidek.ma
SUMMARY:Kárpát-medencei Komolyzenei Fesztivál záróhangversenye
DESCRIPTION:December 14-én\, vasárnap 18.00 órai kezdettel szervezik meg a Kárpát-medencei Komolyzenei Fesztivál záróhangversenyét a pozsonyi Prímás palota tükörtermében.
URL:https://felvidek.ma/event/karpat-medencei-komolyzenei-fesztival-zarohangversenye/
LOCATION:Prímás Palota
CATEGORIES:Esemény
ATTACH;FMTTYPE=image/jpeg:https://felvidek.ma/wp-content/uploads/2025/12/588850839_1162260022728387_7662730838025942166_n.jpg
END:VEVENT
BEGIN:VEVENT
DTSTART;TZID=Europe/Budapest:20251214T183000
DTEND;TZID=Europe/Budapest:20251214T183000
DTSTAMP:20260426T000425
CREATED:20251209T095503Z
LAST-MODIFIED:20251209T095503Z
UID:602091-1765737000-1765737000@felvidek.ma
SUMMARY:Beliczay Kamarazenekar koncertje
DESCRIPTION:December 14-én\, vasárnap 18.30 kezdettel szervezik meg a Beliczay Kamarazenekar koncertjét a dunaszerdahelyi Csallóközi Múzeumban.  
URL:https://felvidek.ma/event/beliczay-kamarazenekar-koncertje-3/
LOCATION:Csallóközi Múzeum
CATEGORIES:Esemény
ATTACH;FMTTYPE=image/jpeg:https://felvidek.ma/wp-content/uploads/2025/12/596621833_1262929852538894_6836978334073344097_n-1.jpg
END:VEVENT
BEGIN:VEVENT
DTSTART;VALUE=DATE:20251215
DTEND;VALUE=DATE:20260201
DTSTAMP:20260426T000425
CREATED:20251213T151603Z
LAST-MODIFIED:20251213T151603Z
UID:602869-1765756800-1769903999@felvidek.ma
SUMMARY:Felhívás - Dunaszerdahely Város Díjai 2026
DESCRIPTION:Dunaszerdahely Város Önkormányzata nevében felhívással fordulnak a lakosokhoz javaslattételre a városi díjak odaítélésére. \nA városvezetés az alábbi kategóriában várják a javaslatokat. \n\nDunaszerdahely Város Díszpolgári cím\nDunaszerdahely Város Pro Urbe Díj\nDunaszerdahely Város PRO URBE JUVENIS Díj\nDunaszerdahely Város Vállalkozója\nDunaszerdahely Város Polgármesterének Díja \nDunaszerdahely Város Polgármesterének Emléklapja\n\nA javaslatok benyújtásának határideje: 2025. december 15. – 2026. január 31. \nA javaslattételre vonatkozó nyomtatványt kitöltve és aláírva juttassák el a következő címre: Városi Hivatal Közoktatási\, szociális\, sport és kulturális főosztálya Fő utca 50/16\, 929 01 Dunaszerdahely\, vagy adják le személyesen a Dunaszerdahelyi Városi Hivatal iktatójában. \nA lezárt borítékon kérjük feltüntetni: \n„Dunaszerdahely Város Díjai – 2026 – javaslat“. \nA nyomtatvány ITT érhető el.  További részletek ITT olvashatóak. 
URL:https://felvidek.ma/event/felhivas-dunaszerdahely-varos-dijai-2026/
CATEGORIES:Pályázat
ATTACH;FMTTYPE=image/jpeg:https://felvidek.ma/wp-content/uploads/2025/12/2025-01-17-dunaszerdahely-img_8387-4001_0.jpg
END:VEVENT
BEGIN:VEVENT
DTSTART;TZID=Europe/Budapest:20251215T150000
DTEND;TZID=Europe/Budapest:20251215T150000
DTSTAMP:20260426T000425
CREATED:20251128T085216Z
LAST-MODIFIED:20251128T085216Z
UID:600311-1765810800-1765810800@felvidek.ma
SUMMARY:Pirográfia\, a fába égetett képek művészete
DESCRIPTION:December 15-én\, hétfőn 15.00 órai kezdettel szervezik meg a Pirográfia\, a fába égetett képek művészete című karácsonyi workschopot a nyugdíjasok részére a komáromi Szinnyei József Könyvtárban.
URL:https://felvidek.ma/event/pirografia-a-faba-egetett-kepek-muveszete/
LOCATION:Szinnyei József  Könyvtár
CATEGORIES:Esemény
ATTACH;FMTTYPE=image/jpeg:https://felvidek.ma/wp-content/uploads/2025/11/december_hu.jpg
END:VEVENT
BEGIN:VEVENT
DTSTART;TZID=Europe/Budapest:20251215T163000
DTEND;TZID=Europe/Budapest:20251215T163000
DTSTAMP:20260426T000425
CREATED:20251202T095720Z
LAST-MODIFIED:20251202T095720Z
UID:600939-1765816200-1765816200@felvidek.ma
SUMMARY:Advent Komáromban – hétfői program
DESCRIPTION:November 28-a és december 23-a között szervezik meg a karácsonyváró eseményeket Advent Komáromban címmel a komáromi Klapka téren. \nA december 15-ei\, hétfői program a plakáton olvasható.
URL:https://felvidek.ma/event/advent-komaromban-hetfoi-program-2/
LOCATION:Klapka tér
CATEGORIES:Esemény
ATTACH;FMTTYPE=image/jpeg:https://felvidek.ma/wp-content/uploads/2025/12/03-2.jpg
END:VEVENT
BEGIN:VEVENT
DTSTART;VALUE=DATE:20251216
DTEND;VALUE=DATE:20251220
DTSTAMP:20260426T000425
CREATED:20250708T083746Z
LAST-MODIFIED:20250708T083746Z
UID:577039-1765843200-1766188799@felvidek.ma
SUMMARY:Karácsonyi hagyományok
DESCRIPTION:Az érsekújvári Thain János Múzeum december 16-a és 19-e között  szervezi meg a Karácsonyi hagyományok című alkotóműhelyét az iskolások részére.
URL:https://felvidek.ma/event/karacsonyi-hagyomanyok-2/
LOCATION:Thain János Múzeum\, Érsekújvár\, Szlovákia
CATEGORIES:Esemény
ATTACH;FMTTYPE=image/jpeg:https://felvidek.ma/wp-content/uploads/2025/07/Historia-vzdelava-historia-zabava.jpg
END:VEVENT
BEGIN:VEVENT
DTSTART;TZID=Europe/Budapest:20251216T090000
DTEND;TZID=Europe/Budapest:20251216T090000
DTSTAMP:20260426T000425
CREATED:20251118T092001Z
LAST-MODIFIED:20251118T092001Z
UID:598406-1765875600-1765875600@felvidek.ma
SUMMARY:Színház: Jóka ördöge
DESCRIPTION:December 16-án\, kedden 09.00 órai kezdettel mutatják be a Jóka ördöge című darabot a Csavar Színház előadásában a Kassai Thália Színházban. Ugyanaznap 11.00 órai kezdettel újra előadják a darabot.
URL:https://felvidek.ma/event/szinhaz-joka-ordoge-5/
LOCATION:Kassai Thália Színház
CATEGORIES:Esemény
ATTACH;FMTTYPE=image/png:https://felvidek.ma/wp-content/uploads/2025/05/logo-uj.png
END:VEVENT
BEGIN:VEVENT
DTSTART;TZID=Europe/Budapest:20251216T100000
DTEND;TZID=Europe/Budapest:20251216T100000
DTSTAMP:20260426T000425
CREATED:20251211T130327Z
LAST-MODIFIED:20251211T130327Z
UID:602460-1765879200-1765879200@felvidek.ma
SUMMARY:Kiállítás: IX. Művészeti Alkotóműhely
DESCRIPTION:December 16-án\, kedden 10.00 órai kezdettel szervezik meg a IX. Művészeti Alkotóműhely csoportos kiállítás megnyitóját a dunaszerdahelyi MAX Bevásárló és Szórakoztató Központban.
URL:https://felvidek.ma/event/kiallitas-ix-muveszeti-alkotomuhely/
LOCATION:MAX Bevásárló és Szórakoztató Központ\, Dunaszerdahely\, Szlovákia
CATEGORIES:Esemény
ATTACH;FMTTYPE=image/png:https://felvidek.ma/wp-content/uploads/2025/12/banner_ocmax.png
END:VEVENT
BEGIN:VEVENT
DTSTART;TZID=Europe/Budapest:20251216T160000
DTEND;TZID=Europe/Budapest:20251216T160000
DTSTAMP:20260426T000425
CREATED:20251202T095847Z
LAST-MODIFIED:20251202T095847Z
UID:600942-1765900800-1765900800@felvidek.ma
SUMMARY:Advent Komáromban – keddi program
DESCRIPTION:November 28-a és december 23-a között szervezik meg a karácsonyváró eseményeket Advent Komáromban címmel a komáromi Klapka téren. \nA december 16-ei\, keddi program a plakáton olvasható.
URL:https://felvidek.ma/event/advent-komaromban-keddi-program-3/
LOCATION:Klapka tér
CATEGORIES:Esemény
ATTACH;FMTTYPE=image/jpeg:https://felvidek.ma/wp-content/uploads/2025/12/03-2.jpg
END:VEVENT
BEGIN:VEVENT
DTSTART;TZID=Europe/Budapest:20251216T160000
DTEND;TZID=Europe/Budapest:20251216T160000
DTSTAMP:20260426T000425
CREATED:20251209T093541Z
LAST-MODIFIED:20251209T093541Z
UID:602084-1765900800-1765900800@felvidek.ma
SUMMARY:Csáky Károly könyveinek bemutatója
DESCRIPTION:December 16-án\, kedden 16.00 órai kezdettel szervezik meg Csáky Károly két idén megjelent kötetének bemutatóját a felsőtúri községháza épületében.
URL:https://felvidek.ma/event/csaky-karoly-konyveinek-bemutatoja/
LOCATION:Községháza\, Tornagörgő\, Szlovákia
CATEGORIES:Esemény
ATTACH;FMTTYPE=image/jpeg:https://felvidek.ma/wp-content/uploads/2025/12/Meghivo-konvyvbemutato_Csaky_2025-page-001.jpg
END:VEVENT
END:VCALENDAR