BEGIN:VCALENDAR
VERSION:2.0
PRODID:-//Felvidék.ma - ECPv6.3.4//NONSGML v1.0//EN
CALSCALE:GREGORIAN
METHOD:PUBLISH
X-ORIGINAL-URL:https://felvidek.ma
X-WR-CALDESC:Events for Felvidék.ma
REFRESH-INTERVAL;VALUE=DURATION:PT1H
X-Robots-Tag:noindex
X-PUBLISHED-TTL:PT1H
BEGIN:VTIMEZONE
TZID:Europe/Budapest
BEGIN:DAYLIGHT
TZOFFSETFROM:+0100
TZOFFSETTO:+0200
TZNAME:CEST
DTSTART:20260329T010000
END:DAYLIGHT
BEGIN:STANDARD
TZOFFSETFROM:+0200
TZOFFSETTO:+0100
TZNAME:CET
DTSTART:20261025T010000
END:STANDARD
BEGIN:DAYLIGHT
TZOFFSETFROM:+0100
TZOFFSETTO:+0200
TZNAME:CEST
DTSTART:20270328T010000
END:DAYLIGHT
BEGIN:STANDARD
TZOFFSETFROM:+0200
TZOFFSETTO:+0100
TZNAME:CET
DTSTART:20271031T010000
END:STANDARD
END:VTIMEZONE
BEGIN:VEVENT
DTSTART;VALUE=DATE:20260606
DTEND;VALUE=DATE:20260608
DTSTAMP:20260421T035034
CREATED:20260306T183158Z
LAST-MODIFIED:20260409T064345Z
UID:614292-1780704000-1780876799@felvidek.ma
SUMMARY:Kerékpáros túra-zarándoklat Ausztriában
DESCRIPTION:Június 6-án és 7-én szervezik meg a kerékpáros túra-zarándoklatot Ausztriában. \nTovábbi részletek ITT olvashatóak.
URL:https://felvidek.ma/event/kerekparos-tura-zarandoklat-ausztriaban/
CATEGORIES:Esemény
ATTACH;FMTTYPE=image/jpeg:https://felvidek.ma/wp-content/uploads/2026/03/httpsimgoastaticcomimg74905864-weinviertel.at_.jpg
END:VEVENT
BEGIN:VEVENT
DTSTART;TZID=Europe/Budapest:20260620T160000
DTEND;TZID=Europe/Budapest:20260620T160000
DTSTAMP:20260421T035034
CREATED:20250828T143445Z
LAST-MODIFIED:20250828T143445Z
UID:584374-1781971200-1781971200@felvidek.ma
SUMMARY:Magyar nyelvű szentmise a Lux Televízióban
DESCRIPTION:Június 20-án\, szombaton 16.00 órai kezdettel magyar nyelvű szentmisét közvetít a Lux televízió.  
URL:https://felvidek.ma/event/magyar-nyelvu-szentmise-a-lux-televizioban-20/
CATEGORIES:Esemény
ATTACH;FMTTYPE=image/jpeg:https://felvidek.ma/wp-content/uploads/2025/08/Magyar-szentmisek-1.jpg
END:VEVENT
BEGIN:VEVENT
DTSTART;TZID=Europe/Budapest:20260821T080000
DTEND;TZID=Europe/Budapest:20260825T170000
DTSTAMP:20260421T035034
CREATED:20260409T064850Z
LAST-MODIFIED:20260409T064850Z
UID:619457-1787299200-1787677200@felvidek.ma
SUMMARY:Autóbuszos zarándoklat Czestochowa – Wadowice – Krakkó
DESCRIPTION:Augusztus 21-e és 25-e között szervezik meg az autóbuszos zarándoklatot Czestochowa – Wadowice – Krakkó útvonalon. \nTovábbi részletek ITT találhatóak.
URL:https://felvidek.ma/event/autobuszos-zarandoklat-czestochowa-wadowice-krakko/
CATEGORIES:Esemény
ATTACH;FMTTYPE=image/jpeg:https://felvidek.ma/wp-content/uploads/2026/04/Czestochowa-Black-Madonna-tour-from-Krakow-5.jpg
END:VEVENT
BEGIN:VEVENT
DTSTART;TZID=Europe/Budapest:20261009T080000
DTEND;TZID=Europe/Budapest:20270723T170000
DTSTAMP:20260421T035034
CREATED:20260104T075218Z
LAST-MODIFIED:20260104T075218Z
UID:605378-1791532800-1816362000@felvidek.ma
SUMMARY:Zarándoklat Mária-kegyhelyekre
DESCRIPTION:A Via Mariae Polgári Társulás október 9-e és 18-a között szervezi meg a zarándoklatát a Mária kegyhelyekre. A 10-napos autóbuszos zarándoklat állomásai: Máriagyűd /Magyarország/\, Medjugorje /Bosznia-Hercegovina/\, Marija Bistrica /Horvátország/\, Mariazell /Ausztria/\, Prága /Csehország/. \nTovábbi részletek ITT olvashatóak.
URL:https://felvidek.ma/event/zarandoklat-maria-kegyhelyekre/
CATEGORIES:Esemény
ATTACH;FMTTYPE=image/jpeg:https://felvidek.ma/wp-content/uploads/2026/01/598340468_4053667288257670_8208882542674975632_n.jpg
END:VEVENT
END:VCALENDAR