BEGIN:VCALENDAR
VERSION:2.0
PRODID:-//Felvidék.ma - ECPv6.3.4//NONSGML v1.0//EN
CALSCALE:GREGORIAN
METHOD:PUBLISH
X-WR-CALNAME:Felvidék.ma
X-ORIGINAL-URL:https://felvidek.ma
X-WR-CALDESC:Events for Felvidék.ma
REFRESH-INTERVAL;VALUE=DURATION:PT1H
X-Robots-Tag:noindex
X-PUBLISHED-TTL:PT1H
BEGIN:VTIMEZONE
TZID:Europe/Budapest
BEGIN:DAYLIGHT
TZOFFSETFROM:+0100
TZOFFSETTO:+0200
TZNAME:CEST
DTSTART:20260329T010000
END:DAYLIGHT
BEGIN:STANDARD
TZOFFSETFROM:+0200
TZOFFSETTO:+0100
TZNAME:CET
DTSTART:20261025T010000
END:STANDARD
END:VTIMEZONE
BEGIN:VEVENT
DTSTART;VALUE=DATE:20260422
DTEND;VALUE=DATE:20260423
DTSTAMP:20260425T024522
CREATED:20260421T121832Z
LAST-MODIFIED:20260421T122357Z
UID:621282-1776816000-1776902399@felvidek.ma
SUMMARY:Szent György-napok Dunaszerdahelyen- szerdai program
DESCRIPTION:Április 22–26. között rendezik meg Dunaszerdahelyen a Szent György-napokat\, ami gazdag programkínálattal várja a helyieket és a látogatókat. \nA város alapításának\, védőszentjének és jeles személyiségeinek ünnepnapjai idén is a hagyományok\, a közösségi élmények és a kulturális sokszínűség jegyében telnek. \nSzerdai program: \n17 óra Szent György-esttel\nHelyszín: Csallóközi Múzeum \n18:30 óra Az én városom\, Dunaszerdahely 2. című film vetítésével\nHelyszín: Csaplár Benedek Városi Művelődési Központ
URL:https://felvidek.ma/event/szent-gyorgy-napok-dunaszerdahelyen-szerdai-program/
LOCATION:Dunaszerdahely
CATEGORIES:Esemény
ATTACH;FMTTYPE=image/jpeg:https://felvidek.ma/wp-content/uploads/2026/04/sztgyorgy1.jpg
END:VEVENT
END:VCALENDAR